BEGIN:VCALENDAR
VERSION:2.0
PRODID:-//Landon Winery - ECPv6.15.18//NONSGML v1.0//EN
CALSCALE:GREGORIAN
METHOD:PUBLISH
X-WR-CALNAME:Landon Winery
X-ORIGINAL-URL:https://www.landonwinery.com
X-WR-CALDESC:Events for Landon Winery
REFRESH-INTERVAL;VALUE=DURATION:PT1H
X-Robots-Tag:noindex
X-PUBLISHED-TTL:PT1H
BEGIN:VTIMEZONE
TZID:America/Chicago
BEGIN:DAYLIGHT
TZOFFSETFROM:-0600
TZOFFSETTO:-0500
TZNAME:CDT
DTSTART:20250309T080000
END:DAYLIGHT
BEGIN:STANDARD
TZOFFSETFROM:-0500
TZOFFSETTO:-0600
TZNAME:CST
DTSTART:20251102T070000
END:STANDARD
BEGIN:DAYLIGHT
TZOFFSETFROM:-0600
TZOFFSETTO:-0500
TZNAME:CDT
DTSTART:20260308T080000
END:DAYLIGHT
BEGIN:STANDARD
TZOFFSETFROM:-0500
TZOFFSETTO:-0600
TZNAME:CST
DTSTART:20261101T070000
END:STANDARD
BEGIN:DAYLIGHT
TZOFFSETFROM:-0600
TZOFFSETTO:-0500
TZNAME:CDT
DTSTART:20270314T080000
END:DAYLIGHT
BEGIN:STANDARD
TZOFFSETFROM:-0500
TZOFFSETTO:-0600
TZNAME:CST
DTSTART:20271107T070000
END:STANDARD
BEGIN:DAYLIGHT
TZOFFSETFROM:-0600
TZOFFSETTO:-0500
TZNAME:CDT
DTSTART:20280312T080000
END:DAYLIGHT
BEGIN:STANDARD
TZOFFSETFROM:-0500
TZOFFSETTO:-0600
TZNAME:CST
DTSTART:20281105T070000
END:STANDARD
END:VTIMEZONE
BEGIN:VEVENT
DTSTART;TZID=America/Chicago:20261206T120000
DTEND;TZID=America/Chicago:20261206T210000
DTSTAMP:20260424T144716
CREATED:20250103T192846Z
LAST-MODIFIED:20250419T141109Z
UID:10002973-1796558400-1796590800@www.landonwinery.com
SUMMARY:Mimosa Mania Sunday Coppell
DESCRIPTION:
URL:https://www.landonwinery.com/event/mimosa-mania-sunday-coppell/2026-12-06/
LOCATION:Landon Winery Coppell\, 3121 Olympus Boulevard #130\, Coppell\, TX\, 75019\, United States
CATEGORIES:Sunday,Weekly
ATTACH;FMTTYPE=image/jpeg:https://www.landonwinery.com/wp-content/uploads/2025/01/Mimosa-Mania.jpg
ORGANIZER;CN="Landon Winery":MAILTO:winery@landonwinery.com
END:VEVENT
BEGIN:VEVENT
DTSTART;TZID=America/Chicago:20261209T120000
DTEND;TZID=America/Chicago:20261209T210000
DTSTAMP:20260424T144716
CREATED:20240918T012559Z
LAST-MODIFIED:20250103T180339Z
UID:10000102-1796817600-1796850000@www.landonwinery.com
SUMMARY:Wine Down Wednesday Coppell
DESCRIPTION:
URL:https://www.landonwinery.com/event/wine-down-wednesday-coppell/2026-12-09/
LOCATION:Landon Winery Coppell\, 3121 Olympus Boulevard #130\, Coppell\, TX\, 75019\, United States
CATEGORIES:Weekly,Wine Wednesday
ATTACH;FMTTYPE=image/jpeg:https://www.landonwinery.com/wp-content/uploads/2024/09/Wine-Down-Wednesday.jpg
ORGANIZER;CN="Landon Winery":MAILTO:winery@landonwinery.com
END:VEVENT
BEGIN:VEVENT
DTSTART;TZID=America/Chicago:20261213T120000
DTEND;TZID=America/Chicago:20261213T210000
DTSTAMP:20260424T144716
CREATED:20250103T192846Z
LAST-MODIFIED:20250419T141109Z
UID:10002974-1797163200-1797195600@www.landonwinery.com
SUMMARY:Mimosa Mania Sunday Coppell
DESCRIPTION:
URL:https://www.landonwinery.com/event/mimosa-mania-sunday-coppell/2026-12-13/
LOCATION:Landon Winery Coppell\, 3121 Olympus Boulevard #130\, Coppell\, TX\, 75019\, United States
CATEGORIES:Sunday,Weekly
ATTACH;FMTTYPE=image/jpeg:https://www.landonwinery.com/wp-content/uploads/2025/01/Mimosa-Mania.jpg
ORGANIZER;CN="Landon Winery":MAILTO:winery@landonwinery.com
END:VEVENT
BEGIN:VEVENT
DTSTART;TZID=America/Chicago:20261216T120000
DTEND;TZID=America/Chicago:20261216T210000
DTSTAMP:20260424T144716
CREATED:20240918T012559Z
LAST-MODIFIED:20250103T180339Z
UID:10000103-1797422400-1797454800@www.landonwinery.com
SUMMARY:Wine Down Wednesday Coppell
DESCRIPTION:
URL:https://www.landonwinery.com/event/wine-down-wednesday-coppell/2026-12-16/
LOCATION:Landon Winery Coppell\, 3121 Olympus Boulevard #130\, Coppell\, TX\, 75019\, United States
CATEGORIES:Weekly,Wine Wednesday
ATTACH;FMTTYPE=image/jpeg:https://www.landonwinery.com/wp-content/uploads/2024/09/Wine-Down-Wednesday.jpg
ORGANIZER;CN="Landon Winery":MAILTO:winery@landonwinery.com
END:VEVENT
BEGIN:VEVENT
DTSTART;TZID=America/Chicago:20261220T120000
DTEND;TZID=America/Chicago:20261220T210000
DTSTAMP:20260424T144716
CREATED:20250103T192846Z
LAST-MODIFIED:20250419T141109Z
UID:10002975-1797768000-1797800400@www.landonwinery.com
SUMMARY:Mimosa Mania Sunday Coppell
DESCRIPTION:
URL:https://www.landonwinery.com/event/mimosa-mania-sunday-coppell/2026-12-20/
LOCATION:Landon Winery Coppell\, 3121 Olympus Boulevard #130\, Coppell\, TX\, 75019\, United States
CATEGORIES:Sunday,Weekly
ATTACH;FMTTYPE=image/jpeg:https://www.landonwinery.com/wp-content/uploads/2025/01/Mimosa-Mania.jpg
ORGANIZER;CN="Landon Winery":MAILTO:winery@landonwinery.com
END:VEVENT
BEGIN:VEVENT
DTSTART;TZID=America/Chicago:20261223T120000
DTEND;TZID=America/Chicago:20261223T210000
DTSTAMP:20260424T144716
CREATED:20240918T012559Z
LAST-MODIFIED:20250103T180339Z
UID:10000104-1798027200-1798059600@www.landonwinery.com
SUMMARY:Wine Down Wednesday Coppell
DESCRIPTION:
URL:https://www.landonwinery.com/event/wine-down-wednesday-coppell/2026-12-23/
LOCATION:Landon Winery Coppell\, 3121 Olympus Boulevard #130\, Coppell\, TX\, 75019\, United States
CATEGORIES:Weekly,Wine Wednesday
ATTACH;FMTTYPE=image/jpeg:https://www.landonwinery.com/wp-content/uploads/2024/09/Wine-Down-Wednesday.jpg
ORGANIZER;CN="Landon Winery":MAILTO:winery@landonwinery.com
END:VEVENT
BEGIN:VEVENT
DTSTART;TZID=America/Chicago:20261227T120000
DTEND;TZID=America/Chicago:20261227T210000
DTSTAMP:20260424T144716
CREATED:20250103T192846Z
LAST-MODIFIED:20250419T141109Z
UID:10002976-1798372800-1798405200@www.landonwinery.com
SUMMARY:Mimosa Mania Sunday Coppell
DESCRIPTION:
URL:https://www.landonwinery.com/event/mimosa-mania-sunday-coppell/2026-12-27/
LOCATION:Landon Winery Coppell\, 3121 Olympus Boulevard #130\, Coppell\, TX\, 75019\, United States
CATEGORIES:Sunday,Weekly
ATTACH;FMTTYPE=image/jpeg:https://www.landonwinery.com/wp-content/uploads/2025/01/Mimosa-Mania.jpg
ORGANIZER;CN="Landon Winery":MAILTO:winery@landonwinery.com
END:VEVENT
BEGIN:VEVENT
DTSTART;TZID=America/Chicago:20261230T120000
DTEND;TZID=America/Chicago:20261230T210000
DTSTAMP:20260424T144716
CREATED:20240918T012559Z
LAST-MODIFIED:20250103T180339Z
UID:10000105-1798632000-1798664400@www.landonwinery.com
SUMMARY:Wine Down Wednesday Coppell
DESCRIPTION:
URL:https://www.landonwinery.com/event/wine-down-wednesday-coppell/2026-12-30/
LOCATION:Landon Winery Coppell\, 3121 Olympus Boulevard #130\, Coppell\, TX\, 75019\, United States
CATEGORIES:Weekly,Wine Wednesday
ATTACH;FMTTYPE=image/jpeg:https://www.landonwinery.com/wp-content/uploads/2024/09/Wine-Down-Wednesday.jpg
ORGANIZER;CN="Landon Winery":MAILTO:winery@landonwinery.com
END:VEVENT
BEGIN:VEVENT
DTSTART;TZID=America/Chicago:20270103T120000
DTEND;TZID=America/Chicago:20270103T210000
DTSTAMP:20260424T144716
CREATED:20250103T192846Z
LAST-MODIFIED:20250419T141109Z
UID:10002977-1798977600-1799010000@www.landonwinery.com
SUMMARY:Mimosa Mania Sunday Coppell
DESCRIPTION:
URL:https://www.landonwinery.com/event/mimosa-mania-sunday-coppell/2027-01-03/
LOCATION:Landon Winery Coppell\, 3121 Olympus Boulevard #130\, Coppell\, TX\, 75019\, United States
CATEGORIES:Sunday,Weekly
ATTACH;FMTTYPE=image/jpeg:https://www.landonwinery.com/wp-content/uploads/2025/01/Mimosa-Mania.jpg
ORGANIZER;CN="Landon Winery":MAILTO:winery@landonwinery.com
END:VEVENT
BEGIN:VEVENT
DTSTART;TZID=America/Chicago:20270106T120000
DTEND;TZID=America/Chicago:20270106T210000
DTSTAMP:20260424T144717
CREATED:20240918T012559Z
LAST-MODIFIED:20250103T180339Z
UID:10000106-1799236800-1799269200@www.landonwinery.com
SUMMARY:Wine Down Wednesday Coppell
DESCRIPTION:
URL:https://www.landonwinery.com/event/wine-down-wednesday-coppell/2027-01-06/
LOCATION:Landon Winery Coppell\, 3121 Olympus Boulevard #130\, Coppell\, TX\, 75019\, United States
CATEGORIES:Weekly,Wine Wednesday
ATTACH;FMTTYPE=image/jpeg:https://www.landonwinery.com/wp-content/uploads/2024/09/Wine-Down-Wednesday.jpg
ORGANIZER;CN="Landon Winery":MAILTO:winery@landonwinery.com
END:VEVENT
BEGIN:VEVENT
DTSTART;TZID=America/Chicago:20270110T120000
DTEND;TZID=America/Chicago:20270110T210000
DTSTAMP:20260424T144717
CREATED:20250103T192846Z
LAST-MODIFIED:20250419T141109Z
UID:10002978-1799582400-1799614800@www.landonwinery.com
SUMMARY:Mimosa Mania Sunday Coppell
DESCRIPTION:
URL:https://www.landonwinery.com/event/mimosa-mania-sunday-coppell/2027-01-10/
LOCATION:Landon Winery Coppell\, 3121 Olympus Boulevard #130\, Coppell\, TX\, 75019\, United States
CATEGORIES:Sunday,Weekly
ATTACH;FMTTYPE=image/jpeg:https://www.landonwinery.com/wp-content/uploads/2025/01/Mimosa-Mania.jpg
ORGANIZER;CN="Landon Winery":MAILTO:winery@landonwinery.com
END:VEVENT
BEGIN:VEVENT
DTSTART;TZID=America/Chicago:20270113T120000
DTEND;TZID=America/Chicago:20270113T210000
DTSTAMP:20260424T144717
CREATED:20240918T012559Z
LAST-MODIFIED:20250103T180339Z
UID:10000107-1799841600-1799874000@www.landonwinery.com
SUMMARY:Wine Down Wednesday Coppell
DESCRIPTION:
URL:https://www.landonwinery.com/event/wine-down-wednesday-coppell/2027-01-13/
LOCATION:Landon Winery Coppell\, 3121 Olympus Boulevard #130\, Coppell\, TX\, 75019\, United States
CATEGORIES:Weekly,Wine Wednesday
ATTACH;FMTTYPE=image/jpeg:https://www.landonwinery.com/wp-content/uploads/2024/09/Wine-Down-Wednesday.jpg
ORGANIZER;CN="Landon Winery":MAILTO:winery@landonwinery.com
END:VEVENT
BEGIN:VEVENT
DTSTART;TZID=America/Chicago:20270117T120000
DTEND;TZID=America/Chicago:20270117T210000
DTSTAMP:20260424T144717
CREATED:20250103T192846Z
LAST-MODIFIED:20250419T141109Z
UID:10002979-1800187200-1800219600@www.landonwinery.com
SUMMARY:Mimosa Mania Sunday Coppell
DESCRIPTION:
URL:https://www.landonwinery.com/event/mimosa-mania-sunday-coppell/2027-01-17/
LOCATION:Landon Winery Coppell\, 3121 Olympus Boulevard #130\, Coppell\, TX\, 75019\, United States
CATEGORIES:Sunday,Weekly
ATTACH;FMTTYPE=image/jpeg:https://www.landonwinery.com/wp-content/uploads/2025/01/Mimosa-Mania.jpg
ORGANIZER;CN="Landon Winery":MAILTO:winery@landonwinery.com
END:VEVENT
BEGIN:VEVENT
DTSTART;TZID=America/Chicago:20270120T120000
DTEND;TZID=America/Chicago:20270120T210000
DTSTAMP:20260424T144717
CREATED:20240918T012559Z
LAST-MODIFIED:20250103T180339Z
UID:10000108-1800446400-1800478800@www.landonwinery.com
SUMMARY:Wine Down Wednesday Coppell
DESCRIPTION:
URL:https://www.landonwinery.com/event/wine-down-wednesday-coppell/2027-01-20/
LOCATION:Landon Winery Coppell\, 3121 Olympus Boulevard #130\, Coppell\, TX\, 75019\, United States
CATEGORIES:Weekly,Wine Wednesday
ATTACH;FMTTYPE=image/jpeg:https://www.landonwinery.com/wp-content/uploads/2024/09/Wine-Down-Wednesday.jpg
ORGANIZER;CN="Landon Winery":MAILTO:winery@landonwinery.com
END:VEVENT
BEGIN:VEVENT
DTSTART;TZID=America/Chicago:20270124T120000
DTEND;TZID=America/Chicago:20270124T210000
DTSTAMP:20260424T144717
CREATED:20250103T192846Z
LAST-MODIFIED:20250419T141109Z
UID:10002980-1800792000-1800824400@www.landonwinery.com
SUMMARY:Mimosa Mania Sunday Coppell
DESCRIPTION:
URL:https://www.landonwinery.com/event/mimosa-mania-sunday-coppell/2027-01-24/
LOCATION:Landon Winery Coppell\, 3121 Olympus Boulevard #130\, Coppell\, TX\, 75019\, United States
CATEGORIES:Sunday,Weekly
ATTACH;FMTTYPE=image/jpeg:https://www.landonwinery.com/wp-content/uploads/2025/01/Mimosa-Mania.jpg
ORGANIZER;CN="Landon Winery":MAILTO:winery@landonwinery.com
END:VEVENT
BEGIN:VEVENT
DTSTART;TZID=America/Chicago:20270127T120000
DTEND;TZID=America/Chicago:20270127T210000
DTSTAMP:20260424T144717
CREATED:20240918T012559Z
LAST-MODIFIED:20250103T180339Z
UID:10000109-1801051200-1801083600@www.landonwinery.com
SUMMARY:Wine Down Wednesday Coppell
DESCRIPTION:
URL:https://www.landonwinery.com/event/wine-down-wednesday-coppell/2027-01-27/
LOCATION:Landon Winery Coppell\, 3121 Olympus Boulevard #130\, Coppell\, TX\, 75019\, United States
CATEGORIES:Weekly,Wine Wednesday
ATTACH;FMTTYPE=image/jpeg:https://www.landonwinery.com/wp-content/uploads/2024/09/Wine-Down-Wednesday.jpg
ORGANIZER;CN="Landon Winery":MAILTO:winery@landonwinery.com
END:VEVENT
BEGIN:VEVENT
DTSTART;TZID=America/Chicago:20270131T120000
DTEND;TZID=America/Chicago:20270131T210000
DTSTAMP:20260424T144717
CREATED:20250103T192846Z
LAST-MODIFIED:20250419T141109Z
UID:10002981-1801396800-1801429200@www.landonwinery.com
SUMMARY:Mimosa Mania Sunday Coppell
DESCRIPTION:
URL:https://www.landonwinery.com/event/mimosa-mania-sunday-coppell/2027-01-31/
LOCATION:Landon Winery Coppell\, 3121 Olympus Boulevard #130\, Coppell\, TX\, 75019\, United States
CATEGORIES:Sunday,Weekly
ATTACH;FMTTYPE=image/jpeg:https://www.landonwinery.com/wp-content/uploads/2025/01/Mimosa-Mania.jpg
ORGANIZER;CN="Landon Winery":MAILTO:winery@landonwinery.com
END:VEVENT
BEGIN:VEVENT
DTSTART;TZID=America/Chicago:20270203T120000
DTEND;TZID=America/Chicago:20270203T210000
DTSTAMP:20260424T144717
CREATED:20240918T012559Z
LAST-MODIFIED:20250103T180339Z
UID:10000110-1801656000-1801688400@www.landonwinery.com
SUMMARY:Wine Down Wednesday Coppell
DESCRIPTION:
URL:https://www.landonwinery.com/event/wine-down-wednesday-coppell/2027-02-03/
LOCATION:Landon Winery Coppell\, 3121 Olympus Boulevard #130\, Coppell\, TX\, 75019\, United States
CATEGORIES:Weekly,Wine Wednesday
ATTACH;FMTTYPE=image/jpeg:https://www.landonwinery.com/wp-content/uploads/2024/09/Wine-Down-Wednesday.jpg
ORGANIZER;CN="Landon Winery":MAILTO:winery@landonwinery.com
END:VEVENT
BEGIN:VEVENT
DTSTART;TZID=America/Chicago:20270207T120000
DTEND;TZID=America/Chicago:20270207T210000
DTSTAMP:20260424T144717
CREATED:20250103T192846Z
LAST-MODIFIED:20250419T141109Z
UID:10002982-1802001600-1802034000@www.landonwinery.com
SUMMARY:Mimosa Mania Sunday Coppell
DESCRIPTION:
URL:https://www.landonwinery.com/event/mimosa-mania-sunday-coppell/2027-02-07/
LOCATION:Landon Winery Coppell\, 3121 Olympus Boulevard #130\, Coppell\, TX\, 75019\, United States
CATEGORIES:Sunday,Weekly
ATTACH;FMTTYPE=image/jpeg:https://www.landonwinery.com/wp-content/uploads/2025/01/Mimosa-Mania.jpg
ORGANIZER;CN="Landon Winery":MAILTO:winery@landonwinery.com
END:VEVENT
BEGIN:VEVENT
DTSTART;TZID=America/Chicago:20270210T120000
DTEND;TZID=America/Chicago:20270210T210000
DTSTAMP:20260424T144717
CREATED:20240918T012559Z
LAST-MODIFIED:20250103T180339Z
UID:10000111-1802260800-1802293200@www.landonwinery.com
SUMMARY:Wine Down Wednesday Coppell
DESCRIPTION:
URL:https://www.landonwinery.com/event/wine-down-wednesday-coppell/2027-02-10/
LOCATION:Landon Winery Coppell\, 3121 Olympus Boulevard #130\, Coppell\, TX\, 75019\, United States
CATEGORIES:Weekly,Wine Wednesday
ATTACH;FMTTYPE=image/jpeg:https://www.landonwinery.com/wp-content/uploads/2024/09/Wine-Down-Wednesday.jpg
ORGANIZER;CN="Landon Winery":MAILTO:winery@landonwinery.com
END:VEVENT
BEGIN:VEVENT
DTSTART;TZID=America/Chicago:20270214T120000
DTEND;TZID=America/Chicago:20270214T210000
DTSTAMP:20260424T144717
CREATED:20250103T192846Z
LAST-MODIFIED:20250419T141109Z
UID:10002983-1802606400-1802638800@www.landonwinery.com
SUMMARY:Mimosa Mania Sunday Coppell
DESCRIPTION:
URL:https://www.landonwinery.com/event/mimosa-mania-sunday-coppell/2027-02-14/
LOCATION:Landon Winery Coppell\, 3121 Olympus Boulevard #130\, Coppell\, TX\, 75019\, United States
CATEGORIES:Sunday,Weekly
ATTACH;FMTTYPE=image/jpeg:https://www.landonwinery.com/wp-content/uploads/2025/01/Mimosa-Mania.jpg
ORGANIZER;CN="Landon Winery":MAILTO:winery@landonwinery.com
END:VEVENT
BEGIN:VEVENT
DTSTART;TZID=America/Chicago:20270217T120000
DTEND;TZID=America/Chicago:20270217T210000
DTSTAMP:20260424T144717
CREATED:20240918T012559Z
LAST-MODIFIED:20250103T180339Z
UID:10000112-1802865600-1802898000@www.landonwinery.com
SUMMARY:Wine Down Wednesday Coppell
DESCRIPTION:
URL:https://www.landonwinery.com/event/wine-down-wednesday-coppell/2027-02-17/
LOCATION:Landon Winery Coppell\, 3121 Olympus Boulevard #130\, Coppell\, TX\, 75019\, United States
CATEGORIES:Weekly,Wine Wednesday
ATTACH;FMTTYPE=image/jpeg:https://www.landonwinery.com/wp-content/uploads/2024/09/Wine-Down-Wednesday.jpg
ORGANIZER;CN="Landon Winery":MAILTO:winery@landonwinery.com
END:VEVENT
BEGIN:VEVENT
DTSTART;TZID=America/Chicago:20270221T120000
DTEND;TZID=America/Chicago:20270221T210000
DTSTAMP:20260424T144717
CREATED:20250103T192846Z
LAST-MODIFIED:20250419T141109Z
UID:10002984-1803211200-1803243600@www.landonwinery.com
SUMMARY:Mimosa Mania Sunday Coppell
DESCRIPTION:
URL:https://www.landonwinery.com/event/mimosa-mania-sunday-coppell/2027-02-21/
LOCATION:Landon Winery Coppell\, 3121 Olympus Boulevard #130\, Coppell\, TX\, 75019\, United States
CATEGORIES:Sunday,Weekly
ATTACH;FMTTYPE=image/jpeg:https://www.landonwinery.com/wp-content/uploads/2025/01/Mimosa-Mania.jpg
ORGANIZER;CN="Landon Winery":MAILTO:winery@landonwinery.com
END:VEVENT
BEGIN:VEVENT
DTSTART;TZID=America/Chicago:20270224T120000
DTEND;TZID=America/Chicago:20270224T210000
DTSTAMP:20260424T144717
CREATED:20240918T012559Z
LAST-MODIFIED:20250103T180339Z
UID:10000113-1803470400-1803502800@www.landonwinery.com
SUMMARY:Wine Down Wednesday Coppell
DESCRIPTION:
URL:https://www.landonwinery.com/event/wine-down-wednesday-coppell/2027-02-24/
LOCATION:Landon Winery Coppell\, 3121 Olympus Boulevard #130\, Coppell\, TX\, 75019\, United States
CATEGORIES:Weekly,Wine Wednesday
ATTACH;FMTTYPE=image/jpeg:https://www.landonwinery.com/wp-content/uploads/2024/09/Wine-Down-Wednesday.jpg
ORGANIZER;CN="Landon Winery":MAILTO:winery@landonwinery.com
END:VEVENT
BEGIN:VEVENT
DTSTART;TZID=America/Chicago:20270228T120000
DTEND;TZID=America/Chicago:20270228T210000
DTSTAMP:20260424T144717
CREATED:20250103T192846Z
LAST-MODIFIED:20250419T141109Z
UID:10002985-1803816000-1803848400@www.landonwinery.com
SUMMARY:Mimosa Mania Sunday Coppell
DESCRIPTION:
URL:https://www.landonwinery.com/event/mimosa-mania-sunday-coppell/2027-02-28/
LOCATION:Landon Winery Coppell\, 3121 Olympus Boulevard #130\, Coppell\, TX\, 75019\, United States
CATEGORIES:Sunday,Weekly
ATTACH;FMTTYPE=image/jpeg:https://www.landonwinery.com/wp-content/uploads/2025/01/Mimosa-Mania.jpg
ORGANIZER;CN="Landon Winery":MAILTO:winery@landonwinery.com
END:VEVENT
BEGIN:VEVENT
DTSTART;TZID=America/Chicago:20270303T120000
DTEND;TZID=America/Chicago:20270303T210000
DTSTAMP:20260424T144717
CREATED:20240918T012559Z
LAST-MODIFIED:20250103T180339Z
UID:10000114-1804075200-1804107600@www.landonwinery.com
SUMMARY:Wine Down Wednesday Coppell
DESCRIPTION:
URL:https://www.landonwinery.com/event/wine-down-wednesday-coppell/2027-03-03/
LOCATION:Landon Winery Coppell\, 3121 Olympus Boulevard #130\, Coppell\, TX\, 75019\, United States
CATEGORIES:Weekly,Wine Wednesday
ATTACH;FMTTYPE=image/jpeg:https://www.landonwinery.com/wp-content/uploads/2024/09/Wine-Down-Wednesday.jpg
ORGANIZER;CN="Landon Winery":MAILTO:winery@landonwinery.com
END:VEVENT
BEGIN:VEVENT
DTSTART;TZID=America/Chicago:20270307T120000
DTEND;TZID=America/Chicago:20270307T210000
DTSTAMP:20260424T144717
CREATED:20250103T192846Z
LAST-MODIFIED:20250419T141109Z
UID:10002986-1804420800-1804453200@www.landonwinery.com
SUMMARY:Mimosa Mania Sunday Coppell
DESCRIPTION:
URL:https://www.landonwinery.com/event/mimosa-mania-sunday-coppell/2027-03-07/
LOCATION:Landon Winery Coppell\, 3121 Olympus Boulevard #130\, Coppell\, TX\, 75019\, United States
CATEGORIES:Sunday,Weekly
ATTACH;FMTTYPE=image/jpeg:https://www.landonwinery.com/wp-content/uploads/2025/01/Mimosa-Mania.jpg
ORGANIZER;CN="Landon Winery":MAILTO:winery@landonwinery.com
END:VEVENT
BEGIN:VEVENT
DTSTART;TZID=America/Chicago:20270310T120000
DTEND;TZID=America/Chicago:20270310T210000
DTSTAMP:20260424T144717
CREATED:20240918T012559Z
LAST-MODIFIED:20250103T180339Z
UID:10000115-1804680000-1804712400@www.landonwinery.com
SUMMARY:Wine Down Wednesday Coppell
DESCRIPTION:
URL:https://www.landonwinery.com/event/wine-down-wednesday-coppell/2027-03-10/
LOCATION:Landon Winery Coppell\, 3121 Olympus Boulevard #130\, Coppell\, TX\, 75019\, United States
CATEGORIES:Weekly,Wine Wednesday
ATTACH;FMTTYPE=image/jpeg:https://www.landonwinery.com/wp-content/uploads/2024/09/Wine-Down-Wednesday.jpg
ORGANIZER;CN="Landon Winery":MAILTO:winery@landonwinery.com
END:VEVENT
BEGIN:VEVENT
DTSTART;TZID=America/Chicago:20270314T120000
DTEND;TZID=America/Chicago:20270314T210000
DTSTAMP:20260424T144717
CREATED:20250103T192846Z
LAST-MODIFIED:20250419T141109Z
UID:10002987-1805025600-1805058000@www.landonwinery.com
SUMMARY:Mimosa Mania Sunday Coppell
DESCRIPTION:
URL:https://www.landonwinery.com/event/mimosa-mania-sunday-coppell/2027-03-14/
LOCATION:Landon Winery Coppell\, 3121 Olympus Boulevard #130\, Coppell\, TX\, 75019\, United States
CATEGORIES:Sunday,Weekly
ATTACH;FMTTYPE=image/jpeg:https://www.landonwinery.com/wp-content/uploads/2025/01/Mimosa-Mania.jpg
ORGANIZER;CN="Landon Winery":MAILTO:winery@landonwinery.com
END:VEVENT
BEGIN:VEVENT
DTSTART;TZID=America/Chicago:20270317T120000
DTEND;TZID=America/Chicago:20270317T210000
DTSTAMP:20260424T144717
CREATED:20240918T012559Z
LAST-MODIFIED:20250103T180339Z
UID:10000116-1805284800-1805317200@www.landonwinery.com
SUMMARY:Wine Down Wednesday Coppell
DESCRIPTION:
URL:https://www.landonwinery.com/event/wine-down-wednesday-coppell/2027-03-17/
LOCATION:Landon Winery Coppell\, 3121 Olympus Boulevard #130\, Coppell\, TX\, 75019\, United States
CATEGORIES:Weekly,Wine Wednesday
ATTACH;FMTTYPE=image/jpeg:https://www.landonwinery.com/wp-content/uploads/2024/09/Wine-Down-Wednesday.jpg
ORGANIZER;CN="Landon Winery":MAILTO:winery@landonwinery.com
END:VEVENT
END:VCALENDAR