BEGIN:VCALENDAR
VERSION:2.0
PRODID:-//Landon Winery - ECPv6.15.18//NONSGML v1.0//EN
CALSCALE:GREGORIAN
METHOD:PUBLISH
X-WR-CALNAME:Landon Winery
X-ORIGINAL-URL:https://www.landonwinery.com
X-WR-CALDESC:Events for Landon Winery
REFRESH-INTERVAL;VALUE=DURATION:PT1H
X-Robots-Tag:noindex
X-PUBLISHED-TTL:PT1H
BEGIN:VTIMEZONE
TZID:America/Chicago
BEGIN:DAYLIGHT
TZOFFSETFROM:-0600
TZOFFSETTO:-0500
TZNAME:CDT
DTSTART:20270314T080000
END:DAYLIGHT
BEGIN:STANDARD
TZOFFSETFROM:-0500
TZOFFSETTO:-0600
TZNAME:CST
DTSTART:20271107T070000
END:STANDARD
BEGIN:DAYLIGHT
TZOFFSETFROM:-0600
TZOFFSETTO:-0500
TZNAME:CDT
DTSTART:20280312T080000
END:DAYLIGHT
BEGIN:STANDARD
TZOFFSETFROM:-0500
TZOFFSETTO:-0600
TZNAME:CST
DTSTART:20281105T070000
END:STANDARD
BEGIN:DAYLIGHT
TZOFFSETFROM:-0600
TZOFFSETTO:-0500
TZNAME:CDT
DTSTART:20290311T080000
END:DAYLIGHT
BEGIN:STANDARD
TZOFFSETFROM:-0500
TZOFFSETTO:-0600
TZNAME:CST
DTSTART:20291104T070000
END:STANDARD
END:VTIMEZONE
BEGIN:VEVENT
DTSTART;TZID=America/Chicago:20280510T120000
DTEND;TZID=America/Chicago:20280510T210000
DTSTAMP:20260421T162646
CREATED:20240918T012559Z
LAST-MODIFIED:20250103T180339Z
UID:10000176-1841572800-1841605200@www.landonwinery.com
SUMMARY:Wine Down Wednesday Coppell
DESCRIPTION:
URL:https://www.landonwinery.com/event/wine-down-wednesday-coppell/2028-05-10/
LOCATION:Landon Winery Coppell\, 3121 Olympus Boulevard #130\, Coppell\, TX\, 75019\, United States
CATEGORIES:Weekly,Wine Wednesday
ATTACH;FMTTYPE=image/jpeg:https://www.landonwinery.com/wp-content/uploads/2024/09/Wine-Down-Wednesday.jpg
ORGANIZER;CN="Landon Winery":MAILTO:winery@landonwinery.com
END:VEVENT
BEGIN:VEVENT
DTSTART;TZID=America/Chicago:20280514T120000
DTEND;TZID=America/Chicago:20280514T210000
DTSTAMP:20260421T162646
CREATED:20250103T192846Z
LAST-MODIFIED:20250419T141109Z
UID:10003048-1841918400-1841950800@www.landonwinery.com
SUMMARY:Mimosa Mania Sunday Coppell
DESCRIPTION:
URL:https://www.landonwinery.com/event/mimosa-mania-sunday-coppell/2028-05-14/
LOCATION:Landon Winery Coppell\, 3121 Olympus Boulevard #130\, Coppell\, TX\, 75019\, United States
CATEGORIES:Sunday,Weekly
ATTACH;FMTTYPE=image/jpeg:https://www.landonwinery.com/wp-content/uploads/2025/01/Mimosa-Mania.jpg
ORGANIZER;CN="Landon Winery":MAILTO:winery@landonwinery.com
END:VEVENT
BEGIN:VEVENT
DTSTART;TZID=America/Chicago:20280517T120000
DTEND;TZID=America/Chicago:20280517T210000
DTSTAMP:20260421T162646
CREATED:20240918T012559Z
LAST-MODIFIED:20250103T180339Z
UID:10000177-1842177600-1842210000@www.landonwinery.com
SUMMARY:Wine Down Wednesday Coppell
DESCRIPTION:
URL:https://www.landonwinery.com/event/wine-down-wednesday-coppell/2028-05-17/
LOCATION:Landon Winery Coppell\, 3121 Olympus Boulevard #130\, Coppell\, TX\, 75019\, United States
CATEGORIES:Weekly,Wine Wednesday
ATTACH;FMTTYPE=image/jpeg:https://www.landonwinery.com/wp-content/uploads/2024/09/Wine-Down-Wednesday.jpg
ORGANIZER;CN="Landon Winery":MAILTO:winery@landonwinery.com
END:VEVENT
BEGIN:VEVENT
DTSTART;TZID=America/Chicago:20280521T120000
DTEND;TZID=America/Chicago:20280521T210000
DTSTAMP:20260421T162646
CREATED:20250103T192846Z
LAST-MODIFIED:20250419T141109Z
UID:10003049-1842523200-1842555600@www.landonwinery.com
SUMMARY:Mimosa Mania Sunday Coppell
DESCRIPTION:
URL:https://www.landonwinery.com/event/mimosa-mania-sunday-coppell/2028-05-21/
LOCATION:Landon Winery Coppell\, 3121 Olympus Boulevard #130\, Coppell\, TX\, 75019\, United States
CATEGORIES:Sunday,Weekly
ATTACH;FMTTYPE=image/jpeg:https://www.landonwinery.com/wp-content/uploads/2025/01/Mimosa-Mania.jpg
ORGANIZER;CN="Landon Winery":MAILTO:winery@landonwinery.com
END:VEVENT
BEGIN:VEVENT
DTSTART;TZID=America/Chicago:20280524T120000
DTEND;TZID=America/Chicago:20280524T210000
DTSTAMP:20260421T162646
CREATED:20240918T012559Z
LAST-MODIFIED:20250103T180339Z
UID:10000178-1842782400-1842814800@www.landonwinery.com
SUMMARY:Wine Down Wednesday Coppell
DESCRIPTION:
URL:https://www.landonwinery.com/event/wine-down-wednesday-coppell/2028-05-24/
LOCATION:Landon Winery Coppell\, 3121 Olympus Boulevard #130\, Coppell\, TX\, 75019\, United States
CATEGORIES:Weekly,Wine Wednesday
ATTACH;FMTTYPE=image/jpeg:https://www.landonwinery.com/wp-content/uploads/2024/09/Wine-Down-Wednesday.jpg
ORGANIZER;CN="Landon Winery":MAILTO:winery@landonwinery.com
END:VEVENT
BEGIN:VEVENT
DTSTART;TZID=America/Chicago:20280528T120000
DTEND;TZID=America/Chicago:20280528T210000
DTSTAMP:20260421T162646
CREATED:20250103T192846Z
LAST-MODIFIED:20250419T141109Z
UID:10003050-1843128000-1843160400@www.landonwinery.com
SUMMARY:Mimosa Mania Sunday Coppell
DESCRIPTION:
URL:https://www.landonwinery.com/event/mimosa-mania-sunday-coppell/2028-05-28/
LOCATION:Landon Winery Coppell\, 3121 Olympus Boulevard #130\, Coppell\, TX\, 75019\, United States
CATEGORIES:Sunday,Weekly
ATTACH;FMTTYPE=image/jpeg:https://www.landonwinery.com/wp-content/uploads/2025/01/Mimosa-Mania.jpg
ORGANIZER;CN="Landon Winery":MAILTO:winery@landonwinery.com
END:VEVENT
BEGIN:VEVENT
DTSTART;TZID=America/Chicago:20280531T120000
DTEND;TZID=America/Chicago:20280531T210000
DTSTAMP:20260421T162646
CREATED:20240918T012559Z
LAST-MODIFIED:20250103T180339Z
UID:10000179-1843387200-1843419600@www.landonwinery.com
SUMMARY:Wine Down Wednesday Coppell
DESCRIPTION:
URL:https://www.landonwinery.com/event/wine-down-wednesday-coppell/2028-05-31/
LOCATION:Landon Winery Coppell\, 3121 Olympus Boulevard #130\, Coppell\, TX\, 75019\, United States
CATEGORIES:Weekly,Wine Wednesday
ATTACH;FMTTYPE=image/jpeg:https://www.landonwinery.com/wp-content/uploads/2024/09/Wine-Down-Wednesday.jpg
ORGANIZER;CN="Landon Winery":MAILTO:winery@landonwinery.com
END:VEVENT
BEGIN:VEVENT
DTSTART;TZID=America/Chicago:20280604T120000
DTEND;TZID=America/Chicago:20280604T210000
DTSTAMP:20260421T162646
CREATED:20250103T192846Z
LAST-MODIFIED:20250419T141109Z
UID:10003051-1843732800-1843765200@www.landonwinery.com
SUMMARY:Mimosa Mania Sunday Coppell
DESCRIPTION:
URL:https://www.landonwinery.com/event/mimosa-mania-sunday-coppell/2028-06-04/
LOCATION:Landon Winery Coppell\, 3121 Olympus Boulevard #130\, Coppell\, TX\, 75019\, United States
CATEGORIES:Sunday,Weekly
ATTACH;FMTTYPE=image/jpeg:https://www.landonwinery.com/wp-content/uploads/2025/01/Mimosa-Mania.jpg
ORGANIZER;CN="Landon Winery":MAILTO:winery@landonwinery.com
END:VEVENT
BEGIN:VEVENT
DTSTART;TZID=America/Chicago:20280607T120000
DTEND;TZID=America/Chicago:20280607T210000
DTSTAMP:20260421T162646
CREATED:20240918T012559Z
LAST-MODIFIED:20250103T180339Z
UID:10000180-1843992000-1844024400@www.landonwinery.com
SUMMARY:Wine Down Wednesday Coppell
DESCRIPTION:
URL:https://www.landonwinery.com/event/wine-down-wednesday-coppell/2028-06-07/
LOCATION:Landon Winery Coppell\, 3121 Olympus Boulevard #130\, Coppell\, TX\, 75019\, United States
CATEGORIES:Weekly,Wine Wednesday
ATTACH;FMTTYPE=image/jpeg:https://www.landonwinery.com/wp-content/uploads/2024/09/Wine-Down-Wednesday.jpg
ORGANIZER;CN="Landon Winery":MAILTO:winery@landonwinery.com
END:VEVENT
BEGIN:VEVENT
DTSTART;TZID=America/Chicago:20280611T120000
DTEND;TZID=America/Chicago:20280611T210000
DTSTAMP:20260421T162646
CREATED:20250103T192846Z
LAST-MODIFIED:20250419T141109Z
UID:10003052-1844337600-1844370000@www.landonwinery.com
SUMMARY:Mimosa Mania Sunday Coppell
DESCRIPTION:
URL:https://www.landonwinery.com/event/mimosa-mania-sunday-coppell/2028-06-11/
LOCATION:Landon Winery Coppell\, 3121 Olympus Boulevard #130\, Coppell\, TX\, 75019\, United States
CATEGORIES:Sunday,Weekly
ATTACH;FMTTYPE=image/jpeg:https://www.landonwinery.com/wp-content/uploads/2025/01/Mimosa-Mania.jpg
ORGANIZER;CN="Landon Winery":MAILTO:winery@landonwinery.com
END:VEVENT
BEGIN:VEVENT
DTSTART;TZID=America/Chicago:20280614T120000
DTEND;TZID=America/Chicago:20280614T210000
DTSTAMP:20260421T162646
CREATED:20240918T012559Z
LAST-MODIFIED:20250103T180339Z
UID:10000181-1844596800-1844629200@www.landonwinery.com
SUMMARY:Wine Down Wednesday Coppell
DESCRIPTION:
URL:https://www.landonwinery.com/event/wine-down-wednesday-coppell/2028-06-14/
LOCATION:Landon Winery Coppell\, 3121 Olympus Boulevard #130\, Coppell\, TX\, 75019\, United States
CATEGORIES:Weekly,Wine Wednesday
ATTACH;FMTTYPE=image/jpeg:https://www.landonwinery.com/wp-content/uploads/2024/09/Wine-Down-Wednesday.jpg
ORGANIZER;CN="Landon Winery":MAILTO:winery@landonwinery.com
END:VEVENT
BEGIN:VEVENT
DTSTART;TZID=America/Chicago:20280618T120000
DTEND;TZID=America/Chicago:20280618T210000
DTSTAMP:20260421T162646
CREATED:20250103T192846Z
LAST-MODIFIED:20250419T141109Z
UID:10003053-1844942400-1844974800@www.landonwinery.com
SUMMARY:Mimosa Mania Sunday Coppell
DESCRIPTION:
URL:https://www.landonwinery.com/event/mimosa-mania-sunday-coppell/2028-06-18/
LOCATION:Landon Winery Coppell\, 3121 Olympus Boulevard #130\, Coppell\, TX\, 75019\, United States
CATEGORIES:Sunday,Weekly
ATTACH;FMTTYPE=image/jpeg:https://www.landonwinery.com/wp-content/uploads/2025/01/Mimosa-Mania.jpg
ORGANIZER;CN="Landon Winery":MAILTO:winery@landonwinery.com
END:VEVENT
BEGIN:VEVENT
DTSTART;TZID=America/Chicago:20280621T120000
DTEND;TZID=America/Chicago:20280621T210000
DTSTAMP:20260421T162646
CREATED:20240918T012559Z
LAST-MODIFIED:20250103T180339Z
UID:10000182-1845201600-1845234000@www.landonwinery.com
SUMMARY:Wine Down Wednesday Coppell
DESCRIPTION:
URL:https://www.landonwinery.com/event/wine-down-wednesday-coppell/2028-06-21/
LOCATION:Landon Winery Coppell\, 3121 Olympus Boulevard #130\, Coppell\, TX\, 75019\, United States
CATEGORIES:Weekly,Wine Wednesday
ATTACH;FMTTYPE=image/jpeg:https://www.landonwinery.com/wp-content/uploads/2024/09/Wine-Down-Wednesday.jpg
ORGANIZER;CN="Landon Winery":MAILTO:winery@landonwinery.com
END:VEVENT
BEGIN:VEVENT
DTSTART;TZID=America/Chicago:20280625T120000
DTEND;TZID=America/Chicago:20280625T210000
DTSTAMP:20260421T162646
CREATED:20250103T192846Z
LAST-MODIFIED:20250419T141109Z
UID:10003054-1845547200-1845579600@www.landonwinery.com
SUMMARY:Mimosa Mania Sunday Coppell
DESCRIPTION:
URL:https://www.landonwinery.com/event/mimosa-mania-sunday-coppell/2028-06-25/
LOCATION:Landon Winery Coppell\, 3121 Olympus Boulevard #130\, Coppell\, TX\, 75019\, United States
CATEGORIES:Sunday,Weekly
ATTACH;FMTTYPE=image/jpeg:https://www.landonwinery.com/wp-content/uploads/2025/01/Mimosa-Mania.jpg
ORGANIZER;CN="Landon Winery":MAILTO:winery@landonwinery.com
END:VEVENT
BEGIN:VEVENT
DTSTART;TZID=America/Chicago:20280628T120000
DTEND;TZID=America/Chicago:20280628T210000
DTSTAMP:20260421T162646
CREATED:20240918T012559Z
LAST-MODIFIED:20250103T180339Z
UID:10000183-1845806400-1845838800@www.landonwinery.com
SUMMARY:Wine Down Wednesday Coppell
DESCRIPTION:
URL:https://www.landonwinery.com/event/wine-down-wednesday-coppell/2028-06-28/
LOCATION:Landon Winery Coppell\, 3121 Olympus Boulevard #130\, Coppell\, TX\, 75019\, United States
CATEGORIES:Weekly,Wine Wednesday
ATTACH;FMTTYPE=image/jpeg:https://www.landonwinery.com/wp-content/uploads/2024/09/Wine-Down-Wednesday.jpg
ORGANIZER;CN="Landon Winery":MAILTO:winery@landonwinery.com
END:VEVENT
BEGIN:VEVENT
DTSTART;TZID=America/Chicago:20280702T120000
DTEND;TZID=America/Chicago:20280702T210000
DTSTAMP:20260421T162646
CREATED:20250103T192846Z
LAST-MODIFIED:20250419T141109Z
UID:10003055-1846152000-1846184400@www.landonwinery.com
SUMMARY:Mimosa Mania Sunday Coppell
DESCRIPTION:
URL:https://www.landonwinery.com/event/mimosa-mania-sunday-coppell/2028-07-02/
LOCATION:Landon Winery Coppell\, 3121 Olympus Boulevard #130\, Coppell\, TX\, 75019\, United States
CATEGORIES:Sunday,Weekly
ATTACH;FMTTYPE=image/jpeg:https://www.landonwinery.com/wp-content/uploads/2025/01/Mimosa-Mania.jpg
ORGANIZER;CN="Landon Winery":MAILTO:winery@landonwinery.com
END:VEVENT
BEGIN:VEVENT
DTSTART;TZID=America/Chicago:20280705T120000
DTEND;TZID=America/Chicago:20280705T210000
DTSTAMP:20260421T162646
CREATED:20240918T012559Z
LAST-MODIFIED:20250103T180339Z
UID:10000184-1846411200-1846443600@www.landonwinery.com
SUMMARY:Wine Down Wednesday Coppell
DESCRIPTION:
URL:https://www.landonwinery.com/event/wine-down-wednesday-coppell/2028-07-05/
LOCATION:Landon Winery Coppell\, 3121 Olympus Boulevard #130\, Coppell\, TX\, 75019\, United States
CATEGORIES:Weekly,Wine Wednesday
ATTACH;FMTTYPE=image/jpeg:https://www.landonwinery.com/wp-content/uploads/2024/09/Wine-Down-Wednesday.jpg
ORGANIZER;CN="Landon Winery":MAILTO:winery@landonwinery.com
END:VEVENT
BEGIN:VEVENT
DTSTART;TZID=America/Chicago:20280709T120000
DTEND;TZID=America/Chicago:20280709T210000
DTSTAMP:20260421T162646
CREATED:20250103T192846Z
LAST-MODIFIED:20250419T141109Z
UID:10003056-1846756800-1846789200@www.landonwinery.com
SUMMARY:Mimosa Mania Sunday Coppell
DESCRIPTION:
URL:https://www.landonwinery.com/event/mimosa-mania-sunday-coppell/2028-07-09/
LOCATION:Landon Winery Coppell\, 3121 Olympus Boulevard #130\, Coppell\, TX\, 75019\, United States
CATEGORIES:Sunday,Weekly
ATTACH;FMTTYPE=image/jpeg:https://www.landonwinery.com/wp-content/uploads/2025/01/Mimosa-Mania.jpg
ORGANIZER;CN="Landon Winery":MAILTO:winery@landonwinery.com
END:VEVENT
BEGIN:VEVENT
DTSTART;TZID=America/Chicago:20280712T120000
DTEND;TZID=America/Chicago:20280712T210000
DTSTAMP:20260421T162646
CREATED:20240918T012559Z
LAST-MODIFIED:20250103T180339Z
UID:10000185-1847016000-1847048400@www.landonwinery.com
SUMMARY:Wine Down Wednesday Coppell
DESCRIPTION:
URL:https://www.landonwinery.com/event/wine-down-wednesday-coppell/2028-07-12/
LOCATION:Landon Winery Coppell\, 3121 Olympus Boulevard #130\, Coppell\, TX\, 75019\, United States
CATEGORIES:Weekly,Wine Wednesday
ATTACH;FMTTYPE=image/jpeg:https://www.landonwinery.com/wp-content/uploads/2024/09/Wine-Down-Wednesday.jpg
ORGANIZER;CN="Landon Winery":MAILTO:winery@landonwinery.com
END:VEVENT
BEGIN:VEVENT
DTSTART;TZID=America/Chicago:20280716T120000
DTEND;TZID=America/Chicago:20280716T210000
DTSTAMP:20260421T162646
CREATED:20250103T192846Z
LAST-MODIFIED:20250419T141109Z
UID:10003057-1847361600-1847394000@www.landonwinery.com
SUMMARY:Mimosa Mania Sunday Coppell
DESCRIPTION:
URL:https://www.landonwinery.com/event/mimosa-mania-sunday-coppell/2028-07-16/
LOCATION:Landon Winery Coppell\, 3121 Olympus Boulevard #130\, Coppell\, TX\, 75019\, United States
CATEGORIES:Sunday,Weekly
ATTACH;FMTTYPE=image/jpeg:https://www.landonwinery.com/wp-content/uploads/2025/01/Mimosa-Mania.jpg
ORGANIZER;CN="Landon Winery":MAILTO:winery@landonwinery.com
END:VEVENT
BEGIN:VEVENT
DTSTART;TZID=America/Chicago:20280719T120000
DTEND;TZID=America/Chicago:20280719T210000
DTSTAMP:20260421T162646
CREATED:20240918T012559Z
LAST-MODIFIED:20250103T180339Z
UID:10000186-1847620800-1847653200@www.landonwinery.com
SUMMARY:Wine Down Wednesday Coppell
DESCRIPTION:
URL:https://www.landonwinery.com/event/wine-down-wednesday-coppell/2028-07-19/
LOCATION:Landon Winery Coppell\, 3121 Olympus Boulevard #130\, Coppell\, TX\, 75019\, United States
CATEGORIES:Weekly,Wine Wednesday
ATTACH;FMTTYPE=image/jpeg:https://www.landonwinery.com/wp-content/uploads/2024/09/Wine-Down-Wednesday.jpg
ORGANIZER;CN="Landon Winery":MAILTO:winery@landonwinery.com
END:VEVENT
BEGIN:VEVENT
DTSTART;TZID=America/Chicago:20280723T120000
DTEND;TZID=America/Chicago:20280723T210000
DTSTAMP:20260421T162646
CREATED:20250103T192846Z
LAST-MODIFIED:20250419T141109Z
UID:10003058-1847966400-1847998800@www.landonwinery.com
SUMMARY:Mimosa Mania Sunday Coppell
DESCRIPTION:
URL:https://www.landonwinery.com/event/mimosa-mania-sunday-coppell/2028-07-23/
LOCATION:Landon Winery Coppell\, 3121 Olympus Boulevard #130\, Coppell\, TX\, 75019\, United States
CATEGORIES:Sunday,Weekly
ATTACH;FMTTYPE=image/jpeg:https://www.landonwinery.com/wp-content/uploads/2025/01/Mimosa-Mania.jpg
ORGANIZER;CN="Landon Winery":MAILTO:winery@landonwinery.com
END:VEVENT
BEGIN:VEVENT
DTSTART;TZID=America/Chicago:20280726T120000
DTEND;TZID=America/Chicago:20280726T210000
DTSTAMP:20260421T162646
CREATED:20240918T012559Z
LAST-MODIFIED:20250103T180339Z
UID:10000187-1848225600-1848258000@www.landonwinery.com
SUMMARY:Wine Down Wednesday Coppell
DESCRIPTION:
URL:https://www.landonwinery.com/event/wine-down-wednesday-coppell/2028-07-26/
LOCATION:Landon Winery Coppell\, 3121 Olympus Boulevard #130\, Coppell\, TX\, 75019\, United States
CATEGORIES:Weekly,Wine Wednesday
ATTACH;FMTTYPE=image/jpeg:https://www.landonwinery.com/wp-content/uploads/2024/09/Wine-Down-Wednesday.jpg
ORGANIZER;CN="Landon Winery":MAILTO:winery@landonwinery.com
END:VEVENT
BEGIN:VEVENT
DTSTART;TZID=America/Chicago:20280730T120000
DTEND;TZID=America/Chicago:20280730T210000
DTSTAMP:20260421T162646
CREATED:20250103T192846Z
LAST-MODIFIED:20250419T141109Z
UID:10003059-1848571200-1848603600@www.landonwinery.com
SUMMARY:Mimosa Mania Sunday Coppell
DESCRIPTION:
URL:https://www.landonwinery.com/event/mimosa-mania-sunday-coppell/2028-07-30/
LOCATION:Landon Winery Coppell\, 3121 Olympus Boulevard #130\, Coppell\, TX\, 75019\, United States
CATEGORIES:Sunday,Weekly
ATTACH;FMTTYPE=image/jpeg:https://www.landonwinery.com/wp-content/uploads/2025/01/Mimosa-Mania.jpg
ORGANIZER;CN="Landon Winery":MAILTO:winery@landonwinery.com
END:VEVENT
BEGIN:VEVENT
DTSTART;TZID=America/Chicago:20280802T120000
DTEND;TZID=America/Chicago:20280802T210000
DTSTAMP:20260421T162646
CREATED:20240918T012559Z
LAST-MODIFIED:20250103T180339Z
UID:10000188-1848830400-1848862800@www.landonwinery.com
SUMMARY:Wine Down Wednesday Coppell
DESCRIPTION:
URL:https://www.landonwinery.com/event/wine-down-wednesday-coppell/2028-08-02/
LOCATION:Landon Winery Coppell\, 3121 Olympus Boulevard #130\, Coppell\, TX\, 75019\, United States
CATEGORIES:Weekly,Wine Wednesday
ATTACH;FMTTYPE=image/jpeg:https://www.landonwinery.com/wp-content/uploads/2024/09/Wine-Down-Wednesday.jpg
ORGANIZER;CN="Landon Winery":MAILTO:winery@landonwinery.com
END:VEVENT
BEGIN:VEVENT
DTSTART;TZID=America/Chicago:20280806T120000
DTEND;TZID=America/Chicago:20280806T210000
DTSTAMP:20260421T162646
CREATED:20250103T192846Z
LAST-MODIFIED:20250419T141109Z
UID:10003060-1849176000-1849208400@www.landonwinery.com
SUMMARY:Mimosa Mania Sunday Coppell
DESCRIPTION:
URL:https://www.landonwinery.com/event/mimosa-mania-sunday-coppell/2028-08-06/
LOCATION:Landon Winery Coppell\, 3121 Olympus Boulevard #130\, Coppell\, TX\, 75019\, United States
CATEGORIES:Sunday,Weekly
ATTACH;FMTTYPE=image/jpeg:https://www.landonwinery.com/wp-content/uploads/2025/01/Mimosa-Mania.jpg
ORGANIZER;CN="Landon Winery":MAILTO:winery@landonwinery.com
END:VEVENT
BEGIN:VEVENT
DTSTART;TZID=America/Chicago:20280809T120000
DTEND;TZID=America/Chicago:20280809T210000
DTSTAMP:20260421T162646
CREATED:20240918T012559Z
LAST-MODIFIED:20250103T180339Z
UID:10000189-1849435200-1849467600@www.landonwinery.com
SUMMARY:Wine Down Wednesday Coppell
DESCRIPTION:
URL:https://www.landonwinery.com/event/wine-down-wednesday-coppell/2028-08-09/
LOCATION:Landon Winery Coppell\, 3121 Olympus Boulevard #130\, Coppell\, TX\, 75019\, United States
CATEGORIES:Weekly,Wine Wednesday
ATTACH;FMTTYPE=image/jpeg:https://www.landonwinery.com/wp-content/uploads/2024/09/Wine-Down-Wednesday.jpg
ORGANIZER;CN="Landon Winery":MAILTO:winery@landonwinery.com
END:VEVENT
BEGIN:VEVENT
DTSTART;TZID=America/Chicago:20280813T120000
DTEND;TZID=America/Chicago:20280813T210000
DTSTAMP:20260421T162646
CREATED:20250103T192846Z
LAST-MODIFIED:20250419T141109Z
UID:10003061-1849780800-1849813200@www.landonwinery.com
SUMMARY:Mimosa Mania Sunday Coppell
DESCRIPTION:
URL:https://www.landonwinery.com/event/mimosa-mania-sunday-coppell/2028-08-13/
LOCATION:Landon Winery Coppell\, 3121 Olympus Boulevard #130\, Coppell\, TX\, 75019\, United States
CATEGORIES:Sunday,Weekly
ATTACH;FMTTYPE=image/jpeg:https://www.landonwinery.com/wp-content/uploads/2025/01/Mimosa-Mania.jpg
ORGANIZER;CN="Landon Winery":MAILTO:winery@landonwinery.com
END:VEVENT
BEGIN:VEVENT
DTSTART;TZID=America/Chicago:20280816T120000
DTEND;TZID=America/Chicago:20280816T210000
DTSTAMP:20260421T162646
CREATED:20240918T012559Z
LAST-MODIFIED:20250103T180339Z
UID:10000190-1850040000-1850072400@www.landonwinery.com
SUMMARY:Wine Down Wednesday Coppell
DESCRIPTION:
URL:https://www.landonwinery.com/event/wine-down-wednesday-coppell/2028-08-16/
LOCATION:Landon Winery Coppell\, 3121 Olympus Boulevard #130\, Coppell\, TX\, 75019\, United States
CATEGORIES:Weekly,Wine Wednesday
ATTACH;FMTTYPE=image/jpeg:https://www.landonwinery.com/wp-content/uploads/2024/09/Wine-Down-Wednesday.jpg
ORGANIZER;CN="Landon Winery":MAILTO:winery@landonwinery.com
END:VEVENT
BEGIN:VEVENT
DTSTART;TZID=America/Chicago:20280820T120000
DTEND;TZID=America/Chicago:20280820T210000
DTSTAMP:20260421T162646
CREATED:20250103T192846Z
LAST-MODIFIED:20250419T141109Z
UID:10003062-1850385600-1850418000@www.landonwinery.com
SUMMARY:Mimosa Mania Sunday Coppell
DESCRIPTION:
URL:https://www.landonwinery.com/event/mimosa-mania-sunday-coppell/2028-08-20/
LOCATION:Landon Winery Coppell\, 3121 Olympus Boulevard #130\, Coppell\, TX\, 75019\, United States
CATEGORIES:Sunday,Weekly
ATTACH;FMTTYPE=image/jpeg:https://www.landonwinery.com/wp-content/uploads/2025/01/Mimosa-Mania.jpg
ORGANIZER;CN="Landon Winery":MAILTO:winery@landonwinery.com
END:VEVENT
END:VCALENDAR