BEGIN:VCALENDAR
VERSION:2.0
PRODID:-//Landon Winery - ECPv6.15.18//NONSGML v1.0//EN
CALSCALE:GREGORIAN
METHOD:PUBLISH
X-WR-CALNAME:Landon Winery
X-ORIGINAL-URL:https://www.landonwinery.com
X-WR-CALDESC:Events for Landon Winery
REFRESH-INTERVAL;VALUE=DURATION:PT1H
X-Robots-Tag:noindex
X-PUBLISHED-TTL:PT1H
BEGIN:VTIMEZONE
TZID:America/Chicago
BEGIN:DAYLIGHT
TZOFFSETFROM:-0600
TZOFFSETTO:-0500
TZNAME:CDT
DTSTART:20240310T080000
END:DAYLIGHT
BEGIN:STANDARD
TZOFFSETFROM:-0500
TZOFFSETTO:-0600
TZNAME:CST
DTSTART:20241103T070000
END:STANDARD
BEGIN:DAYLIGHT
TZOFFSETFROM:-0600
TZOFFSETTO:-0500
TZNAME:CDT
DTSTART:20250309T080000
END:DAYLIGHT
BEGIN:STANDARD
TZOFFSETFROM:-0500
TZOFFSETTO:-0600
TZNAME:CST
DTSTART:20251102T070000
END:STANDARD
BEGIN:DAYLIGHT
TZOFFSETFROM:-0600
TZOFFSETTO:-0500
TZNAME:CDT
DTSTART:20260308T080000
END:DAYLIGHT
BEGIN:STANDARD
TZOFFSETFROM:-0500
TZOFFSETTO:-0600
TZNAME:CST
DTSTART:20261101T070000
END:STANDARD
END:VTIMEZONE
BEGIN:VEVENT
DTSTART;TZID=America/Chicago:20250413T140000
DTEND;TZID=America/Chicago:20250413T170000
DTSTAMP:20260421T202832
CREATED:20250327T134157Z
LAST-MODIFIED:20250327T134157Z
UID:10008149-1744552800-1744563600@www.landonwinery.com
SUMMARY:Spring Beauty Bash! Landon Wylie
DESCRIPTION:
URL:https://www.landonwinery.com/event/spring-beauty-bash-landon-wylie/
LOCATION:Landon Winery Wylie\, 103 N Ballard Ave\, Wylie\, TX\, 75098\, United States
CATEGORIES:Beauty Bash
ATTACH;FMTTYPE=image/jpeg:https://www.landonwinery.com/wp-content/uploads/2025/03/Beauty-Bash.jpg
ORGANIZER;CN="Landon Winery":MAILTO:winery@landonwinery.com
END:VEVENT
BEGIN:VEVENT
DTSTART;TZID=America/Chicago:20250415T183000
DTEND;TZID=America/Chicago:20250415T200000
DTSTAMP:20260421T202832
CREATED:20250319T134904Z
LAST-MODIFIED:20250319T140010Z
UID:10008146-1744741800-1744747200@www.landonwinery.com
SUMMARY:Paint Night @Landon Winery Wylie
DESCRIPTION:
URL:https://www.landonwinery.com/event/paint-night-landon-winery-wylie/
LOCATION:Landon Winery Wylie\, 103 N Ballard Ave\, Wylie\, TX\, 75098\, United States
CATEGORIES:Painting
ATTACH;FMTTYPE=image/jpeg:https://www.landonwinery.com/wp-content/uploads/2025/03/Painting-Wylie-Snail.jpg
ORGANIZER;CN="Landon Winery":MAILTO:winery@landonwinery.com
END:VEVENT
BEGIN:VEVENT
DTSTART;TZID=America/Chicago:20250417T180000
DTEND;TZID=America/Chicago:20250417T210000
DTSTAMP:20260421T202832
CREATED:20250113T172641Z
LAST-MODIFIED:20250312T190056Z
UID:10007308-1744912800-1744923600@www.landonwinery.com
SUMMARY:Wine Club Pick Up Party Grapevine
DESCRIPTION:
URL:https://www.landonwinery.com/event/wine-club-pick-up-party-grapevine-2/
LOCATION:Landon Winery Grapevine\, 415 S. Main St.\, Grapevine\, TX\, 76051\, United States
CATEGORIES:Pick Up Party,Thursday
ATTACH;FMTTYPE=image/jpeg:https://www.landonwinery.com/wp-content/uploads/2025/01/April-Wine-Club.jpg
ORGANIZER;CN="Landon Winery":MAILTO:winery@landonwinery.com
END:VEVENT
BEGIN:VEVENT
DTSTART;TZID=America/Chicago:20250417T183000
DTEND;TZID=America/Chicago:20250417T200000
DTSTAMP:20260421T202832
CREATED:20250319T135707Z
LAST-MODIFIED:20250319T135707Z
UID:10008148-1744914600-1744920000@www.landonwinery.com
SUMMARY:Paint Night @ Landon Winery McKinney
DESCRIPTION:
URL:https://www.landonwinery.com/event/paint-night-landon-winery-mckinney/
LOCATION:Landon Winery McKinney\, 101 N Kentucky St.\, McKinney\, TX\, 75069\, United States
CATEGORIES:Painting
ATTACH;FMTTYPE=image/jpeg:https://www.landonwinery.com/wp-content/uploads/2025/03/Painting-McKinney-Snail.jpg
ORGANIZER;CN="Landon Winery":MAILTO:winery@landonwinery.com
END:VEVENT
BEGIN:VEVENT
DTSTART;TZID=America/Chicago:20250419T130000
DTEND;TZID=America/Chicago:20250419T160000
DTSTAMP:20260421T202832
CREATED:20250113T172752Z
LAST-MODIFIED:20250312T190017Z
UID:10007309-1745067600-1745078400@www.landonwinery.com
SUMMARY:Wine Club Pick Up Party Denison
DESCRIPTION:
URL:https://www.landonwinery.com/event/wine-club-pick-up-party-denison-2/
LOCATION:Landon Winery Denison\, 318 W Main St.\, Denison\, TX\, 75020\, United States
CATEGORIES:Pick Up Party,Saturday
ATTACH;FMTTYPE=image/jpeg:https://www.landonwinery.com/wp-content/uploads/2025/01/April-Wine-Club.jpg
ORGANIZER;CN="Landon Winery":MAILTO:winery@landonwinery.com
END:VEVENT
END:VCALENDAR