BEGIN:VCALENDAR
VERSION:2.0
PRODID:-//Landon Winery - ECPv6.15.18//NONSGML v1.0//EN
CALSCALE:GREGORIAN
METHOD:PUBLISH
X-WR-CALNAME:Landon Winery
X-ORIGINAL-URL:https://www.landonwinery.com
X-WR-CALDESC:Events for Landon Winery
REFRESH-INTERVAL;VALUE=DURATION:PT1H
X-Robots-Tag:noindex
X-PUBLISHED-TTL:PT1H
BEGIN:VTIMEZONE
TZID:America/Chicago
BEGIN:DAYLIGHT
TZOFFSETFROM:-0600
TZOFFSETTO:-0500
TZNAME:CDT
DTSTART:20250309T080000
END:DAYLIGHT
BEGIN:STANDARD
TZOFFSETFROM:-0500
TZOFFSETTO:-0600
TZNAME:CST
DTSTART:20251102T070000
END:STANDARD
BEGIN:DAYLIGHT
TZOFFSETFROM:-0600
TZOFFSETTO:-0500
TZNAME:CDT
DTSTART:20260308T080000
END:DAYLIGHT
BEGIN:STANDARD
TZOFFSETFROM:-0500
TZOFFSETTO:-0600
TZNAME:CST
DTSTART:20261101T070000
END:STANDARD
BEGIN:DAYLIGHT
TZOFFSETFROM:-0600
TZOFFSETTO:-0500
TZNAME:CDT
DTSTART:20270314T080000
END:DAYLIGHT
BEGIN:STANDARD
TZOFFSETFROM:-0500
TZOFFSETTO:-0600
TZNAME:CST
DTSTART:20271107T070000
END:STANDARD
END:VTIMEZONE
BEGIN:VEVENT
DTSTART;TZID=America/Chicago:20260427T180000
DTEND;TZID=America/Chicago:20260427T203000
DTSTAMP:20260425T201544
CREATED:20260223T150140Z
LAST-MODIFIED:20260223T150249Z
UID:10011019-1777312800-1777321800@www.landonwinery.com
SUMMARY:Mahjong Monday Wylie
DESCRIPTION:
URL:https://www.landonwinery.com/event/mahjong-monday-wylie-2/2026-04-27/
LOCATION:Landon Winery Wylie\, 103 N Ballard Ave\, Wylie\, TX\, 75098\, United States
CATEGORIES:Mahjong
ATTACH;FMTTYPE=image/jpeg:https://www.landonwinery.com/wp-content/uploads/2026/02/mahjong-wylie.jpg
ORGANIZER;CN="Landon Winery":MAILTO:winery@landonwinery.com
END:VEVENT
BEGIN:VEVENT
DTSTART;TZID=America/Chicago:20260428T180000
DTEND;TZID=America/Chicago:20260428T210000
DTSTAMP:20260425T201544
CREATED:20260413T140229Z
LAST-MODIFIED:20260413T140229Z
UID:10012853-1777399200-1777410000@www.landonwinery.com
SUMMARY:Sip\, Savor\, & Create Wood Workshop Wylie
DESCRIPTION:
URL:https://www.landonwinery.com/event/sip-savor-create-wood-workshop-wylie/
LOCATION:Landon Winery Wylie\, 103 N Ballard Ave\, Wylie\, TX\, 75098\, United States
CATEGORIES:Charcuterie Board
ATTACH;FMTTYPE=image/jpeg:https://www.landonwinery.com/wp-content/uploads/2026/04/Wood-Workshop.jpg
ORGANIZER;CN="Landon Winery":MAILTO:winery@landonwinery.com
END:VEVENT
BEGIN:VEVENT
DTSTART;TZID=America/Chicago:20260430T183000
DTEND;TZID=America/Chicago:20260430T203000
DTSTAMP:20260425T201544
CREATED:20260324T125606Z
LAST-MODIFIED:20260324T125606Z
UID:10012008-1777573800-1777581000@www.landonwinery.com
SUMMARY:Sip Paint Plant: A Flower Pot Painting Workshop Coppell
DESCRIPTION:
URL:https://www.landonwinery.com/event/sip-paint-plant-a-flower-pot-painting-workshop-coppell/
LOCATION:Landon Winery Coppell\, 3121 Olympus Boulevard #130\, Coppell\, TX\, 75019\, United States
ATTACH;FMTTYPE=image/jpeg:https://www.landonwinery.com/wp-content/uploads/2026/03/Flower-Pot.jpg
ORGANIZER;CN="Landon Winery":MAILTO:winery@landonwinery.com
END:VEVENT
BEGIN:VEVENT
DTSTART;TZID=America/Chicago:20260501T190000
DTEND;TZID=America/Chicago:20260501T203000
DTSTAMP:20260425T201544
CREATED:20260409T130733Z
LAST-MODIFIED:20260409T130733Z
UID:10012824-1777662000-1777667400@www.landonwinery.com
SUMMARY:Winery Comedy Tour Coppell
DESCRIPTION:
URL:https://www.landonwinery.com/event/winery-comedy-tour-coppell-2/2026-05-01/
LOCATION:Landon Winery Coppell\, 3121 Olympus Boulevard #130\, Coppell\, TX\, 75019\, United States
CATEGORIES:Comedy Night
ATTACH;FMTTYPE=image/jpeg:https://www.landonwinery.com/wp-content/uploads/2026/02/Comedy-Night.jpg
ORGANIZER;CN="Landon Winery":MAILTO:winery@landonwinery.com
END:VEVENT
BEGIN:VEVENT
DTSTART;TZID=America/Chicago:20260502T120000
DTEND;TZID=America/Chicago:20260502T210000
DTSTAMP:20260425T201544
CREATED:20260207T143713Z
LAST-MODIFIED:20260324T130635Z
UID:10012011-1777723200-1777755600@www.landonwinery.com
SUMMARY:Cousins Maine Lobster Wylie
DESCRIPTION:
URL:https://www.landonwinery.com/event/cousins-maine-lobster-wylie-6/2026-05-02/
LOCATION:Landon Winery Wylie\, 103 N Ballard Ave\, Wylie\, TX\, 75098\, United States
CATEGORIES:Lobster Food Truck
ATTACH;FMTTYPE=image/jpeg:https://www.landonwinery.com/wp-content/uploads/2025/06/Cousins-Maine-1.jpg
ORGANIZER;CN="Landon Winery":MAILTO:winery@landonwinery.com
END:VEVENT
BEGIN:VEVENT
DTSTART;TZID=America/Chicago:20260502T160000
DTEND;TZID=America/Chicago:20260502T200000
DTSTAMP:20260425T201544
CREATED:20251222T180254Z
LAST-MODIFIED:20251222T180254Z
UID:10010683-1777737600-1777752000@www.landonwinery.com
SUMMARY:Wine Dine Vendor Time Denison
DESCRIPTION:
URL:https://www.landonwinery.com/event/wine-dine-vendor-time-denison/2026-05-02/
LOCATION:Landon Winery Denison\, 318 W Main St.\, Denison\, TX\, 75020\, United States
CATEGORIES:Vendor Event
ATTACH;FMTTYPE=image/jpeg:https://www.landonwinery.com/wp-content/uploads/2025/12/Calleys-Chaos-Denison.jpg
ORGANIZER;CN="Landon Winery":MAILTO:winery@landonwinery.com
END:VEVENT
END:VCALENDAR