BEGIN:VCALENDAR
VERSION:2.0
PRODID:-//Landon Winery - ECPv6.15.18//NONSGML v1.0//EN
CALSCALE:GREGORIAN
METHOD:PUBLISH
X-WR-CALNAME:Landon Winery
X-ORIGINAL-URL:https://www.landonwinery.com
X-WR-CALDESC:Events for Landon Winery
REFRESH-INTERVAL;VALUE=DURATION:PT1H
X-Robots-Tag:noindex
X-PUBLISHED-TTL:PT1H
BEGIN:VTIMEZONE
TZID:America/Chicago
BEGIN:DAYLIGHT
TZOFFSETFROM:-0600
TZOFFSETTO:-0500
TZNAME:CDT
DTSTART:20240310T080000
END:DAYLIGHT
BEGIN:STANDARD
TZOFFSETFROM:-0500
TZOFFSETTO:-0600
TZNAME:CST
DTSTART:20241103T070000
END:STANDARD
BEGIN:DAYLIGHT
TZOFFSETFROM:-0600
TZOFFSETTO:-0500
TZNAME:CDT
DTSTART:20250309T080000
END:DAYLIGHT
BEGIN:STANDARD
TZOFFSETFROM:-0500
TZOFFSETTO:-0600
TZNAME:CST
DTSTART:20251102T070000
END:STANDARD
BEGIN:DAYLIGHT
TZOFFSETFROM:-0600
TZOFFSETTO:-0500
TZNAME:CDT
DTSTART:20260308T080000
END:DAYLIGHT
BEGIN:STANDARD
TZOFFSETFROM:-0500
TZOFFSETTO:-0600
TZNAME:CST
DTSTART:20261101T070000
END:STANDARD
END:VTIMEZONE
BEGIN:VEVENT
DTSTART;TZID=America/Chicago:20251209T183000
DTEND;TZID=America/Chicago:20251209T203000
DTSTAMP:20260422T193103
CREATED:20251120T152316Z
LAST-MODIFIED:20251120T152316Z
UID:10010650-1765305000-1765312200@www.landonwinery.com
SUMMARY:Naughty Santa! Sip n Paint Wylie
DESCRIPTION:
URL:https://www.landonwinery.com/event/naughty-santa-sip-n-paint-wylie/
LOCATION:Landon Winery Wylie\, 103 N Ballard Ave\, Wylie\, TX\, 75098\, United States
CATEGORIES:Wine Glass Painting
ATTACH;FMTTYPE=image/jpeg:https://www.landonwinery.com/wp-content/uploads/2025/11/Naughty-Santa.jpg
ORGANIZER;CN="Landon Winery":MAILTO:winery@landonwinery.com
END:VEVENT
BEGIN:VEVENT
DTSTART;TZID=America/Chicago:20251210T190000
DTEND;TZID=America/Chicago:20251210T203000
DTSTAMP:20260422T193103
CREATED:20250919T151525Z
LAST-MODIFIED:20250919T151531Z
UID:10009826-1765393200-1765398600@www.landonwinery.com
SUMMARY:Trivia at Red Dirt Cellars
DESCRIPTION:
URL:https://www.landonwinery.com/event/trivia-at-red-dirt-cellars-2/2025-12-10/
LOCATION:Sloan & Williams Winery Grapevine\, 401 S Main St\, Grapevine\, 76051\, United States
CATEGORIES:Trivia Night,Wednesday,Weekly
ATTACH;FMTTYPE=image/jpeg:https://www.landonwinery.com/wp-content/uploads/2025/09/Trivia-RDC.jpg
ORGANIZER;CN="Sloan & Williams Winery":MAILTO:sloanwilliams@landonwinery.com
END:VEVENT
BEGIN:VEVENT
DTSTART;TZID=America/Chicago:20251211T180000
DTEND;TZID=America/Chicago:20251211T210000
DTSTAMP:20260422T193103
CREATED:20251117T194124Z
LAST-MODIFIED:20251201T034014Z
UID:10010645-1765476000-1765486800@www.landonwinery.com
SUMMARY:December Wine Club Pick Up Party Coppell
DESCRIPTION:
URL:https://www.landonwinery.com/event/december-wine-club-pick-up-party-4/
LOCATION:Landon Winery Coppell\, 3121 Olympus Boulevard #130\, Coppell\, TX\, 75019\, United States
CATEGORIES:Pick Up Party
ATTACH;FMTTYPE=image/jpeg:https://www.landonwinery.com/wp-content/uploads/2025/11/December-wine-club.jpg
ORGANIZER;CN="Landon Winery":MAILTO:winery@landonwinery.com
END:VEVENT
BEGIN:VEVENT
DTSTART;TZID=America/Chicago:20251212T183000
DTEND;TZID=America/Chicago:20251212T200000
DTSTAMP:20260422T193103
CREATED:20251008T173627Z
LAST-MODIFIED:20251008T173627Z
UID:10010622-1765564200-1765569600@www.landonwinery.com
SUMMARY:True Crime and Wine: A Cup of Murder McKinney
DESCRIPTION:
URL:https://www.landonwinery.com/event/true-crime-and-wine-a-cup-of-murder-mckinney/
LOCATION:Landon Winery McKinney\, 101 N Kentucky St.\, McKinney\, TX\, 75069\, United States
CATEGORIES:True Crime
ATTACH;FMTTYPE=image/jpeg:https://www.landonwinery.com/wp-content/uploads/2025/10/True-Crime-Nov-Dec.jpg
ORGANIZER;CN="Landon Winery":MAILTO:winery@landonwinery.com
END:VEVENT
BEGIN:VEVENT
DTSTART;TZID=America/Chicago:20251212T190000
DTEND;TZID=America/Chicago:20251212T203000
DTSTAMP:20260422T193103
CREATED:20251202T234107Z
LAST-MODIFIED:20251202T234107Z
UID:10010651-1765566000-1765571400@www.landonwinery.com
SUMMARY:Comedy Night at Landon Wylie
DESCRIPTION:
URL:https://www.landonwinery.com/event/comedy-night-at-landon-wylie/
LOCATION:Landon Winery Wylie\, 103 N Ballard Ave\, Wylie\, TX\, 75098\, United States
CATEGORIES:Comedy Night
ATTACH;FMTTYPE=image/jpeg:https://www.landonwinery.com/wp-content/uploads/2025/12/Comedy-December.jpg
ORGANIZER;CN="Landon Winery":MAILTO:winery@landonwinery.com
END:VEVENT
BEGIN:VEVENT
DTSTART;TZID=America/Chicago:20251213T120000
DTEND;TZID=America/Chicago:20251213T160000
DTSTAMP:20260422T193103
CREATED:20251117T193709Z
LAST-MODIFIED:20251201T033252Z
UID:10010643-1765627200-1765641600@www.landonwinery.com
SUMMARY:December Wine Club Pick Up Party
DESCRIPTION:
URL:https://www.landonwinery.com/event/december-wine-club-pick-up-party-2/
LOCATION:Landon Winery Wylie\, 103 N Ballard Ave\, Wylie\, TX\, 75098\, United States
CATEGORIES:Pick Up Party
ATTACH;FMTTYPE=image/jpeg:https://www.landonwinery.com/wp-content/uploads/2025/11/December-wine-club.jpg
ORGANIZER;CN="Landon Winery":MAILTO:winery@landonwinery.com
END:VEVENT
BEGIN:VEVENT
DTSTART;TZID=America/Chicago:20251213T190000
DTEND;TZID=America/Chicago:20251213T203000
DTSTAMP:20260422T193103
CREATED:20251203T021207Z
LAST-MODIFIED:20251203T021207Z
UID:10010655-1765652400-1765657800@www.landonwinery.com
SUMMARY:Comedy Tour Landon Gainesville
DESCRIPTION:
URL:https://www.landonwinery.com/event/comedy-tour-landon-gainesville/
LOCATION:Landon Winery Gainesville\, 201 W California St.\, Gainesville\, TX\, 76240\, United States
CATEGORIES:Comedy Night
ATTACH;FMTTYPE=image/jpeg:https://www.landonwinery.com/wp-content/uploads/2025/12/Comedy-December.jpg
ORGANIZER;CN="Landon Winery":MAILTO:winery@landonwinery.com
END:VEVENT
END:VCALENDAR