BEGIN:VCALENDAR
VERSION:2.0
PRODID:-//Landon Winery - ECPv6.15.18//NONSGML v1.0//EN
CALSCALE:GREGORIAN
METHOD:PUBLISH
X-ORIGINAL-URL:https://www.landonwinery.com
X-WR-CALDESC:Events for Landon Winery
REFRESH-INTERVAL;VALUE=DURATION:PT1H
X-Robots-Tag:noindex
X-PUBLISHED-TTL:PT1H
BEGIN:VTIMEZONE
TZID:America/Chicago
BEGIN:DAYLIGHT
TZOFFSETFROM:-0600
TZOFFSETTO:-0500
TZNAME:CDT
DTSTART:20250309T080000
END:DAYLIGHT
BEGIN:STANDARD
TZOFFSETFROM:-0500
TZOFFSETTO:-0600
TZNAME:CST
DTSTART:20251102T070000
END:STANDARD
BEGIN:DAYLIGHT
TZOFFSETFROM:-0600
TZOFFSETTO:-0500
TZNAME:CDT
DTSTART:20260308T080000
END:DAYLIGHT
BEGIN:STANDARD
TZOFFSETFROM:-0500
TZOFFSETTO:-0600
TZNAME:CST
DTSTART:20261101T070000
END:STANDARD
BEGIN:DAYLIGHT
TZOFFSETFROM:-0600
TZOFFSETTO:-0500
TZNAME:CDT
DTSTART:20270314T080000
END:DAYLIGHT
BEGIN:STANDARD
TZOFFSETFROM:-0500
TZOFFSETTO:-0600
TZNAME:CST
DTSTART:20271107T070000
END:STANDARD
BEGIN:DAYLIGHT
TZOFFSETFROM:-0600
TZOFFSETTO:-0500
TZNAME:CDT
DTSTART:20280312T080000
END:DAYLIGHT
BEGIN:STANDARD
TZOFFSETFROM:-0500
TZOFFSETTO:-0600
TZNAME:CST
DTSTART:20281105T070000
END:STANDARD
BEGIN:DAYLIGHT
TZOFFSETFROM:-0600
TZOFFSETTO:-0500
TZNAME:CDT
DTSTART:20290311T080000
END:DAYLIGHT
BEGIN:STANDARD
TZOFFSETFROM:-0500
TZOFFSETTO:-0600
TZNAME:CST
DTSTART:20291104T070000
END:STANDARD
BEGIN:DAYLIGHT
TZOFFSETFROM:-0600
TZOFFSETTO:-0500
TZNAME:CDT
DTSTART:20300310T080000
END:DAYLIGHT
BEGIN:STANDARD
TZOFFSETFROM:-0500
TZOFFSETTO:-0600
TZNAME:CST
DTSTART:20301103T070000
END:STANDARD
BEGIN:DAYLIGHT
TZOFFSETFROM:-0600
TZOFFSETTO:-0500
TZNAME:CDT
DTSTART:20310309T080000
END:DAYLIGHT
BEGIN:STANDARD
TZOFFSETFROM:-0500
TZOFFSETTO:-0600
TZNAME:CST
DTSTART:20311102T070000
END:STANDARD
END:VTIMEZONE
BEGIN:VEVENT
DTSTART;TZID=America/Chicago:20260404T190000
DTEND;TZID=America/Chicago:20300404T210000
DTSTAMP:20260420T120329
CREATED:20260401T040554Z
LAST-MODIFIED:20260401T040617Z
UID:10010103-1775329200-1901566800@www.landonwinery.com
SUMMARY:Music Bingo Denison
DESCRIPTION:
URL:https://www.landonwinery.com/event/music-bingo-denison-2-2-2/2026-04-04/
LOCATION:Landon Winery Denison\, 318 W Main St.\, Denison\, TX\, 75020\, United States
CATEGORIES:Music Bingo,Weekly
ATTACH;FMTTYPE=image/jpeg:https://www.landonwinery.com/wp-content/uploads/2025/08/Bingo-Denison.jpg
ORGANIZER;CN="Landon Winery":MAILTO:winery@landonwinery.com
END:VEVENT
BEGIN:VEVENT
DTSTART;TZID=America/Chicago:20260411T190000
DTEND;TZID=America/Chicago:20300411T210000
DTSTAMP:20260420T120329
CREATED:20260401T040554Z
LAST-MODIFIED:20260401T040617Z
UID:10012301-1775934000-1902171600@www.landonwinery.com
SUMMARY:Music Bingo Denison
DESCRIPTION:
URL:https://www.landonwinery.com/event/music-bingo-denison-2-2-2/2026-04-11/
LOCATION:Landon Winery Denison\, 318 W Main St.\, Denison\, TX\, 75020\, United States
CATEGORIES:Music Bingo,Weekly
ATTACH;FMTTYPE=image/jpeg:https://www.landonwinery.com/wp-content/uploads/2025/08/Bingo-Denison.jpg
ORGANIZER;CN="Landon Winery":MAILTO:winery@landonwinery.com
END:VEVENT
BEGIN:VEVENT
DTSTART;TZID=America/Chicago:20260418T190000
DTEND;TZID=America/Chicago:20300418T210000
DTSTAMP:20260420T120329
CREATED:20260401T040554Z
LAST-MODIFIED:20260401T040617Z
UID:10012302-1776538800-1902776400@www.landonwinery.com
SUMMARY:Music Bingo Denison
DESCRIPTION:
URL:https://www.landonwinery.com/event/music-bingo-denison-2-2-2/2026-04-18/
LOCATION:Landon Winery Denison\, 318 W Main St.\, Denison\, TX\, 75020\, United States
CATEGORIES:Music Bingo,Weekly
ATTACH;FMTTYPE=image/jpeg:https://www.landonwinery.com/wp-content/uploads/2025/08/Bingo-Denison.jpg
ORGANIZER;CN="Landon Winery":MAILTO:winery@landonwinery.com
END:VEVENT
BEGIN:VEVENT
DTSTART;TZID=America/Chicago:20260425T140000
DTEND;TZID=America/Chicago:20260425T153000
DTSTAMP:20260420T120329
CREATED:20260302T153048Z
LAST-MODIFIED:20260302T153048Z
UID:10011095-1777125600-1777131000@www.landonwinery.com
SUMMARY:Sip & Pour Candle Making Workshop! and Pop-Up Shop McKinney
DESCRIPTION:
URL:https://www.landonwinery.com/event/sip-pour-candle-making-workshop-and-pop-up-shop-mckinney/
LOCATION:Landon Winery McKinney\, 101 N Kentucky St.\, McKinney\, TX\, 75069\, United States
CATEGORIES:Candle Pouring,Pop Up
ATTACH;FMTTYPE=image/jpeg:https://www.landonwinery.com/wp-content/uploads/2026/02/Candle-Pouring.jpg
ORGANIZER;CN="Landon Winery":MAILTO:winery@landonwinery.com
END:VEVENT
BEGIN:VEVENT
DTSTART;TZID=America/Chicago:20260425T140000
DTEND;TZID=America/Chicago:20260425T180000
DTSTAMP:20260420T120329
CREATED:20260211T185951Z
LAST-MODIFIED:20260211T185951Z
UID:10011065-1777125600-1777140000@www.landonwinery.com
SUMMARY:Uncorked Artisan Market Wylie
DESCRIPTION:
URL:https://www.landonwinery.com/event/uncorked-artisan-market-wylie/
LOCATION:Landon Winery Wylie\, 103 N Ballard Ave\, Wylie\, TX\, 75098\, United States
CATEGORIES:Artisan Market
ATTACH;FMTTYPE=image/jpeg:https://www.landonwinery.com/wp-content/uploads/2026/02/uncorked.jpg
ORGANIZER;CN="Landon Winery":MAILTO:winery@landonwinery.com
END:VEVENT
BEGIN:VEVENT
DTSTART;TZID=America/Chicago:20260425T190000
DTEND;TZID=America/Chicago:20300425T210000
DTSTAMP:20260420T120329
CREATED:20260401T040554Z
LAST-MODIFIED:20260401T040617Z
UID:10012303-1777143600-1903381200@www.landonwinery.com
SUMMARY:Music Bingo Denison
DESCRIPTION:
URL:https://www.landonwinery.com/event/music-bingo-denison-2-2-2/2026-04-25/
LOCATION:Landon Winery Denison\, 318 W Main St.\, Denison\, TX\, 75020\, United States
CATEGORIES:Music Bingo,Weekly
ATTACH;FMTTYPE=image/jpeg:https://www.landonwinery.com/wp-content/uploads/2025/08/Bingo-Denison.jpg
ORGANIZER;CN="Landon Winery":MAILTO:winery@landonwinery.com
END:VEVENT
BEGIN:VEVENT
DTSTART;TZID=America/Chicago:20260426T140000
DTEND;TZID=America/Chicago:20260426T153000
DTSTAMP:20260420T120329
CREATED:20260301T175731Z
LAST-MODIFIED:20260301T175731Z
UID:10011092-1777212000-1777217400@www.landonwinery.com
SUMMARY:Sip & Pour Candle Making Workshop! and Pop-Up Shop Red Dirt Cellars
DESCRIPTION:
URL:https://www.landonwinery.com/event/sip-pour-candle-making-workshop-and-pop-up-shop-red-dirt-cellars/
LOCATION:Sloan & Williams Winery Grapevine\, 401 S Main St\, Grapevine\, 76051\, United States
CATEGORIES:Candle Pouring
ATTACH;FMTTYPE=image/jpeg:https://www.landonwinery.com/wp-content/uploads/2026/02/Candle-Pouring.jpg
ORGANIZER;CN="Sloan & Williams Winery":MAILTO:sloanwilliams@landonwinery.com
END:VEVENT
BEGIN:VEVENT
DTSTART;TZID=America/Chicago:20260426T140000
DTEND;TZID=America/Chicago:20260426T160000
DTSTAMP:20260420T120329
CREATED:20260223T145426Z
LAST-MODIFIED:20260223T145426Z
UID:10011086-1777212000-1777219200@www.landonwinery.com
SUMMARY:Create Your own Welcome Mat Gainesville
DESCRIPTION:
URL:https://www.landonwinery.com/event/create-your-own-welcome-mat-gainesville/
LOCATION:Landon Winery Gainesville\, 201 W California St.\, Gainesville\, TX\, 76240\, United States
CATEGORIES:Doormat Painting
ATTACH;FMTTYPE=image/jpeg:https://www.landonwinery.com/wp-content/uploads/2026/02/Doormat-WS.jpg
ORGANIZER;CN="Landon Winery":MAILTO:winery@landonwinery.com
END:VEVENT
BEGIN:VEVENT
DTSTART;TZID=America/Chicago:20260428T180000
DTEND;TZID=America/Chicago:20260428T210000
DTSTAMP:20260420T120329
CREATED:20260413T140229Z
LAST-MODIFIED:20260413T140229Z
UID:10012853-1777399200-1777410000@www.landonwinery.com
SUMMARY:Sip\, Savor\, & Create Wood Workshop Wylie
DESCRIPTION:
URL:https://www.landonwinery.com/event/sip-savor-create-wood-workshop-wylie/
LOCATION:Landon Winery Wylie\, 103 N Ballard Ave\, Wylie\, TX\, 75098\, United States
CATEGORIES:Charcuterie Board
ATTACH;FMTTYPE=image/jpeg:https://www.landonwinery.com/wp-content/uploads/2026/04/Wood-Workshop.jpg
ORGANIZER;CN="Landon Winery":MAILTO:winery@landonwinery.com
END:VEVENT
END:VCALENDAR