BEGIN:VCALENDAR
VERSION:2.0
PRODID:-//Landon Winery - ECPv6.15.18//NONSGML v1.0//EN
CALSCALE:GREGORIAN
METHOD:PUBLISH
X-ORIGINAL-URL:https://www.landonwinery.com
X-WR-CALDESC:Events for Landon Winery
REFRESH-INTERVAL;VALUE=DURATION:PT1H
X-Robots-Tag:noindex
X-PUBLISHED-TTL:PT1H
BEGIN:VTIMEZONE
TZID:America/Chicago
BEGIN:DAYLIGHT
TZOFFSETFROM:-0600
TZOFFSETTO:-0500
TZNAME:CDT
DTSTART:20250309T080000
END:DAYLIGHT
BEGIN:STANDARD
TZOFFSETFROM:-0500
TZOFFSETTO:-0600
TZNAME:CST
DTSTART:20251102T070000
END:STANDARD
BEGIN:DAYLIGHT
TZOFFSETFROM:-0600
TZOFFSETTO:-0500
TZNAME:CDT
DTSTART:20260308T080000
END:DAYLIGHT
BEGIN:STANDARD
TZOFFSETFROM:-0500
TZOFFSETTO:-0600
TZNAME:CST
DTSTART:20261101T070000
END:STANDARD
BEGIN:DAYLIGHT
TZOFFSETFROM:-0600
TZOFFSETTO:-0500
TZNAME:CDT
DTSTART:20270314T080000
END:DAYLIGHT
BEGIN:STANDARD
TZOFFSETFROM:-0500
TZOFFSETTO:-0600
TZNAME:CST
DTSTART:20271107T070000
END:STANDARD
BEGIN:DAYLIGHT
TZOFFSETFROM:-0600
TZOFFSETTO:-0500
TZNAME:CDT
DTSTART:20280312T080000
END:DAYLIGHT
BEGIN:STANDARD
TZOFFSETFROM:-0500
TZOFFSETTO:-0600
TZNAME:CST
DTSTART:20281105T070000
END:STANDARD
BEGIN:DAYLIGHT
TZOFFSETFROM:-0600
TZOFFSETTO:-0500
TZNAME:CDT
DTSTART:20290311T080000
END:DAYLIGHT
BEGIN:STANDARD
TZOFFSETFROM:-0500
TZOFFSETTO:-0600
TZNAME:CST
DTSTART:20291104T070000
END:STANDARD
BEGIN:DAYLIGHT
TZOFFSETFROM:-0600
TZOFFSETTO:-0500
TZNAME:CDT
DTSTART:20300310T080000
END:DAYLIGHT
BEGIN:STANDARD
TZOFFSETFROM:-0500
TZOFFSETTO:-0600
TZNAME:CST
DTSTART:20301103T070000
END:STANDARD
BEGIN:DAYLIGHT
TZOFFSETFROM:-0600
TZOFFSETTO:-0500
TZNAME:CDT
DTSTART:20310309T080000
END:DAYLIGHT
BEGIN:STANDARD
TZOFFSETFROM:-0500
TZOFFSETTO:-0600
TZNAME:CST
DTSTART:20311102T070000
END:STANDARD
END:VTIMEZONE
BEGIN:VEVENT
DTSTART;TZID=America/Chicago:20260404T190000
DTEND;TZID=America/Chicago:20300404T210000
DTSTAMP:20260423T215111
CREATED:20260401T040554Z
LAST-MODIFIED:20260401T040617Z
UID:10010103-1775329200-1901566800@www.landonwinery.com
SUMMARY:Music Bingo Denison
DESCRIPTION:
URL:https://www.landonwinery.com/event/music-bingo-denison-2-2-2/2026-04-04/
LOCATION:Landon Winery Denison\, 318 W Main St.\, Denison\, TX\, 75020\, United States
CATEGORIES:Music Bingo,Weekly
ATTACH;FMTTYPE=image/jpeg:https://www.landonwinery.com/wp-content/uploads/2025/08/Bingo-Denison.jpg
ORGANIZER;CN="Landon Winery":MAILTO:winery@landonwinery.com
END:VEVENT
BEGIN:VEVENT
DTSTART;TZID=America/Chicago:20260411T190000
DTEND;TZID=America/Chicago:20300411T210000
DTSTAMP:20260423T215111
CREATED:20260401T040554Z
LAST-MODIFIED:20260401T040617Z
UID:10012301-1775934000-1902171600@www.landonwinery.com
SUMMARY:Music Bingo Denison
DESCRIPTION:
URL:https://www.landonwinery.com/event/music-bingo-denison-2-2-2/2026-04-11/
LOCATION:Landon Winery Denison\, 318 W Main St.\, Denison\, TX\, 75020\, United States
CATEGORIES:Music Bingo,Weekly
ATTACH;FMTTYPE=image/jpeg:https://www.landonwinery.com/wp-content/uploads/2025/08/Bingo-Denison.jpg
ORGANIZER;CN="Landon Winery":MAILTO:winery@landonwinery.com
END:VEVENT
BEGIN:VEVENT
DTSTART;TZID=America/Chicago:20260418T190000
DTEND;TZID=America/Chicago:20300418T210000
DTSTAMP:20260423T215111
CREATED:20260401T040554Z
LAST-MODIFIED:20260401T040617Z
UID:10012302-1776538800-1902776400@www.landonwinery.com
SUMMARY:Music Bingo Denison
DESCRIPTION:
URL:https://www.landonwinery.com/event/music-bingo-denison-2-2-2/2026-04-18/
LOCATION:Landon Winery Denison\, 318 W Main St.\, Denison\, TX\, 75020\, United States
CATEGORIES:Music Bingo,Weekly
ATTACH;FMTTYPE=image/jpeg:https://www.landonwinery.com/wp-content/uploads/2025/08/Bingo-Denison.jpg
ORGANIZER;CN="Landon Winery":MAILTO:winery@landonwinery.com
END:VEVENT
BEGIN:VEVENT
DTSTART;TZID=America/Chicago:20260425T190000
DTEND;TZID=America/Chicago:20300425T210000
DTSTAMP:20260423T215111
CREATED:20260401T040554Z
LAST-MODIFIED:20260401T040617Z
UID:10012303-1777143600-1903381200@www.landonwinery.com
SUMMARY:Music Bingo Denison
DESCRIPTION:
URL:https://www.landonwinery.com/event/music-bingo-denison-2-2-2/2026-04-25/
LOCATION:Landon Winery Denison\, 318 W Main St.\, Denison\, TX\, 75020\, United States
CATEGORIES:Music Bingo,Weekly
ATTACH;FMTTYPE=image/jpeg:https://www.landonwinery.com/wp-content/uploads/2025/08/Bingo-Denison.jpg
ORGANIZER;CN="Landon Winery":MAILTO:winery@landonwinery.com
END:VEVENT
BEGIN:VEVENT
DTSTART;TZID=America/Chicago:20260502T190000
DTEND;TZID=America/Chicago:20300502T210000
DTSTAMP:20260423T215111
CREATED:20260401T040554Z
LAST-MODIFIED:20260401T040617Z
UID:10012304-1777748400-1903986000@www.landonwinery.com
SUMMARY:Music Bingo Denison
DESCRIPTION:
URL:https://www.landonwinery.com/event/music-bingo-denison-2-2-2/2026-05-02/
LOCATION:Landon Winery Denison\, 318 W Main St.\, Denison\, TX\, 75020\, United States
CATEGORIES:Music Bingo,Weekly
ATTACH;FMTTYPE=image/jpeg:https://www.landonwinery.com/wp-content/uploads/2025/08/Bingo-Denison.jpg
ORGANIZER;CN="Landon Winery":MAILTO:winery@landonwinery.com
END:VEVENT
BEGIN:VEVENT
DTSTART;TZID=America/Chicago:20260509T190000
DTEND;TZID=America/Chicago:20300509T210000
DTSTAMP:20260423T215111
CREATED:20260401T040554Z
LAST-MODIFIED:20260401T040617Z
UID:10012305-1778353200-1904590800@www.landonwinery.com
SUMMARY:Music Bingo Denison
DESCRIPTION:
URL:https://www.landonwinery.com/event/music-bingo-denison-2-2-2/2026-05-09/
LOCATION:Landon Winery Denison\, 318 W Main St.\, Denison\, TX\, 75020\, United States
CATEGORIES:Music Bingo,Weekly
ATTACH;FMTTYPE=image/jpeg:https://www.landonwinery.com/wp-content/uploads/2025/08/Bingo-Denison.jpg
ORGANIZER;CN="Landon Winery":MAILTO:winery@landonwinery.com
END:VEVENT
BEGIN:VEVENT
DTSTART;TZID=America/Chicago:20260516T190000
DTEND;TZID=America/Chicago:20300516T210000
DTSTAMP:20260423T215111
CREATED:20260401T040554Z
LAST-MODIFIED:20260401T040617Z
UID:10012306-1778958000-1905195600@www.landonwinery.com
SUMMARY:Music Bingo Denison
DESCRIPTION:
URL:https://www.landonwinery.com/event/music-bingo-denison-2-2-2/2026-05-16/
LOCATION:Landon Winery Denison\, 318 W Main St.\, Denison\, TX\, 75020\, United States
CATEGORIES:Music Bingo,Weekly
ATTACH;FMTTYPE=image/jpeg:https://www.landonwinery.com/wp-content/uploads/2025/08/Bingo-Denison.jpg
ORGANIZER;CN="Landon Winery":MAILTO:winery@landonwinery.com
END:VEVENT
BEGIN:VEVENT
DTSTART;TZID=America/Chicago:20260523T190000
DTEND;TZID=America/Chicago:20300523T210000
DTSTAMP:20260423T215111
CREATED:20260401T040554Z
LAST-MODIFIED:20260401T040617Z
UID:10012307-1779562800-1905800400@www.landonwinery.com
SUMMARY:Music Bingo Denison
DESCRIPTION:
URL:https://www.landonwinery.com/event/music-bingo-denison-2-2-2/2026-05-23/
LOCATION:Landon Winery Denison\, 318 W Main St.\, Denison\, TX\, 75020\, United States
CATEGORIES:Music Bingo,Weekly
ATTACH;FMTTYPE=image/jpeg:https://www.landonwinery.com/wp-content/uploads/2025/08/Bingo-Denison.jpg
ORGANIZER;CN="Landon Winery":MAILTO:winery@landonwinery.com
END:VEVENT
BEGIN:VEVENT
DTSTART;TZID=America/Chicago:20260530T190000
DTEND;TZID=America/Chicago:20300530T210000
DTSTAMP:20260423T215111
CREATED:20260401T040554Z
LAST-MODIFIED:20260401T040617Z
UID:10012308-1780167600-1906405200@www.landonwinery.com
SUMMARY:Music Bingo Denison
DESCRIPTION:
URL:https://www.landonwinery.com/event/music-bingo-denison-2-2-2/2026-05-30/
LOCATION:Landon Winery Denison\, 318 W Main St.\, Denison\, TX\, 75020\, United States
CATEGORIES:Music Bingo,Weekly
ATTACH;FMTTYPE=image/jpeg:https://www.landonwinery.com/wp-content/uploads/2025/08/Bingo-Denison.jpg
ORGANIZER;CN="Landon Winery":MAILTO:winery@landonwinery.com
END:VEVENT
BEGIN:VEVENT
DTSTART;TZID=America/Chicago:20260606T160000
DTEND;TZID=America/Chicago:20260606T200000
DTSTAMP:20260423T215111
CREATED:20251222T180254Z
LAST-MODIFIED:20251222T180254Z
UID:10010684-1780761600-1780776000@www.landonwinery.com
SUMMARY:Wine Dine Vendor Time Denison
DESCRIPTION:
URL:https://www.landonwinery.com/event/wine-dine-vendor-time-denison/2026-06-06/
LOCATION:Landon Winery Denison\, 318 W Main St.\, Denison\, TX\, 75020\, United States
CATEGORIES:Vendor Event
ATTACH;FMTTYPE=image/jpeg:https://www.landonwinery.com/wp-content/uploads/2025/12/Calleys-Chaos-Denison.jpg
ORGANIZER;CN="Landon Winery":MAILTO:winery@landonwinery.com
END:VEVENT
BEGIN:VEVENT
DTSTART;TZID=America/Chicago:20260606T190000
DTEND;TZID=America/Chicago:20300606T210000
DTSTAMP:20260423T215111
CREATED:20260401T040554Z
LAST-MODIFIED:20260401T040617Z
UID:10012309-1780772400-1907010000@www.landonwinery.com
SUMMARY:Music Bingo Denison
DESCRIPTION:
URL:https://www.landonwinery.com/event/music-bingo-denison-2-2-2/2026-06-06/
LOCATION:Landon Winery Denison\, 318 W Main St.\, Denison\, TX\, 75020\, United States
CATEGORIES:Music Bingo,Weekly
ATTACH;FMTTYPE=image/jpeg:https://www.landonwinery.com/wp-content/uploads/2025/08/Bingo-Denison.jpg
ORGANIZER;CN="Landon Winery":MAILTO:winery@landonwinery.com
END:VEVENT
BEGIN:VEVENT
DTSTART;TZID=America/Chicago:20260613T190000
DTEND;TZID=America/Chicago:20260613T203000
DTSTAMP:20260423T215111
CREATED:20260409T132831Z
LAST-MODIFIED:20260409T132831Z
UID:10012837-1781377200-1781382600@www.landonwinery.com
SUMMARY:Winery Comedy Tour Greenville
DESCRIPTION:
URL:https://www.landonwinery.com/event/winery-comedy-tour-greenville-3/2026-06-13/
LOCATION:Landon Winery Greenville\, 2508 Lee St.\, Greenville\, TX\, 75401\, United States
CATEGORIES:Comedy Night
ATTACH;FMTTYPE=image/jpeg:https://www.landonwinery.com/wp-content/uploads/2025/09/comedy.jpg
ORGANIZER;CN="Landon Winery":MAILTO:winery@landonwinery.com
END:VEVENT
BEGIN:VEVENT
DTSTART;TZID=America/Chicago:20260613T190000
DTEND;TZID=America/Chicago:20300613T210000
DTSTAMP:20260423T215112
CREATED:20260401T040554Z
LAST-MODIFIED:20260401T040617Z
UID:10012310-1781377200-1907614800@www.landonwinery.com
SUMMARY:Music Bingo Denison
DESCRIPTION:
URL:https://www.landonwinery.com/event/music-bingo-denison-2-2-2/2026-06-13/
LOCATION:Landon Winery Denison\, 318 W Main St.\, Denison\, TX\, 75020\, United States
CATEGORIES:Music Bingo,Weekly
ATTACH;FMTTYPE=image/jpeg:https://www.landonwinery.com/wp-content/uploads/2025/08/Bingo-Denison.jpg
ORGANIZER;CN="Landon Winery":MAILTO:winery@landonwinery.com
END:VEVENT
BEGIN:VEVENT
DTSTART;TZID=America/Chicago:20260619T190000
DTEND;TZID=America/Chicago:20260619T203000
DTSTAMP:20260423T215112
CREATED:20260409T131337Z
LAST-MODIFIED:20260409T131337Z
UID:10012829-1781895600-1781901000@www.landonwinery.com
SUMMARY:Winery Comedy Tour Wylie
DESCRIPTION:
URL:https://www.landonwinery.com/event/winery-comedy-tour-wylie-2/2026-06-19/
LOCATION:Landon Winery Wylie\, 103 N Ballard Ave\, Wylie\, TX\, 75098\, United States
CATEGORIES:Comedy Night
ATTACH;FMTTYPE=image/jpeg:https://www.landonwinery.com/wp-content/uploads/2025/09/comedy.jpg
ORGANIZER;CN="Landon Winery":MAILTO:winery@landonwinery.com
END:VEVENT
BEGIN:VEVENT
DTSTART;TZID=America/Chicago:20260620T160000
DTEND;TZID=America/Chicago:20260620T200000
DTSTAMP:20260423T215112
CREATED:20251222T181054Z
LAST-MODIFIED:20251222T181054Z
UID:10010696-1781971200-1781985600@www.landonwinery.com
SUMMARY:Wine Dine Vendor Time Gainesville
DESCRIPTION:
URL:https://www.landonwinery.com/event/wine-dine-vendor-time-gainesville/2026-06-20/
LOCATION:Landon Winery Gainesville\, 201 W California St.\, Gainesville\, TX\, 76240\, United States
ATTACH;FMTTYPE=image/jpeg:https://www.landonwinery.com/wp-content/uploads/2025/12/CC-Gainesville.jpg
ORGANIZER;CN="Landon Winery":MAILTO:winery@landonwinery.com
END:VEVENT
BEGIN:VEVENT
DTSTART;TZID=America/Chicago:20260620T183000
DTEND;TZID=America/Chicago:20260620T200000
DTSTAMP:20260423T215112
CREATED:20260414T180742Z
LAST-MODIFIED:20260414T180742Z
UID:10012858-1781980200-1781985600@www.landonwinery.com
SUMMARY:True Crime & Wine: The Eyeball Killer Greenville
DESCRIPTION:
URL:https://www.landonwinery.com/event/true-crime-wine-the-eyeball-killer-greenville/
LOCATION:Landon Winery Greenville\, 2508 Lee St.\, Greenville\, TX\, 75401\, United States
CATEGORIES:True Crime
ATTACH;FMTTYPE=image/jpeg:https://www.landonwinery.com/wp-content/uploads/2026/01/True-Crime-and-Wine.jpg
ORGANIZER;CN="Landon Winery":MAILTO:winery@landonwinery.com
END:VEVENT
BEGIN:VEVENT
DTSTART;TZID=America/Chicago:20260620T190000
DTEND;TZID=America/Chicago:20260620T203000
DTSTAMP:20260423T215112
CREATED:20260409T132309Z
LAST-MODIFIED:20260409T132309Z
UID:10012833-1781982000-1781987400@www.landonwinery.com
SUMMARY:Winery Comedy Night Gainesville
DESCRIPTION:
URL:https://www.landonwinery.com/event/winery-comedy-night-gainesville/2026-06-20/
LOCATION:Landon Winery Gainesville\, 201 W California St.\, Gainesville\, TX\, 76240\, United States
CATEGORIES:Comedy Night
ATTACH;FMTTYPE=image/jpeg:https://www.landonwinery.com/wp-content/uploads/2025/09/comedy.jpg
ORGANIZER;CN="Landon Winery":MAILTO:winery@landonwinery.com
END:VEVENT
BEGIN:VEVENT
DTSTART;TZID=America/Chicago:20260620T190000
DTEND;TZID=America/Chicago:20300620T210000
DTSTAMP:20260423T215112
CREATED:20260401T040554Z
LAST-MODIFIED:20260401T040617Z
UID:10012311-1781982000-1908219600@www.landonwinery.com
SUMMARY:Music Bingo Denison
DESCRIPTION:
URL:https://www.landonwinery.com/event/music-bingo-denison-2-2-2/2026-06-20/
LOCATION:Landon Winery Denison\, 318 W Main St.\, Denison\, TX\, 75020\, United States
CATEGORIES:Music Bingo,Weekly
ATTACH;FMTTYPE=image/jpeg:https://www.landonwinery.com/wp-content/uploads/2025/08/Bingo-Denison.jpg
ORGANIZER;CN="Landon Winery":MAILTO:winery@landonwinery.com
END:VEVENT
BEGIN:VEVENT
DTSTART;TZID=America/Chicago:20260626T190000
DTEND;TZID=America/Chicago:20260626T203000
DTSTAMP:20260423T215112
CREATED:20260409T131818Z
LAST-MODIFIED:20260409T131818Z
UID:10012831-1782500400-1782505800@www.landonwinery.com
SUMMARY:Winery Comedy Tour Denison
DESCRIPTION:
URL:https://www.landonwinery.com/event/winery-comedy-tour-denison-3/2026-06-26/
LOCATION:Landon Winery Denison\, 318 W Main St.\, Denison\, TX\, 75020\, United States
CATEGORIES:Comedy Night
ATTACH;FMTTYPE=image/jpeg:https://www.landonwinery.com/wp-content/uploads/2025/09/comedy.jpg
ORGANIZER;CN="Landon Winery":MAILTO:winery@landonwinery.com
END:VEVENT
BEGIN:VEVENT
DTSTART;TZID=America/Chicago:20260627T190000
DTEND;TZID=America/Chicago:20260627T203000
DTSTAMP:20260423T215112
CREATED:20260409T133358Z
LAST-MODIFIED:20260409T133358Z
UID:10012841-1782586800-1782592200@www.landonwinery.com
SUMMARY:Winery Comedy Tour McKinney
DESCRIPTION:
URL:https://www.landonwinery.com/event/winery-comedy-tour-mckinney-2/2026-06-27/
LOCATION:Landon Winery McKinney\, 101 N Kentucky St.\, McKinney\, TX\, 75069\, United States
CATEGORIES:Comedy Night
ATTACH;FMTTYPE=image/jpeg:https://www.landonwinery.com/wp-content/uploads/2025/09/comedy.jpg
ORGANIZER;CN="Landon Winery":MAILTO:winery@landonwinery.com
END:VEVENT
BEGIN:VEVENT
DTSTART;TZID=America/Chicago:20260627T190000
DTEND;TZID=America/Chicago:20300627T210000
DTSTAMP:20260423T215112
CREATED:20260401T040554Z
LAST-MODIFIED:20260401T040617Z
UID:10012312-1782586800-1908824400@www.landonwinery.com
SUMMARY:Music Bingo Denison
DESCRIPTION:
URL:https://www.landonwinery.com/event/music-bingo-denison-2-2-2/2026-06-27/
LOCATION:Landon Winery Denison\, 318 W Main St.\, Denison\, TX\, 75020\, United States
CATEGORIES:Music Bingo,Weekly
ATTACH;FMTTYPE=image/jpeg:https://www.landonwinery.com/wp-content/uploads/2025/08/Bingo-Denison.jpg
ORGANIZER;CN="Landon Winery":MAILTO:winery@landonwinery.com
END:VEVENT
END:VCALENDAR