BEGIN:VCALENDAR
VERSION:2.0
PRODID:-//Landon Winery - ECPv6.15.18//NONSGML v1.0//EN
CALSCALE:GREGORIAN
METHOD:PUBLISH
X-WR-CALNAME:Landon Winery
X-ORIGINAL-URL:https://www.landonwinery.com
X-WR-CALDESC:Events for Landon Winery
REFRESH-INTERVAL;VALUE=DURATION:PT1H
X-Robots-Tag:noindex
X-PUBLISHED-TTL:PT1H
BEGIN:VTIMEZONE
TZID:America/Chicago
BEGIN:DAYLIGHT
TZOFFSETFROM:-0600
TZOFFSETTO:-0500
TZNAME:CDT
DTSTART:20250309T080000
END:DAYLIGHT
BEGIN:STANDARD
TZOFFSETFROM:-0500
TZOFFSETTO:-0600
TZNAME:CST
DTSTART:20251102T070000
END:STANDARD
BEGIN:DAYLIGHT
TZOFFSETFROM:-0600
TZOFFSETTO:-0500
TZNAME:CDT
DTSTART:20260308T080000
END:DAYLIGHT
BEGIN:STANDARD
TZOFFSETFROM:-0500
TZOFFSETTO:-0600
TZNAME:CST
DTSTART:20261101T070000
END:STANDARD
BEGIN:DAYLIGHT
TZOFFSETFROM:-0600
TZOFFSETTO:-0500
TZNAME:CDT
DTSTART:20270314T080000
END:DAYLIGHT
BEGIN:STANDARD
TZOFFSETFROM:-0500
TZOFFSETTO:-0600
TZNAME:CST
DTSTART:20271107T070000
END:STANDARD
END:VTIMEZONE
BEGIN:VEVENT
DTSTART;TZID=America/Chicago:20260426T120000
DTEND;TZID=America/Chicago:20260426T210000
DTSTAMP:20260423T121513
CREATED:20250103T192301Z
LAST-MODIFIED:20250419T141237Z
UID:10002680-1777204800-1777237200@www.landonwinery.com
SUMMARY:Mimosa Mania Sunday Greenville
DESCRIPTION:
URL:https://www.landonwinery.com/event/mimosa-mania-sunday-greenville/2026-04-26/
LOCATION:Landon Winery Greenville\, 2508 Lee St.\, Greenville\, TX\, 75401\, United States
CATEGORIES:Sunday,Weekly
ATTACH;FMTTYPE=image/jpeg:https://www.landonwinery.com/wp-content/uploads/2025/01/Mimosa-Mania.jpg
ORGANIZER;CN="Landon Winery":MAILTO:winery@landonwinery.com
END:VEVENT
BEGIN:VEVENT
DTSTART;TZID=America/Chicago:20260426T120000
DTEND;TZID=America/Chicago:20260426T210000
DTSTAMP:20260423T121513
CREATED:20250103T192846Z
LAST-MODIFIED:20250419T141109Z
UID:10002941-1777204800-1777237200@www.landonwinery.com
SUMMARY:Mimosa Mania Sunday Coppell
DESCRIPTION:
URL:https://www.landonwinery.com/event/mimosa-mania-sunday-coppell/2026-04-26/
LOCATION:Landon Winery Coppell\, 3121 Olympus Boulevard #130\, Coppell\, TX\, 75019\, United States
CATEGORIES:Sunday,Weekly
ATTACH;FMTTYPE=image/jpeg:https://www.landonwinery.com/wp-content/uploads/2025/01/Mimosa-Mania.jpg
ORGANIZER;CN="Landon Winery":MAILTO:winery@landonwinery.com
END:VEVENT
BEGIN:VEVENT
DTSTART;TZID=America/Chicago:20260426T120000
DTEND;TZID=America/Chicago:20260426T210000
DTSTAMP:20260423T121513
CREATED:20250105T190537Z
LAST-MODIFIED:20250419T141007Z
UID:10003202-1777204800-1777237200@www.landonwinery.com
SUMMARY:Mimosa Mania Sunday Grapevine
DESCRIPTION:
URL:https://www.landonwinery.com/event/mimosa-mania-sunday-grapevine/2026-04-26/
LOCATION:Landon Winery Grapevine\, 415 S. Main St.\, Grapevine\, TX\, 76051\, United States
CATEGORIES:Sunday,Weekly
ATTACH;FMTTYPE=image/jpeg:https://www.landonwinery.com/wp-content/uploads/2025/01/Mimosa-Mania.jpg
ORGANIZER;CN="Landon Winery":MAILTO:winery@landonwinery.com
END:VEVENT
BEGIN:VEVENT
DTSTART;TZID=America/Chicago:20260426T120000
DTEND;TZID=America/Chicago:20260426T210000
DTSTAMP:20260423T121513
CREATED:20250105T190943Z
LAST-MODIFIED:20250419T140913Z
UID:10003463-1777204800-1777237200@www.landonwinery.com
SUMMARY:Mimosa Mania Sunday McKinney
DESCRIPTION:
URL:https://www.landonwinery.com/event/mimosa-mania-sunday-mckinney/2026-04-26/
LOCATION:Landon Winery McKinney\, 101 N Kentucky St.\, McKinney\, TX\, 75069\, United States
ATTACH;FMTTYPE=image/jpeg:https://www.landonwinery.com/wp-content/uploads/2025/01/Mimosa-Mania.jpg
ORGANIZER;CN="Landon Winery":MAILTO:winery@landonwinery.com
END:VEVENT
BEGIN:VEVENT
DTSTART;TZID=America/Chicago:20260426T120000
DTEND;TZID=America/Chicago:20260426T210000
DTSTAMP:20260423T121513
CREATED:20250105T191155Z
LAST-MODIFIED:20250419T140757Z
UID:10003724-1777204800-1777237200@www.landonwinery.com
SUMMARY:Mimosa Mania Sunday Denison
DESCRIPTION:
URL:https://www.landonwinery.com/event/mimosa-mania-sunday-denison/2026-04-26/
LOCATION:Landon Winery Denison\, 318 W Main St.\, Denison\, TX\, 75020\, United States
ATTACH;FMTTYPE=image/jpeg:https://www.landonwinery.com/wp-content/uploads/2025/01/Mimosa-Mania.jpg
ORGANIZER;CN="Landon Winery":MAILTO:winery@landonwinery.com
END:VEVENT
BEGIN:VEVENT
DTSTART;TZID=America/Chicago:20260426T120000
DTEND;TZID=America/Chicago:20260426T210000
DTSTAMP:20260423T121513
CREATED:20250105T191404Z
LAST-MODIFIED:20250419T140620Z
UID:10003985-1777204800-1777237200@www.landonwinery.com
SUMMARY:Mimosa Mania Sunday Gainesville
DESCRIPTION:
URL:https://www.landonwinery.com/event/mimosa-mania-sunday-gainesville/2026-04-26/
LOCATION:Landon Winery Gainesville\, 201 W California St.\, Gainesville\, TX\, 76240\, United States
ATTACH;FMTTYPE=image/jpeg:https://www.landonwinery.com/wp-content/uploads/2025/01/Mimosa-Mania.jpg
ORGANIZER;CN="Landon Winery":MAILTO:winery@landonwinery.com
END:VEVENT
BEGIN:VEVENT
DTSTART;TZID=America/Chicago:20260503T120000
DTEND;TZID=America/Chicago:20260503T210000
DTSTAMP:20260423T121513
CREATED:20250103T192301Z
LAST-MODIFIED:20250419T141237Z
UID:10002681-1777809600-1777842000@www.landonwinery.com
SUMMARY:Mimosa Mania Sunday Greenville
DESCRIPTION:
URL:https://www.landonwinery.com/event/mimosa-mania-sunday-greenville/2026-05-03/
LOCATION:Landon Winery Greenville\, 2508 Lee St.\, Greenville\, TX\, 75401\, United States
CATEGORIES:Sunday,Weekly
ATTACH;FMTTYPE=image/jpeg:https://www.landonwinery.com/wp-content/uploads/2025/01/Mimosa-Mania.jpg
ORGANIZER;CN="Landon Winery":MAILTO:winery@landonwinery.com
END:VEVENT
BEGIN:VEVENT
DTSTART;TZID=America/Chicago:20260503T120000
DTEND;TZID=America/Chicago:20260503T210000
DTSTAMP:20260423T121513
CREATED:20250103T192846Z
LAST-MODIFIED:20250419T141109Z
UID:10002942-1777809600-1777842000@www.landonwinery.com
SUMMARY:Mimosa Mania Sunday Coppell
DESCRIPTION:
URL:https://www.landonwinery.com/event/mimosa-mania-sunday-coppell/2026-05-03/
LOCATION:Landon Winery Coppell\, 3121 Olympus Boulevard #130\, Coppell\, TX\, 75019\, United States
CATEGORIES:Sunday,Weekly
ATTACH;FMTTYPE=image/jpeg:https://www.landonwinery.com/wp-content/uploads/2025/01/Mimosa-Mania.jpg
ORGANIZER;CN="Landon Winery":MAILTO:winery@landonwinery.com
END:VEVENT
BEGIN:VEVENT
DTSTART;TZID=America/Chicago:20260503T120000
DTEND;TZID=America/Chicago:20260503T210000
DTSTAMP:20260423T121513
CREATED:20250105T190537Z
LAST-MODIFIED:20250419T141007Z
UID:10003203-1777809600-1777842000@www.landonwinery.com
SUMMARY:Mimosa Mania Sunday Grapevine
DESCRIPTION:
URL:https://www.landonwinery.com/event/mimosa-mania-sunday-grapevine/2026-05-03/
LOCATION:Landon Winery Grapevine\, 415 S. Main St.\, Grapevine\, TX\, 76051\, United States
CATEGORIES:Sunday,Weekly
ATTACH;FMTTYPE=image/jpeg:https://www.landonwinery.com/wp-content/uploads/2025/01/Mimosa-Mania.jpg
ORGANIZER;CN="Landon Winery":MAILTO:winery@landonwinery.com
END:VEVENT
BEGIN:VEVENT
DTSTART;TZID=America/Chicago:20260503T120000
DTEND;TZID=America/Chicago:20260503T210000
DTSTAMP:20260423T121513
CREATED:20250105T190943Z
LAST-MODIFIED:20250419T140913Z
UID:10003464-1777809600-1777842000@www.landonwinery.com
SUMMARY:Mimosa Mania Sunday McKinney
DESCRIPTION:
URL:https://www.landonwinery.com/event/mimosa-mania-sunday-mckinney/2026-05-03/
LOCATION:Landon Winery McKinney\, 101 N Kentucky St.\, McKinney\, TX\, 75069\, United States
ATTACH;FMTTYPE=image/jpeg:https://www.landonwinery.com/wp-content/uploads/2025/01/Mimosa-Mania.jpg
ORGANIZER;CN="Landon Winery":MAILTO:winery@landonwinery.com
END:VEVENT
BEGIN:VEVENT
DTSTART;TZID=America/Chicago:20260503T120000
DTEND;TZID=America/Chicago:20260503T210000
DTSTAMP:20260423T121513
CREATED:20250105T191155Z
LAST-MODIFIED:20250419T140757Z
UID:10003725-1777809600-1777842000@www.landonwinery.com
SUMMARY:Mimosa Mania Sunday Denison
DESCRIPTION:
URL:https://www.landonwinery.com/event/mimosa-mania-sunday-denison/2026-05-03/
LOCATION:Landon Winery Denison\, 318 W Main St.\, Denison\, TX\, 75020\, United States
ATTACH;FMTTYPE=image/jpeg:https://www.landonwinery.com/wp-content/uploads/2025/01/Mimosa-Mania.jpg
ORGANIZER;CN="Landon Winery":MAILTO:winery@landonwinery.com
END:VEVENT
BEGIN:VEVENT
DTSTART;TZID=America/Chicago:20260503T120000
DTEND;TZID=America/Chicago:20260503T210000
DTSTAMP:20260423T121513
CREATED:20250105T191404Z
LAST-MODIFIED:20250419T140620Z
UID:10003986-1777809600-1777842000@www.landonwinery.com
SUMMARY:Mimosa Mania Sunday Gainesville
DESCRIPTION:
URL:https://www.landonwinery.com/event/mimosa-mania-sunday-gainesville/2026-05-03/
LOCATION:Landon Winery Gainesville\, 201 W California St.\, Gainesville\, TX\, 76240\, United States
ATTACH;FMTTYPE=image/jpeg:https://www.landonwinery.com/wp-content/uploads/2025/01/Mimosa-Mania.jpg
ORGANIZER;CN="Landon Winery":MAILTO:winery@landonwinery.com
END:VEVENT
BEGIN:VEVENT
DTSTART;TZID=America/Chicago:20260510T120000
DTEND;TZID=America/Chicago:20260510T210000
DTSTAMP:20260423T121513
CREATED:20250103T192301Z
LAST-MODIFIED:20250419T141237Z
UID:10002682-1778414400-1778446800@www.landonwinery.com
SUMMARY:Mimosa Mania Sunday Greenville
DESCRIPTION:
URL:https://www.landonwinery.com/event/mimosa-mania-sunday-greenville/2026-05-10/
LOCATION:Landon Winery Greenville\, 2508 Lee St.\, Greenville\, TX\, 75401\, United States
CATEGORIES:Sunday,Weekly
ATTACH;FMTTYPE=image/jpeg:https://www.landonwinery.com/wp-content/uploads/2025/01/Mimosa-Mania.jpg
ORGANIZER;CN="Landon Winery":MAILTO:winery@landonwinery.com
END:VEVENT
BEGIN:VEVENT
DTSTART;TZID=America/Chicago:20260510T120000
DTEND;TZID=America/Chicago:20260510T210000
DTSTAMP:20260423T121513
CREATED:20250103T192846Z
LAST-MODIFIED:20250419T141109Z
UID:10002943-1778414400-1778446800@www.landonwinery.com
SUMMARY:Mimosa Mania Sunday Coppell
DESCRIPTION:
URL:https://www.landonwinery.com/event/mimosa-mania-sunday-coppell/2026-05-10/
LOCATION:Landon Winery Coppell\, 3121 Olympus Boulevard #130\, Coppell\, TX\, 75019\, United States
CATEGORIES:Sunday,Weekly
ATTACH;FMTTYPE=image/jpeg:https://www.landonwinery.com/wp-content/uploads/2025/01/Mimosa-Mania.jpg
ORGANIZER;CN="Landon Winery":MAILTO:winery@landonwinery.com
END:VEVENT
BEGIN:VEVENT
DTSTART;TZID=America/Chicago:20260510T120000
DTEND;TZID=America/Chicago:20260510T210000
DTSTAMP:20260423T121513
CREATED:20250105T190537Z
LAST-MODIFIED:20250419T141007Z
UID:10003204-1778414400-1778446800@www.landonwinery.com
SUMMARY:Mimosa Mania Sunday Grapevine
DESCRIPTION:
URL:https://www.landonwinery.com/event/mimosa-mania-sunday-grapevine/2026-05-10/
LOCATION:Landon Winery Grapevine\, 415 S. Main St.\, Grapevine\, TX\, 76051\, United States
CATEGORIES:Sunday,Weekly
ATTACH;FMTTYPE=image/jpeg:https://www.landonwinery.com/wp-content/uploads/2025/01/Mimosa-Mania.jpg
ORGANIZER;CN="Landon Winery":MAILTO:winery@landonwinery.com
END:VEVENT
BEGIN:VEVENT
DTSTART;TZID=America/Chicago:20260510T120000
DTEND;TZID=America/Chicago:20260510T210000
DTSTAMP:20260423T121513
CREATED:20250105T190943Z
LAST-MODIFIED:20250419T140913Z
UID:10003465-1778414400-1778446800@www.landonwinery.com
SUMMARY:Mimosa Mania Sunday McKinney
DESCRIPTION:
URL:https://www.landonwinery.com/event/mimosa-mania-sunday-mckinney/2026-05-10/
LOCATION:Landon Winery McKinney\, 101 N Kentucky St.\, McKinney\, TX\, 75069\, United States
ATTACH;FMTTYPE=image/jpeg:https://www.landonwinery.com/wp-content/uploads/2025/01/Mimosa-Mania.jpg
ORGANIZER;CN="Landon Winery":MAILTO:winery@landonwinery.com
END:VEVENT
BEGIN:VEVENT
DTSTART;TZID=America/Chicago:20260510T120000
DTEND;TZID=America/Chicago:20260510T210000
DTSTAMP:20260423T121513
CREATED:20250105T191155Z
LAST-MODIFIED:20250419T140757Z
UID:10003726-1778414400-1778446800@www.landonwinery.com
SUMMARY:Mimosa Mania Sunday Denison
DESCRIPTION:
URL:https://www.landonwinery.com/event/mimosa-mania-sunday-denison/2026-05-10/
LOCATION:Landon Winery Denison\, 318 W Main St.\, Denison\, TX\, 75020\, United States
ATTACH;FMTTYPE=image/jpeg:https://www.landonwinery.com/wp-content/uploads/2025/01/Mimosa-Mania.jpg
ORGANIZER;CN="Landon Winery":MAILTO:winery@landonwinery.com
END:VEVENT
BEGIN:VEVENT
DTSTART;TZID=America/Chicago:20260510T120000
DTEND;TZID=America/Chicago:20260510T210000
DTSTAMP:20260423T121513
CREATED:20250105T191404Z
LAST-MODIFIED:20250419T140620Z
UID:10003987-1778414400-1778446800@www.landonwinery.com
SUMMARY:Mimosa Mania Sunday Gainesville
DESCRIPTION:
URL:https://www.landonwinery.com/event/mimosa-mania-sunday-gainesville/2026-05-10/
LOCATION:Landon Winery Gainesville\, 201 W California St.\, Gainesville\, TX\, 76240\, United States
ATTACH;FMTTYPE=image/jpeg:https://www.landonwinery.com/wp-content/uploads/2025/01/Mimosa-Mania.jpg
ORGANIZER;CN="Landon Winery":MAILTO:winery@landonwinery.com
END:VEVENT
BEGIN:VEVENT
DTSTART;TZID=America/Chicago:20260517T120000
DTEND;TZID=America/Chicago:20260517T210000
DTSTAMP:20260423T121513
CREATED:20250103T192301Z
LAST-MODIFIED:20250419T141237Z
UID:10002683-1779019200-1779051600@www.landonwinery.com
SUMMARY:Mimosa Mania Sunday Greenville
DESCRIPTION:
URL:https://www.landonwinery.com/event/mimosa-mania-sunday-greenville/2026-05-17/
LOCATION:Landon Winery Greenville\, 2508 Lee St.\, Greenville\, TX\, 75401\, United States
CATEGORIES:Sunday,Weekly
ATTACH;FMTTYPE=image/jpeg:https://www.landonwinery.com/wp-content/uploads/2025/01/Mimosa-Mania.jpg
ORGANIZER;CN="Landon Winery":MAILTO:winery@landonwinery.com
END:VEVENT
BEGIN:VEVENT
DTSTART;TZID=America/Chicago:20260517T120000
DTEND;TZID=America/Chicago:20260517T210000
DTSTAMP:20260423T121513
CREATED:20250103T192846Z
LAST-MODIFIED:20250419T141109Z
UID:10002944-1779019200-1779051600@www.landonwinery.com
SUMMARY:Mimosa Mania Sunday Coppell
DESCRIPTION:
URL:https://www.landonwinery.com/event/mimosa-mania-sunday-coppell/2026-05-17/
LOCATION:Landon Winery Coppell\, 3121 Olympus Boulevard #130\, Coppell\, TX\, 75019\, United States
CATEGORIES:Sunday,Weekly
ATTACH;FMTTYPE=image/jpeg:https://www.landonwinery.com/wp-content/uploads/2025/01/Mimosa-Mania.jpg
ORGANIZER;CN="Landon Winery":MAILTO:winery@landonwinery.com
END:VEVENT
BEGIN:VEVENT
DTSTART;TZID=America/Chicago:20260517T120000
DTEND;TZID=America/Chicago:20260517T210000
DTSTAMP:20260423T121513
CREATED:20250105T190537Z
LAST-MODIFIED:20250419T141007Z
UID:10003205-1779019200-1779051600@www.landonwinery.com
SUMMARY:Mimosa Mania Sunday Grapevine
DESCRIPTION:
URL:https://www.landonwinery.com/event/mimosa-mania-sunday-grapevine/2026-05-17/
LOCATION:Landon Winery Grapevine\, 415 S. Main St.\, Grapevine\, TX\, 76051\, United States
CATEGORIES:Sunday,Weekly
ATTACH;FMTTYPE=image/jpeg:https://www.landonwinery.com/wp-content/uploads/2025/01/Mimosa-Mania.jpg
ORGANIZER;CN="Landon Winery":MAILTO:winery@landonwinery.com
END:VEVENT
BEGIN:VEVENT
DTSTART;TZID=America/Chicago:20260517T120000
DTEND;TZID=America/Chicago:20260517T210000
DTSTAMP:20260423T121513
CREATED:20250105T190943Z
LAST-MODIFIED:20250419T140913Z
UID:10003466-1779019200-1779051600@www.landonwinery.com
SUMMARY:Mimosa Mania Sunday McKinney
DESCRIPTION:
URL:https://www.landonwinery.com/event/mimosa-mania-sunday-mckinney/2026-05-17/
LOCATION:Landon Winery McKinney\, 101 N Kentucky St.\, McKinney\, TX\, 75069\, United States
ATTACH;FMTTYPE=image/jpeg:https://www.landonwinery.com/wp-content/uploads/2025/01/Mimosa-Mania.jpg
ORGANIZER;CN="Landon Winery":MAILTO:winery@landonwinery.com
END:VEVENT
BEGIN:VEVENT
DTSTART;TZID=America/Chicago:20260517T120000
DTEND;TZID=America/Chicago:20260517T210000
DTSTAMP:20260423T121513
CREATED:20250105T191155Z
LAST-MODIFIED:20250419T140757Z
UID:10003727-1779019200-1779051600@www.landonwinery.com
SUMMARY:Mimosa Mania Sunday Denison
DESCRIPTION:
URL:https://www.landonwinery.com/event/mimosa-mania-sunday-denison/2026-05-17/
LOCATION:Landon Winery Denison\, 318 W Main St.\, Denison\, TX\, 75020\, United States
ATTACH;FMTTYPE=image/jpeg:https://www.landonwinery.com/wp-content/uploads/2025/01/Mimosa-Mania.jpg
ORGANIZER;CN="Landon Winery":MAILTO:winery@landonwinery.com
END:VEVENT
BEGIN:VEVENT
DTSTART;TZID=America/Chicago:20260517T120000
DTEND;TZID=America/Chicago:20260517T210000
DTSTAMP:20260423T121513
CREATED:20250105T191404Z
LAST-MODIFIED:20250419T140620Z
UID:10003988-1779019200-1779051600@www.landonwinery.com
SUMMARY:Mimosa Mania Sunday Gainesville
DESCRIPTION:
URL:https://www.landonwinery.com/event/mimosa-mania-sunday-gainesville/2026-05-17/
LOCATION:Landon Winery Gainesville\, 201 W California St.\, Gainesville\, TX\, 76240\, United States
ATTACH;FMTTYPE=image/jpeg:https://www.landonwinery.com/wp-content/uploads/2025/01/Mimosa-Mania.jpg
ORGANIZER;CN="Landon Winery":MAILTO:winery@landonwinery.com
END:VEVENT
BEGIN:VEVENT
DTSTART;TZID=America/Chicago:20260524T120000
DTEND;TZID=America/Chicago:20260524T210000
DTSTAMP:20260423T121513
CREATED:20250103T192301Z
LAST-MODIFIED:20250419T141237Z
UID:10002684-1779624000-1779656400@www.landonwinery.com
SUMMARY:Mimosa Mania Sunday Greenville
DESCRIPTION:
URL:https://www.landonwinery.com/event/mimosa-mania-sunday-greenville/2026-05-24/
LOCATION:Landon Winery Greenville\, 2508 Lee St.\, Greenville\, TX\, 75401\, United States
CATEGORIES:Sunday,Weekly
ATTACH;FMTTYPE=image/jpeg:https://www.landonwinery.com/wp-content/uploads/2025/01/Mimosa-Mania.jpg
ORGANIZER;CN="Landon Winery":MAILTO:winery@landonwinery.com
END:VEVENT
BEGIN:VEVENT
DTSTART;TZID=America/Chicago:20260524T120000
DTEND;TZID=America/Chicago:20260524T210000
DTSTAMP:20260423T121513
CREATED:20250103T192846Z
LAST-MODIFIED:20250419T141109Z
UID:10002945-1779624000-1779656400@www.landonwinery.com
SUMMARY:Mimosa Mania Sunday Coppell
DESCRIPTION:
URL:https://www.landonwinery.com/event/mimosa-mania-sunday-coppell/2026-05-24/
LOCATION:Landon Winery Coppell\, 3121 Olympus Boulevard #130\, Coppell\, TX\, 75019\, United States
CATEGORIES:Sunday,Weekly
ATTACH;FMTTYPE=image/jpeg:https://www.landonwinery.com/wp-content/uploads/2025/01/Mimosa-Mania.jpg
ORGANIZER;CN="Landon Winery":MAILTO:winery@landonwinery.com
END:VEVENT
BEGIN:VEVENT
DTSTART;TZID=America/Chicago:20260524T120000
DTEND;TZID=America/Chicago:20260524T210000
DTSTAMP:20260423T121513
CREATED:20250105T190537Z
LAST-MODIFIED:20250419T141007Z
UID:10003206-1779624000-1779656400@www.landonwinery.com
SUMMARY:Mimosa Mania Sunday Grapevine
DESCRIPTION:
URL:https://www.landonwinery.com/event/mimosa-mania-sunday-grapevine/2026-05-24/
LOCATION:Landon Winery Grapevine\, 415 S. Main St.\, Grapevine\, TX\, 76051\, United States
CATEGORIES:Sunday,Weekly
ATTACH;FMTTYPE=image/jpeg:https://www.landonwinery.com/wp-content/uploads/2025/01/Mimosa-Mania.jpg
ORGANIZER;CN="Landon Winery":MAILTO:winery@landonwinery.com
END:VEVENT
BEGIN:VEVENT
DTSTART;TZID=America/Chicago:20260524T120000
DTEND;TZID=America/Chicago:20260524T210000
DTSTAMP:20260423T121513
CREATED:20250105T190943Z
LAST-MODIFIED:20250419T140913Z
UID:10003467-1779624000-1779656400@www.landonwinery.com
SUMMARY:Mimosa Mania Sunday McKinney
DESCRIPTION:
URL:https://www.landonwinery.com/event/mimosa-mania-sunday-mckinney/2026-05-24/
LOCATION:Landon Winery McKinney\, 101 N Kentucky St.\, McKinney\, TX\, 75069\, United States
ATTACH;FMTTYPE=image/jpeg:https://www.landonwinery.com/wp-content/uploads/2025/01/Mimosa-Mania.jpg
ORGANIZER;CN="Landon Winery":MAILTO:winery@landonwinery.com
END:VEVENT
BEGIN:VEVENT
DTSTART;TZID=America/Chicago:20260524T120000
DTEND;TZID=America/Chicago:20260524T210000
DTSTAMP:20260423T121513
CREATED:20250105T191155Z
LAST-MODIFIED:20250419T140757Z
UID:10003728-1779624000-1779656400@www.landonwinery.com
SUMMARY:Mimosa Mania Sunday Denison
DESCRIPTION:
URL:https://www.landonwinery.com/event/mimosa-mania-sunday-denison/2026-05-24/
LOCATION:Landon Winery Denison\, 318 W Main St.\, Denison\, TX\, 75020\, United States
ATTACH;FMTTYPE=image/jpeg:https://www.landonwinery.com/wp-content/uploads/2025/01/Mimosa-Mania.jpg
ORGANIZER;CN="Landon Winery":MAILTO:winery@landonwinery.com
END:VEVENT
BEGIN:VEVENT
DTSTART;TZID=America/Chicago:20260524T120000
DTEND;TZID=America/Chicago:20260524T210000
DTSTAMP:20260423T121513
CREATED:20250105T191404Z
LAST-MODIFIED:20250419T140620Z
UID:10003989-1779624000-1779656400@www.landonwinery.com
SUMMARY:Mimosa Mania Sunday Gainesville
DESCRIPTION:
URL:https://www.landonwinery.com/event/mimosa-mania-sunday-gainesville/2026-05-24/
LOCATION:Landon Winery Gainesville\, 201 W California St.\, Gainesville\, TX\, 76240\, United States
ATTACH;FMTTYPE=image/jpeg:https://www.landonwinery.com/wp-content/uploads/2025/01/Mimosa-Mania.jpg
ORGANIZER;CN="Landon Winery":MAILTO:winery@landonwinery.com
END:VEVENT
END:VCALENDAR