BEGIN:VCALENDAR
VERSION:2.0
PRODID:-//Landon Winery - ECPv6.15.18//NONSGML v1.0//EN
CALSCALE:GREGORIAN
METHOD:PUBLISH
X-WR-CALNAME:Landon Winery
X-ORIGINAL-URL:https://www.landonwinery.com
X-WR-CALDESC:Events for Landon Winery
REFRESH-INTERVAL;VALUE=DURATION:PT1H
X-Robots-Tag:noindex
X-PUBLISHED-TTL:PT1H
BEGIN:VTIMEZONE
TZID:America/Chicago
BEGIN:DAYLIGHT
TZOFFSETFROM:-0600
TZOFFSETTO:-0500
TZNAME:CDT
DTSTART:20260308T080000
END:DAYLIGHT
BEGIN:STANDARD
TZOFFSETFROM:-0500
TZOFFSETTO:-0600
TZNAME:CST
DTSTART:20261101T070000
END:STANDARD
BEGIN:DAYLIGHT
TZOFFSETFROM:-0600
TZOFFSETTO:-0500
TZNAME:CDT
DTSTART:20270314T080000
END:DAYLIGHT
BEGIN:STANDARD
TZOFFSETFROM:-0500
TZOFFSETTO:-0600
TZNAME:CST
DTSTART:20271107T070000
END:STANDARD
BEGIN:DAYLIGHT
TZOFFSETFROM:-0600
TZOFFSETTO:-0500
TZNAME:CDT
DTSTART:20280312T080000
END:DAYLIGHT
BEGIN:STANDARD
TZOFFSETFROM:-0500
TZOFFSETTO:-0600
TZNAME:CST
DTSTART:20281105T070000
END:STANDARD
BEGIN:DAYLIGHT
TZOFFSETFROM:-0600
TZOFFSETTO:-0500
TZNAME:CDT
DTSTART:20290311T080000
END:DAYLIGHT
BEGIN:STANDARD
TZOFFSETFROM:-0500
TZOFFSETTO:-0600
TZNAME:CST
DTSTART:20291104T070000
END:STANDARD
BEGIN:DAYLIGHT
TZOFFSETFROM:-0600
TZOFFSETTO:-0500
TZNAME:CDT
DTSTART:20300310T080000
END:DAYLIGHT
BEGIN:STANDARD
TZOFFSETFROM:-0500
TZOFFSETTO:-0600
TZNAME:CST
DTSTART:20301103T070000
END:STANDARD
BEGIN:DAYLIGHT
TZOFFSETFROM:-0600
TZOFFSETTO:-0500
TZNAME:CDT
DTSTART:20310309T080000
END:DAYLIGHT
BEGIN:STANDARD
TZOFFSETFROM:-0500
TZOFFSETTO:-0600
TZNAME:CST
DTSTART:20311102T070000
END:STANDARD
BEGIN:DAYLIGHT
TZOFFSETFROM:-0600
TZOFFSETTO:-0500
TZNAME:CDT
DTSTART:20320314T080000
END:DAYLIGHT
BEGIN:STANDARD
TZOFFSETFROM:-0500
TZOFFSETTO:-0600
TZNAME:CST
DTSTART:20321107T070000
END:STANDARD
END:VTIMEZONE
BEGIN:VEVENT
DTSTART;TZID=America/Chicago:20270529T190000
DTEND;TZID=America/Chicago:20310529T210000
DTSTAMP:20260419T153412
CREATED:20260401T040554Z
LAST-MODIFIED:20260401T040617Z
UID:10012360-1811617200-1937854800@www.landonwinery.com
SUMMARY:Music Bingo Denison
DESCRIPTION:
URL:https://www.landonwinery.com/event/music-bingo-denison-2-2-2/2027-05-29/
LOCATION:Landon Winery Denison\, 318 W Main St.\, Denison\, TX\, 75020\, United States
CATEGORIES:Music Bingo,Weekly
ATTACH;FMTTYPE=image/jpeg:https://www.landonwinery.com/wp-content/uploads/2025/08/Bingo-Denison.jpg
ORGANIZER;CN="Landon Winery":MAILTO:winery@landonwinery.com
END:VEVENT
BEGIN:VEVENT
DTSTART;TZID=America/Chicago:20270605T190000
DTEND;TZID=America/Chicago:20310605T210000
DTSTAMP:20260419T153412
CREATED:20260401T040554Z
LAST-MODIFIED:20260401T040617Z
UID:10012361-1812222000-1938459600@www.landonwinery.com
SUMMARY:Music Bingo Denison
DESCRIPTION:
URL:https://www.landonwinery.com/event/music-bingo-denison-2-2-2/2027-06-05/
LOCATION:Landon Winery Denison\, 318 W Main St.\, Denison\, TX\, 75020\, United States
CATEGORIES:Music Bingo,Weekly
ATTACH;FMTTYPE=image/jpeg:https://www.landonwinery.com/wp-content/uploads/2025/08/Bingo-Denison.jpg
ORGANIZER;CN="Landon Winery":MAILTO:winery@landonwinery.com
END:VEVENT
BEGIN:VEVENT
DTSTART;TZID=America/Chicago:20270612T190000
DTEND;TZID=America/Chicago:20310612T210000
DTSTAMP:20260419T153412
CREATED:20260401T040554Z
LAST-MODIFIED:20260401T040617Z
UID:10012362-1812826800-1939064400@www.landonwinery.com
SUMMARY:Music Bingo Denison
DESCRIPTION:
URL:https://www.landonwinery.com/event/music-bingo-denison-2-2-2/2027-06-12/
LOCATION:Landon Winery Denison\, 318 W Main St.\, Denison\, TX\, 75020\, United States
CATEGORIES:Music Bingo,Weekly
ATTACH;FMTTYPE=image/jpeg:https://www.landonwinery.com/wp-content/uploads/2025/08/Bingo-Denison.jpg
ORGANIZER;CN="Landon Winery":MAILTO:winery@landonwinery.com
END:VEVENT
BEGIN:VEVENT
DTSTART;TZID=America/Chicago:20270619T190000
DTEND;TZID=America/Chicago:20310619T210000
DTSTAMP:20260419T153412
CREATED:20260401T040554Z
LAST-MODIFIED:20260401T040617Z
UID:10012363-1813431600-1939669200@www.landonwinery.com
SUMMARY:Music Bingo Denison
DESCRIPTION:
URL:https://www.landonwinery.com/event/music-bingo-denison-2-2-2/2027-06-19/
LOCATION:Landon Winery Denison\, 318 W Main St.\, Denison\, TX\, 75020\, United States
CATEGORIES:Music Bingo,Weekly
ATTACH;FMTTYPE=image/jpeg:https://www.landonwinery.com/wp-content/uploads/2025/08/Bingo-Denison.jpg
ORGANIZER;CN="Landon Winery":MAILTO:winery@landonwinery.com
END:VEVENT
BEGIN:VEVENT
DTSTART;TZID=America/Chicago:20270626T190000
DTEND;TZID=America/Chicago:20310626T210000
DTSTAMP:20260419T153412
CREATED:20260401T040554Z
LAST-MODIFIED:20260401T040617Z
UID:10012364-1814036400-1940274000@www.landonwinery.com
SUMMARY:Music Bingo Denison
DESCRIPTION:
URL:https://www.landonwinery.com/event/music-bingo-denison-2-2-2/2027-06-26/
LOCATION:Landon Winery Denison\, 318 W Main St.\, Denison\, TX\, 75020\, United States
CATEGORIES:Music Bingo,Weekly
ATTACH;FMTTYPE=image/jpeg:https://www.landonwinery.com/wp-content/uploads/2025/08/Bingo-Denison.jpg
ORGANIZER;CN="Landon Winery":MAILTO:winery@landonwinery.com
END:VEVENT
BEGIN:VEVENT
DTSTART;TZID=America/Chicago:20270703T190000
DTEND;TZID=America/Chicago:20310703T210000
DTSTAMP:20260419T153412
CREATED:20260401T040554Z
LAST-MODIFIED:20260401T040617Z
UID:10012365-1814641200-1940878800@www.landonwinery.com
SUMMARY:Music Bingo Denison
DESCRIPTION:
URL:https://www.landonwinery.com/event/music-bingo-denison-2-2-2/2027-07-03/
LOCATION:Landon Winery Denison\, 318 W Main St.\, Denison\, TX\, 75020\, United States
CATEGORIES:Music Bingo,Weekly
ATTACH;FMTTYPE=image/jpeg:https://www.landonwinery.com/wp-content/uploads/2025/08/Bingo-Denison.jpg
ORGANIZER;CN="Landon Winery":MAILTO:winery@landonwinery.com
END:VEVENT
BEGIN:VEVENT
DTSTART;TZID=America/Chicago:20270710T190000
DTEND;TZID=America/Chicago:20310710T210000
DTSTAMP:20260419T153412
CREATED:20260401T040554Z
LAST-MODIFIED:20260401T040617Z
UID:10012366-1815246000-1941483600@www.landonwinery.com
SUMMARY:Music Bingo Denison
DESCRIPTION:
URL:https://www.landonwinery.com/event/music-bingo-denison-2-2-2/2027-07-10/
LOCATION:Landon Winery Denison\, 318 W Main St.\, Denison\, TX\, 75020\, United States
CATEGORIES:Music Bingo,Weekly
ATTACH;FMTTYPE=image/jpeg:https://www.landonwinery.com/wp-content/uploads/2025/08/Bingo-Denison.jpg
ORGANIZER;CN="Landon Winery":MAILTO:winery@landonwinery.com
END:VEVENT
BEGIN:VEVENT
DTSTART;TZID=America/Chicago:20270717T190000
DTEND;TZID=America/Chicago:20310717T210000
DTSTAMP:20260419T153412
CREATED:20260401T040554Z
LAST-MODIFIED:20260401T040617Z
UID:10012367-1815850800-1942088400@www.landonwinery.com
SUMMARY:Music Bingo Denison
DESCRIPTION:
URL:https://www.landonwinery.com/event/music-bingo-denison-2-2-2/2027-07-17/
LOCATION:Landon Winery Denison\, 318 W Main St.\, Denison\, TX\, 75020\, United States
CATEGORIES:Music Bingo,Weekly
ATTACH;FMTTYPE=image/jpeg:https://www.landonwinery.com/wp-content/uploads/2025/08/Bingo-Denison.jpg
ORGANIZER;CN="Landon Winery":MAILTO:winery@landonwinery.com
END:VEVENT
BEGIN:VEVENT
DTSTART;TZID=America/Chicago:20270724T190000
DTEND;TZID=America/Chicago:20310724T210000
DTSTAMP:20260419T153412
CREATED:20260401T040554Z
LAST-MODIFIED:20260401T040617Z
UID:10012368-1816455600-1942693200@www.landonwinery.com
SUMMARY:Music Bingo Denison
DESCRIPTION:
URL:https://www.landonwinery.com/event/music-bingo-denison-2-2-2/2027-07-24/
LOCATION:Landon Winery Denison\, 318 W Main St.\, Denison\, TX\, 75020\, United States
CATEGORIES:Music Bingo,Weekly
ATTACH;FMTTYPE=image/jpeg:https://www.landonwinery.com/wp-content/uploads/2025/08/Bingo-Denison.jpg
ORGANIZER;CN="Landon Winery":MAILTO:winery@landonwinery.com
END:VEVENT
BEGIN:VEVENT
DTSTART;TZID=America/Chicago:20270731T190000
DTEND;TZID=America/Chicago:20310731T210000
DTSTAMP:20260419T153412
CREATED:20260401T040554Z
LAST-MODIFIED:20260401T040617Z
UID:10012369-1817060400-1943298000@www.landonwinery.com
SUMMARY:Music Bingo Denison
DESCRIPTION:
URL:https://www.landonwinery.com/event/music-bingo-denison-2-2-2/2027-07-31/
LOCATION:Landon Winery Denison\, 318 W Main St.\, Denison\, TX\, 75020\, United States
CATEGORIES:Music Bingo,Weekly
ATTACH;FMTTYPE=image/jpeg:https://www.landonwinery.com/wp-content/uploads/2025/08/Bingo-Denison.jpg
ORGANIZER;CN="Landon Winery":MAILTO:winery@landonwinery.com
END:VEVENT
BEGIN:VEVENT
DTSTART;TZID=America/Chicago:20270807T190000
DTEND;TZID=America/Chicago:20310807T210000
DTSTAMP:20260419T153412
CREATED:20260401T040554Z
LAST-MODIFIED:20260401T040617Z
UID:10012370-1817665200-1943902800@www.landonwinery.com
SUMMARY:Music Bingo Denison
DESCRIPTION:
URL:https://www.landonwinery.com/event/music-bingo-denison-2-2-2/2027-08-07/
LOCATION:Landon Winery Denison\, 318 W Main St.\, Denison\, TX\, 75020\, United States
CATEGORIES:Music Bingo,Weekly
ATTACH;FMTTYPE=image/jpeg:https://www.landonwinery.com/wp-content/uploads/2025/08/Bingo-Denison.jpg
ORGANIZER;CN="Landon Winery":MAILTO:winery@landonwinery.com
END:VEVENT
BEGIN:VEVENT
DTSTART;TZID=America/Chicago:20270814T190000
DTEND;TZID=America/Chicago:20310814T210000
DTSTAMP:20260419T153412
CREATED:20260401T040554Z
LAST-MODIFIED:20260401T040617Z
UID:10012371-1818270000-1944507600@www.landonwinery.com
SUMMARY:Music Bingo Denison
DESCRIPTION:
URL:https://www.landonwinery.com/event/music-bingo-denison-2-2-2/2027-08-14/
LOCATION:Landon Winery Denison\, 318 W Main St.\, Denison\, TX\, 75020\, United States
CATEGORIES:Music Bingo,Weekly
ATTACH;FMTTYPE=image/jpeg:https://www.landonwinery.com/wp-content/uploads/2025/08/Bingo-Denison.jpg
ORGANIZER;CN="Landon Winery":MAILTO:winery@landonwinery.com
END:VEVENT
BEGIN:VEVENT
DTSTART;TZID=America/Chicago:20270821T190000
DTEND;TZID=America/Chicago:20310821T210000
DTSTAMP:20260419T153412
CREATED:20260401T040554Z
LAST-MODIFIED:20260401T040617Z
UID:10012372-1818874800-1945112400@www.landonwinery.com
SUMMARY:Music Bingo Denison
DESCRIPTION:
URL:https://www.landonwinery.com/event/music-bingo-denison-2-2-2/2027-08-21/
LOCATION:Landon Winery Denison\, 318 W Main St.\, Denison\, TX\, 75020\, United States
CATEGORIES:Music Bingo,Weekly
ATTACH;FMTTYPE=image/jpeg:https://www.landonwinery.com/wp-content/uploads/2025/08/Bingo-Denison.jpg
ORGANIZER;CN="Landon Winery":MAILTO:winery@landonwinery.com
END:VEVENT
BEGIN:VEVENT
DTSTART;TZID=America/Chicago:20270828T190000
DTEND;TZID=America/Chicago:20310828T210000
DTSTAMP:20260419T153412
CREATED:20260401T040554Z
LAST-MODIFIED:20260401T040617Z
UID:10012373-1819479600-1945717200@www.landonwinery.com
SUMMARY:Music Bingo Denison
DESCRIPTION:
URL:https://www.landonwinery.com/event/music-bingo-denison-2-2-2/2027-08-28/
LOCATION:Landon Winery Denison\, 318 W Main St.\, Denison\, TX\, 75020\, United States
CATEGORIES:Music Bingo,Weekly
ATTACH;FMTTYPE=image/jpeg:https://www.landonwinery.com/wp-content/uploads/2025/08/Bingo-Denison.jpg
ORGANIZER;CN="Landon Winery":MAILTO:winery@landonwinery.com
END:VEVENT
BEGIN:VEVENT
DTSTART;TZID=America/Chicago:20270904T190000
DTEND;TZID=America/Chicago:20310904T210000
DTSTAMP:20260419T153412
CREATED:20260401T040554Z
LAST-MODIFIED:20260401T040617Z
UID:10012374-1820084400-1946322000@www.landonwinery.com
SUMMARY:Music Bingo Denison
DESCRIPTION:
URL:https://www.landonwinery.com/event/music-bingo-denison-2-2-2/2027-09-04/
LOCATION:Landon Winery Denison\, 318 W Main St.\, Denison\, TX\, 75020\, United States
CATEGORIES:Music Bingo,Weekly
ATTACH;FMTTYPE=image/jpeg:https://www.landonwinery.com/wp-content/uploads/2025/08/Bingo-Denison.jpg
ORGANIZER;CN="Landon Winery":MAILTO:winery@landonwinery.com
END:VEVENT
BEGIN:VEVENT
DTSTART;TZID=America/Chicago:20270911T190000
DTEND;TZID=America/Chicago:20310911T210000
DTSTAMP:20260419T153412
CREATED:20260401T040554Z
LAST-MODIFIED:20260401T040617Z
UID:10012375-1820689200-1946926800@www.landonwinery.com
SUMMARY:Music Bingo Denison
DESCRIPTION:
URL:https://www.landonwinery.com/event/music-bingo-denison-2-2-2/2027-09-11/
LOCATION:Landon Winery Denison\, 318 W Main St.\, Denison\, TX\, 75020\, United States
CATEGORIES:Music Bingo,Weekly
ATTACH;FMTTYPE=image/jpeg:https://www.landonwinery.com/wp-content/uploads/2025/08/Bingo-Denison.jpg
ORGANIZER;CN="Landon Winery":MAILTO:winery@landonwinery.com
END:VEVENT
BEGIN:VEVENT
DTSTART;TZID=America/Chicago:20270918T190000
DTEND;TZID=America/Chicago:20310918T210000
DTSTAMP:20260419T153412
CREATED:20260401T040554Z
LAST-MODIFIED:20260401T040617Z
UID:10012376-1821294000-1947531600@www.landonwinery.com
SUMMARY:Music Bingo Denison
DESCRIPTION:
URL:https://www.landonwinery.com/event/music-bingo-denison-2-2-2/2027-09-18/
LOCATION:Landon Winery Denison\, 318 W Main St.\, Denison\, TX\, 75020\, United States
CATEGORIES:Music Bingo,Weekly
ATTACH;FMTTYPE=image/jpeg:https://www.landonwinery.com/wp-content/uploads/2025/08/Bingo-Denison.jpg
ORGANIZER;CN="Landon Winery":MAILTO:winery@landonwinery.com
END:VEVENT
BEGIN:VEVENT
DTSTART;TZID=America/Chicago:20270925T190000
DTEND;TZID=America/Chicago:20310925T210000
DTSTAMP:20260419T153412
CREATED:20260401T040554Z
LAST-MODIFIED:20260401T040617Z
UID:10012377-1821898800-1948136400@www.landonwinery.com
SUMMARY:Music Bingo Denison
DESCRIPTION:
URL:https://www.landonwinery.com/event/music-bingo-denison-2-2-2/2027-09-25/
LOCATION:Landon Winery Denison\, 318 W Main St.\, Denison\, TX\, 75020\, United States
CATEGORIES:Music Bingo,Weekly
ATTACH;FMTTYPE=image/jpeg:https://www.landonwinery.com/wp-content/uploads/2025/08/Bingo-Denison.jpg
ORGANIZER;CN="Landon Winery":MAILTO:winery@landonwinery.com
END:VEVENT
BEGIN:VEVENT
DTSTART;TZID=America/Chicago:20271002T190000
DTEND;TZID=America/Chicago:20311002T210000
DTSTAMP:20260419T153412
CREATED:20260401T040554Z
LAST-MODIFIED:20260401T040617Z
UID:10012378-1822503600-1948741200@www.landonwinery.com
SUMMARY:Music Bingo Denison
DESCRIPTION:
URL:https://www.landonwinery.com/event/music-bingo-denison-2-2-2/2027-10-02/
LOCATION:Landon Winery Denison\, 318 W Main St.\, Denison\, TX\, 75020\, United States
CATEGORIES:Music Bingo,Weekly
ATTACH;FMTTYPE=image/jpeg:https://www.landonwinery.com/wp-content/uploads/2025/08/Bingo-Denison.jpg
ORGANIZER;CN="Landon Winery":MAILTO:winery@landonwinery.com
END:VEVENT
BEGIN:VEVENT
DTSTART;TZID=America/Chicago:20271009T190000
DTEND;TZID=America/Chicago:20311009T210000
DTSTAMP:20260419T153412
CREATED:20260401T040554Z
LAST-MODIFIED:20260401T040617Z
UID:10012379-1823108400-1949346000@www.landonwinery.com
SUMMARY:Music Bingo Denison
DESCRIPTION:
URL:https://www.landonwinery.com/event/music-bingo-denison-2-2-2/2027-10-09/
LOCATION:Landon Winery Denison\, 318 W Main St.\, Denison\, TX\, 75020\, United States
CATEGORIES:Music Bingo,Weekly
ATTACH;FMTTYPE=image/jpeg:https://www.landonwinery.com/wp-content/uploads/2025/08/Bingo-Denison.jpg
ORGANIZER;CN="Landon Winery":MAILTO:winery@landonwinery.com
END:VEVENT
BEGIN:VEVENT
DTSTART;TZID=America/Chicago:20271016T190000
DTEND;TZID=America/Chicago:20311016T210000
DTSTAMP:20260419T153412
CREATED:20260401T040554Z
LAST-MODIFIED:20260401T040617Z
UID:10012380-1823713200-1949950800@www.landonwinery.com
SUMMARY:Music Bingo Denison
DESCRIPTION:
URL:https://www.landonwinery.com/event/music-bingo-denison-2-2-2/2027-10-16/
LOCATION:Landon Winery Denison\, 318 W Main St.\, Denison\, TX\, 75020\, United States
CATEGORIES:Music Bingo,Weekly
ATTACH;FMTTYPE=image/jpeg:https://www.landonwinery.com/wp-content/uploads/2025/08/Bingo-Denison.jpg
ORGANIZER;CN="Landon Winery":MAILTO:winery@landonwinery.com
END:VEVENT
BEGIN:VEVENT
DTSTART;TZID=America/Chicago:20271023T190000
DTEND;TZID=America/Chicago:20311023T210000
DTSTAMP:20260419T153412
CREATED:20260401T040554Z
LAST-MODIFIED:20260401T040617Z
UID:10012381-1824318000-1950555600@www.landonwinery.com
SUMMARY:Music Bingo Denison
DESCRIPTION:
URL:https://www.landonwinery.com/event/music-bingo-denison-2-2-2/2027-10-23/
LOCATION:Landon Winery Denison\, 318 W Main St.\, Denison\, TX\, 75020\, United States
CATEGORIES:Music Bingo,Weekly
ATTACH;FMTTYPE=image/jpeg:https://www.landonwinery.com/wp-content/uploads/2025/08/Bingo-Denison.jpg
ORGANIZER;CN="Landon Winery":MAILTO:winery@landonwinery.com
END:VEVENT
BEGIN:VEVENT
DTSTART;TZID=America/Chicago:20271030T190000
DTEND;TZID=America/Chicago:20311030T210000
DTSTAMP:20260419T153412
CREATED:20260401T040554Z
LAST-MODIFIED:20260401T040617Z
UID:10012382-1824922800-1951160400@www.landonwinery.com
SUMMARY:Music Bingo Denison
DESCRIPTION:
URL:https://www.landonwinery.com/event/music-bingo-denison-2-2-2/2027-10-30/
LOCATION:Landon Winery Denison\, 318 W Main St.\, Denison\, TX\, 75020\, United States
CATEGORIES:Music Bingo,Weekly
ATTACH;FMTTYPE=image/jpeg:https://www.landonwinery.com/wp-content/uploads/2025/08/Bingo-Denison.jpg
ORGANIZER;CN="Landon Winery":MAILTO:winery@landonwinery.com
END:VEVENT
BEGIN:VEVENT
DTSTART;TZID=America/Chicago:20271106T190000
DTEND;TZID=America/Chicago:20311106T200000
DTSTAMP:20260419T153412
CREATED:20260401T040554Z
LAST-MODIFIED:20260401T040617Z
UID:10012383-1825527600-1951761600@www.landonwinery.com
SUMMARY:Music Bingo Denison
DESCRIPTION:
URL:https://www.landonwinery.com/event/music-bingo-denison-2-2-2/2027-11-06/
LOCATION:Landon Winery Denison\, 318 W Main St.\, Denison\, TX\, 75020\, United States
CATEGORIES:Music Bingo,Weekly
ATTACH;FMTTYPE=image/jpeg:https://www.landonwinery.com/wp-content/uploads/2025/08/Bingo-Denison.jpg
ORGANIZER;CN="Landon Winery":MAILTO:winery@landonwinery.com
END:VEVENT
BEGIN:VEVENT
DTSTART;TZID=America/Chicago:20271113T190000
DTEND;TZID=America/Chicago:20311113T210000
DTSTAMP:20260419T153412
CREATED:20260401T040554Z
LAST-MODIFIED:20260401T040617Z
UID:10012384-1826132400-1952370000@www.landonwinery.com
SUMMARY:Music Bingo Denison
DESCRIPTION:
URL:https://www.landonwinery.com/event/music-bingo-denison-2-2-2/2027-11-13/
LOCATION:Landon Winery Denison\, 318 W Main St.\, Denison\, TX\, 75020\, United States
CATEGORIES:Music Bingo,Weekly
ATTACH;FMTTYPE=image/jpeg:https://www.landonwinery.com/wp-content/uploads/2025/08/Bingo-Denison.jpg
ORGANIZER;CN="Landon Winery":MAILTO:winery@landonwinery.com
END:VEVENT
BEGIN:VEVENT
DTSTART;TZID=America/Chicago:20271120T190000
DTEND;TZID=America/Chicago:20311120T210000
DTSTAMP:20260419T153412
CREATED:20260401T040554Z
LAST-MODIFIED:20260401T040617Z
UID:10012385-1826737200-1952974800@www.landonwinery.com
SUMMARY:Music Bingo Denison
DESCRIPTION:
URL:https://www.landonwinery.com/event/music-bingo-denison-2-2-2/2027-11-20/
LOCATION:Landon Winery Denison\, 318 W Main St.\, Denison\, TX\, 75020\, United States
CATEGORIES:Music Bingo,Weekly
ATTACH;FMTTYPE=image/jpeg:https://www.landonwinery.com/wp-content/uploads/2025/08/Bingo-Denison.jpg
ORGANIZER;CN="Landon Winery":MAILTO:winery@landonwinery.com
END:VEVENT
BEGIN:VEVENT
DTSTART;TZID=America/Chicago:20271125T120000
DTEND;TZID=America/Chicago:20271125T210000
DTSTAMP:20260419T153412
CREATED:20250909T162501Z
LAST-MODIFIED:20250909T162510Z
UID:10008008-1827144000-1827176400@www.landonwinery.com
SUMMARY:Thursday Uncorked Grapevine
DESCRIPTION:
URL:https://www.landonwinery.com/event/9545-2/2027-11-25/
LOCATION:Sloan & Williams Winery Grapevine\, 401 S Main St\, Grapevine\, 76051\, United States
ATTACH;FMTTYPE=image/jpeg:https://www.landonwinery.com/wp-content/uploads/2025/02/Thursday-Uncorked.jpg
ORGANIZER;CN="Sloan & Williams Winery":MAILTO:sloanwilliams@landonwinery.com
END:VEVENT
BEGIN:VEVENT
DTSTART;TZID=America/Chicago:20271125T183000
DTEND;TZID=America/Chicago:20271125T203000
DTSTAMP:20260419T153412
CREATED:20251020T214322Z
LAST-MODIFIED:20251020T220826Z
UID:10009105-1827167400-1827174600@www.landonwinery.com
SUMMARY:Music Bingo Wylie
DESCRIPTION:
URL:https://www.landonwinery.com/event/music-bingo-wylie-2/2027-11-25/
LOCATION:Landon Winery Wylie\, 103 N Ballard Ave\, Wylie\, TX\, 75098\, United States
CATEGORIES:Thursday,Weekly
ATTACH;FMTTYPE=image/jpeg:https://www.landonwinery.com/wp-content/uploads/2025/01/Wylie-Bingo.jpg
ORGANIZER;CN="Landon Winery":MAILTO:winery@landonwinery.com
END:VEVENT
BEGIN:VEVENT
DTSTART;TZID=America/Chicago:20271126T183000
DTEND;TZID=America/Chicago:20271126T203000
DTSTAMP:20260419T153412
CREATED:20250909T165030Z
LAST-MODIFIED:20250909T165042Z
UID:10009660-1827253800-1827261000@www.landonwinery.com
SUMMARY:Music Bingo Gainesville
DESCRIPTION:
URL:https://www.landonwinery.com/event/music-bingo-gainesville-2/2027-11-26/
LOCATION:Landon Winery Gainesville\, 201 W California St.\, Gainesville\, TX\, 76240\, United States
CATEGORIES:Friday,Weekly
ATTACH;FMTTYPE=image/jpeg:https://www.landonwinery.com/wp-content/uploads/2025/01/Bingo-Gainesville-1.jpg
ORGANIZER;CN="Landon Winery":MAILTO:winery@landonwinery.com
END:VEVENT
BEGIN:VEVENT
DTSTART;TZID=America/Chicago:20271126T190000
DTEND;TZID=America/Chicago:20271126T210000
DTSTAMP:20260419T153412
CREATED:20250105T193510Z
LAST-MODIFIED:20250930T224615Z
UID:10005268-1827255600-1827262800@www.landonwinery.com
SUMMARY:Music Bingo McKinney
DESCRIPTION:
URL:https://www.landonwinery.com/event/music-bingo-mckinney/2027-11-26/
LOCATION:Landon Winery McKinney\, 101 N Kentucky St.\, McKinney\, TX\, 75069\, United States
CATEGORIES:Friday,Weekly
ATTACH;FMTTYPE=image/jpeg:https://www.landonwinery.com/wp-content/uploads/2025/01/Music-Bingo-McKinney.jpg
ORGANIZER;CN="Landon Winery":MAILTO:winery@landonwinery.com
END:VEVENT
END:VCALENDAR