BEGIN:VCALENDAR
VERSION:2.0
PRODID:-//Landon Winery - ECPv6.15.18//NONSGML v1.0//EN
CALSCALE:GREGORIAN
METHOD:PUBLISH
X-WR-CALNAME:Landon Winery
X-ORIGINAL-URL:https://www.landonwinery.com
X-WR-CALDESC:Events for Landon Winery
REFRESH-INTERVAL;VALUE=DURATION:PT1H
X-Robots-Tag:noindex
X-PUBLISHED-TTL:PT1H
BEGIN:VTIMEZONE
TZID:America/Chicago
BEGIN:DAYLIGHT
TZOFFSETFROM:-0600
TZOFFSETTO:-0500
TZNAME:CDT
DTSTART:20260308T080000
END:DAYLIGHT
BEGIN:STANDARD
TZOFFSETFROM:-0500
TZOFFSETTO:-0600
TZNAME:CST
DTSTART:20261101T070000
END:STANDARD
BEGIN:DAYLIGHT
TZOFFSETFROM:-0600
TZOFFSETTO:-0500
TZNAME:CDT
DTSTART:20270314T080000
END:DAYLIGHT
BEGIN:STANDARD
TZOFFSETFROM:-0500
TZOFFSETTO:-0600
TZNAME:CST
DTSTART:20271107T070000
END:STANDARD
BEGIN:DAYLIGHT
TZOFFSETFROM:-0600
TZOFFSETTO:-0500
TZNAME:CDT
DTSTART:20280312T080000
END:DAYLIGHT
BEGIN:STANDARD
TZOFFSETFROM:-0500
TZOFFSETTO:-0600
TZNAME:CST
DTSTART:20281105T070000
END:STANDARD
END:VTIMEZONE
BEGIN:VEVENT
DTSTART;TZID=America/Chicago:20270325T183000
DTEND;TZID=America/Chicago:20270325T203000
DTSTAMP:20260422T125123
CREATED:20251020T214322Z
LAST-MODIFIED:20251020T220826Z
UID:10009070-1805999400-1806006600@www.landonwinery.com
SUMMARY:Music Bingo Wylie
DESCRIPTION:
URL:https://www.landonwinery.com/event/music-bingo-wylie-2/2027-03-25/
LOCATION:Landon Winery Wylie\, 103 N Ballard Ave\, Wylie\, TX\, 75098\, United States
CATEGORIES:Thursday,Weekly
ATTACH;FMTTYPE=image/jpeg:https://www.landonwinery.com/wp-content/uploads/2025/01/Wylie-Bingo.jpg
ORGANIZER;CN="Landon Winery":MAILTO:winery@landonwinery.com
END:VEVENT
BEGIN:VEVENT
DTSTART;TZID=America/Chicago:20270325T120000
DTEND;TZID=America/Chicago:20270325T210000
DTSTAMP:20260422T125123
CREATED:20250909T162501Z
LAST-MODIFIED:20250909T162510Z
UID:10007973-1805976000-1806008400@www.landonwinery.com
SUMMARY:Thursday Uncorked Grapevine
DESCRIPTION:
URL:https://www.landonwinery.com/event/9545-2/2027-03-25/
LOCATION:Sloan & Williams Winery Grapevine\, 401 S Main St\, Grapevine\, 76051\, United States
ATTACH;FMTTYPE=image/jpeg:https://www.landonwinery.com/wp-content/uploads/2025/02/Thursday-Uncorked.jpg
ORGANIZER;CN="Sloan & Williams Winery":MAILTO:sloanwilliams@landonwinery.com
END:VEVENT
BEGIN:VEVENT
DTSTART;TZID=America/Chicago:20270324T190000
DTEND;TZID=America/Chicago:20270324T203000
DTSTAMP:20260422T125123
CREATED:20250919T151525Z
LAST-MODIFIED:20250919T151531Z
UID:10009893-1805914800-1805920200@www.landonwinery.com
SUMMARY:Trivia at Red Dirt Cellars
DESCRIPTION:
URL:https://www.landonwinery.com/event/trivia-at-red-dirt-cellars-2/2027-03-24/
LOCATION:Sloan & Williams Winery Grapevine\, 401 S Main St\, Grapevine\, 76051\, United States
CATEGORIES:Trivia Night,Wednesday,Weekly
ATTACH;FMTTYPE=image/jpeg:https://www.landonwinery.com/wp-content/uploads/2025/09/Trivia-RDC.jpg
ORGANIZER;CN="Sloan & Williams Winery":MAILTO:sloanwilliams@landonwinery.com
END:VEVENT
BEGIN:VEVENT
DTSTART;TZID=America/Chicago:20270324T120000
DTEND;TZID=America/Chicago:20270324T210000
DTSTAMP:20260422T125123
CREATED:20250103T185845Z
LAST-MODIFIED:20250108T211900Z
UID:10012081-1805889600-1805922000@www.landonwinery.com
SUMMARY:Wine Down Wednesday Gainesville
DESCRIPTION:
URL:https://www.landonwinery.com/event/wine-down-wednesday-gainesville/2027-03-24/
LOCATION:Landon Winery Gainesville\, 201 W California St.\, Gainesville\, TX\, 76240\, United States
CATEGORIES:Weekly,Wine Wednesday
ATTACH;FMTTYPE=image/jpeg:https://www.landonwinery.com/wp-content/uploads/2024/09/Wine-Down-Wednesday.jpg
ORGANIZER;CN="Landon Winery":MAILTO:winery@landonwinery.com
END:VEVENT
BEGIN:VEVENT
DTSTART;TZID=America/Chicago:20270324T120000
DTEND;TZID=America/Chicago:20270324T210000
DTSTAMP:20260422T125123
CREATED:20250103T185629Z
LAST-MODIFIED:20250108T212009Z
UID:10001944-1805889600-1805922000@www.landonwinery.com
SUMMARY:Wine Down Wednesday Denison
DESCRIPTION:
URL:https://www.landonwinery.com/event/wine-down-wednesday-denison/2027-03-24/
LOCATION:Landon Winery Denison\, 318 W Main St.\, Denison\, TX\, 75020\, United States
CATEGORIES:Weekly,Wine Wednesday
ATTACH;FMTTYPE=image/jpeg:https://www.landonwinery.com/wp-content/uploads/2024/09/Wine-Down-Wednesday.jpg
ORGANIZER;CN="Landon Winery":MAILTO:winery@landonwinery.com
END:VEVENT
BEGIN:VEVENT
DTSTART;TZID=America/Chicago:20270324T120000
DTEND;TZID=America/Chicago:20270324T210000
DTSTAMP:20260422T125123
CREATED:20250103T184945Z
LAST-MODIFIED:20250108T212101Z
UID:10001161-1805889600-1805922000@www.landonwinery.com
SUMMARY:Wine Down Wednesday Grapevine
DESCRIPTION:
URL:https://www.landonwinery.com/event/wine-down-wednesday-grapevine/2027-03-24/
LOCATION:Landon Winery Grapevine\, 415 S. Main St.\, Grapevine\, TX\, 76051\, United States
CATEGORIES:Weekly,Wine Wednesday
ATTACH;FMTTYPE=image/jpeg:https://www.landonwinery.com/wp-content/uploads/2024/09/Wine-Down-Wednesday.jpg
ORGANIZER;CN="Landon Winery":MAILTO:winery@landonwinery.com
END:VEVENT
BEGIN:VEVENT
DTSTART;TZID=America/Chicago:20270324T120000
DTEND;TZID=America/Chicago:20270324T210000
DTSTAMP:20260422T125123
CREATED:20250103T183816Z
LAST-MODIFIED:20250108T211712Z
UID:10000900-1805889600-1805922000@www.landonwinery.com
SUMMARY:Wine Down Wednesday Greenville
DESCRIPTION:
URL:https://www.landonwinery.com/event/wine-down-wednesday-greenville/2027-03-24/
LOCATION:Landon Winery Greenville\, 2508 Lee St.\, Greenville\, TX\, 75401\, United States
CATEGORIES:Weekly,Wine Wednesday
ATTACH;FMTTYPE=image/jpeg:https://www.landonwinery.com/wp-content/uploads/2024/09/Wine-Down-Wednesday.jpg
ORGANIZER;CN="Landon Winery":MAILTO:winery@landonwinery.com
END:VEVENT
BEGIN:VEVENT
DTSTART;TZID=America/Chicago:20270324T120000
DTEND;TZID=America/Chicago:20270324T210000
DTSTAMP:20260422T125123
CREATED:20250103T181944Z
LAST-MODIFIED:20250108T212216Z
UID:10000639-1805889600-1805922000@www.landonwinery.com
SUMMARY:Wine Down Wednesday McKinney
DESCRIPTION:
URL:https://www.landonwinery.com/event/wine-down-wednesday-mckinney/2027-03-24/
LOCATION:Landon Winery McKinney\, 101 N Kentucky St.\, McKinney\, TX\, 75069\, United States
CATEGORIES:Weekly,Wine Wednesday
ATTACH;FMTTYPE=image/jpeg:https://www.landonwinery.com/wp-content/uploads/2024/09/Wine-Down-Wednesday.jpg
ORGANIZER;CN="Landon Winery":MAILTO:winery@landonwinery.com
END:VEVENT
BEGIN:VEVENT
DTSTART;TZID=America/Chicago:20270324T120000
DTEND;TZID=America/Chicago:20270324T210000
DTSTAMP:20260422T125123
CREATED:20250103T181224Z
LAST-MODIFIED:20250108T212438Z
UID:10000378-1805889600-1805922000@www.landonwinery.com
SUMMARY:Wine Down Wednesday Wylie
DESCRIPTION:
URL:https://www.landonwinery.com/event/wine-down-wednesday-wylie/2027-03-24/
LOCATION:Landon Winery Wylie\, 103 N Ballard Ave\, Wylie\, TX\, 75098\, United States
CATEGORIES:Weekly,Wine Wednesday
ATTACH;FMTTYPE=image/jpeg:https://www.landonwinery.com/wp-content/uploads/2024/09/Wine-Down-Wednesday.jpg
ORGANIZER;CN="Landon Winery":MAILTO:winery@landonwinery.com
END:VEVENT
BEGIN:VEVENT
DTSTART;TZID=America/Chicago:20270324T120000
DTEND;TZID=America/Chicago:20270324T210000
DTSTAMP:20260422T125123
CREATED:20240918T012559Z
LAST-MODIFIED:20250103T180339Z
UID:10000117-1805889600-1805922000@www.landonwinery.com
SUMMARY:Wine Down Wednesday Coppell
DESCRIPTION:
URL:https://www.landonwinery.com/event/wine-down-wednesday-coppell/2027-03-24/
LOCATION:Landon Winery Coppell\, 3121 Olympus Boulevard #130\, Coppell\, TX\, 75019\, United States
CATEGORIES:Weekly,Wine Wednesday
ATTACH;FMTTYPE=image/jpeg:https://www.landonwinery.com/wp-content/uploads/2024/09/Wine-Down-Wednesday.jpg
ORGANIZER;CN="Landon Winery":MAILTO:winery@landonwinery.com
END:VEVENT
BEGIN:VEVENT
DTSTART;TZID=America/Chicago:20270321T120000
DTEND;TZID=America/Chicago:20270321T210000
DTSTAMP:20260422T125123
CREATED:20250105T191404Z
LAST-MODIFIED:20250419T140620Z
UID:10004032-1805630400-1805662800@www.landonwinery.com
SUMMARY:Mimosa Mania Sunday Gainesville
DESCRIPTION:
URL:https://www.landonwinery.com/event/mimosa-mania-sunday-gainesville/2027-03-21/
LOCATION:Landon Winery Gainesville\, 201 W California St.\, Gainesville\, TX\, 76240\, United States
ATTACH;FMTTYPE=image/jpeg:https://www.landonwinery.com/wp-content/uploads/2025/01/Mimosa-Mania.jpg
ORGANIZER;CN="Landon Winery":MAILTO:winery@landonwinery.com
END:VEVENT
BEGIN:VEVENT
DTSTART;TZID=America/Chicago:20270321T120000
DTEND;TZID=America/Chicago:20270321T210000
DTSTAMP:20260422T125123
CREATED:20250105T191155Z
LAST-MODIFIED:20250419T140757Z
UID:10003771-1805630400-1805662800@www.landonwinery.com
SUMMARY:Mimosa Mania Sunday Denison
DESCRIPTION:
URL:https://www.landonwinery.com/event/mimosa-mania-sunday-denison/2027-03-21/
LOCATION:Landon Winery Denison\, 318 W Main St.\, Denison\, TX\, 75020\, United States
ATTACH;FMTTYPE=image/jpeg:https://www.landonwinery.com/wp-content/uploads/2025/01/Mimosa-Mania.jpg
ORGANIZER;CN="Landon Winery":MAILTO:winery@landonwinery.com
END:VEVENT
BEGIN:VEVENT
DTSTART;TZID=America/Chicago:20270321T120000
DTEND;TZID=America/Chicago:20270321T210000
DTSTAMP:20260422T125123
CREATED:20250105T190943Z
LAST-MODIFIED:20250419T140913Z
UID:10003510-1805630400-1805662800@www.landonwinery.com
SUMMARY:Mimosa Mania Sunday McKinney
DESCRIPTION:
URL:https://www.landonwinery.com/event/mimosa-mania-sunday-mckinney/2027-03-21/
LOCATION:Landon Winery McKinney\, 101 N Kentucky St.\, McKinney\, TX\, 75069\, United States
ATTACH;FMTTYPE=image/jpeg:https://www.landonwinery.com/wp-content/uploads/2025/01/Mimosa-Mania.jpg
ORGANIZER;CN="Landon Winery":MAILTO:winery@landonwinery.com
END:VEVENT
BEGIN:VEVENT
DTSTART;TZID=America/Chicago:20270321T120000
DTEND;TZID=America/Chicago:20270321T210000
DTSTAMP:20260422T125123
CREATED:20250105T190537Z
LAST-MODIFIED:20250419T141007Z
UID:10003249-1805630400-1805662800@www.landonwinery.com
SUMMARY:Mimosa Mania Sunday Grapevine
DESCRIPTION:
URL:https://www.landonwinery.com/event/mimosa-mania-sunday-grapevine/2027-03-21/
LOCATION:Landon Winery Grapevine\, 415 S. Main St.\, Grapevine\, TX\, 76051\, United States
CATEGORIES:Sunday,Weekly
ATTACH;FMTTYPE=image/jpeg:https://www.landonwinery.com/wp-content/uploads/2025/01/Mimosa-Mania.jpg
ORGANIZER;CN="Landon Winery":MAILTO:winery@landonwinery.com
END:VEVENT
BEGIN:VEVENT
DTSTART;TZID=America/Chicago:20270321T120000
DTEND;TZID=America/Chicago:20270321T210000
DTSTAMP:20260422T125123
CREATED:20250103T192846Z
LAST-MODIFIED:20250419T141109Z
UID:10002988-1805630400-1805662800@www.landonwinery.com
SUMMARY:Mimosa Mania Sunday Coppell
DESCRIPTION:
URL:https://www.landonwinery.com/event/mimosa-mania-sunday-coppell/2027-03-21/
LOCATION:Landon Winery Coppell\, 3121 Olympus Boulevard #130\, Coppell\, TX\, 75019\, United States
CATEGORIES:Sunday,Weekly
ATTACH;FMTTYPE=image/jpeg:https://www.landonwinery.com/wp-content/uploads/2025/01/Mimosa-Mania.jpg
ORGANIZER;CN="Landon Winery":MAILTO:winery@landonwinery.com
END:VEVENT
BEGIN:VEVENT
DTSTART;TZID=America/Chicago:20270321T120000
DTEND;TZID=America/Chicago:20270321T210000
DTSTAMP:20260422T125123
CREATED:20250103T192301Z
LAST-MODIFIED:20250419T141237Z
UID:10002727-1805630400-1805662800@www.landonwinery.com
SUMMARY:Mimosa Mania Sunday Greenville
DESCRIPTION:
URL:https://www.landonwinery.com/event/mimosa-mania-sunday-greenville/2027-03-21/
LOCATION:Landon Winery Greenville\, 2508 Lee St.\, Greenville\, TX\, 75401\, United States
CATEGORIES:Sunday,Weekly
ATTACH;FMTTYPE=image/jpeg:https://www.landonwinery.com/wp-content/uploads/2025/01/Mimosa-Mania.jpg
ORGANIZER;CN="Landon Winery":MAILTO:winery@landonwinery.com
END:VEVENT
BEGIN:VEVENT
DTSTART;TZID=America/Chicago:20270321T120000
DTEND;TZID=America/Chicago:20270321T210000
DTSTAMP:20260422T125123
CREATED:20250103T191050Z
LAST-MODIFIED:20250419T141453Z
UID:10002466-1805630400-1805662800@www.landonwinery.com
SUMMARY:Mimosa Mania Sunday Wylie
DESCRIPTION:
URL:https://www.landonwinery.com/event/mimosa-mania-sunday-wylie/2027-03-21/
LOCATION:Landon Winery Wylie\, 103 N Ballard Ave\, Wylie\, TX\, 75098\, United States
CATEGORIES:Sunday,Weekly
ATTACH;FMTTYPE=image/jpeg:https://www.landonwinery.com/wp-content/uploads/2025/01/Mimosa-Mania.jpg
ORGANIZER;CN="Landon Winery":MAILTO:winery@landonwinery.com
END:VEVENT
BEGIN:VEVENT
DTSTART;TZID=America/Chicago:20270319T190000
DTEND;TZID=America/Chicago:20270319T210000
DTSTAMP:20260422T125123
CREATED:20250105T193853Z
LAST-MODIFIED:20250704T141920Z
UID:10005492-1805482800-1805490000@www.landonwinery.com
SUMMARY:Music Bingo Greenville
DESCRIPTION:
URL:https://www.landonwinery.com/event/music-bingo-greenville/2027-03-19/
LOCATION:Landon Winery Greenville\, 2508 Lee St.\, Greenville\, TX\, 75401\, United States
CATEGORIES:Friday,Weekly
ATTACH;FMTTYPE=image/jpeg:https://www.landonwinery.com/wp-content/uploads/2025/01/Music-Bingo-Greenville.jpg
ORGANIZER;CN="Landon Winery":MAILTO:winery@landonwinery.com
END:VEVENT
BEGIN:VEVENT
DTSTART;TZID=America/Chicago:20270319T190000
DTEND;TZID=America/Chicago:20270319T210000
DTSTAMP:20260422T125123
CREATED:20250105T193510Z
LAST-MODIFIED:20250930T224615Z
UID:10005232-1805482800-1805490000@www.landonwinery.com
SUMMARY:Music Bingo McKinney
DESCRIPTION:
URL:https://www.landonwinery.com/event/music-bingo-mckinney/2027-03-19/
LOCATION:Landon Winery McKinney\, 101 N Kentucky St.\, McKinney\, TX\, 75069\, United States
CATEGORIES:Friday,Weekly
ATTACH;FMTTYPE=image/jpeg:https://www.landonwinery.com/wp-content/uploads/2025/01/Music-Bingo-McKinney.jpg
ORGANIZER;CN="Landon Winery":MAILTO:winery@landonwinery.com
END:VEVENT
BEGIN:VEVENT
DTSTART;TZID=America/Chicago:20270319T183000
DTEND;TZID=America/Chicago:20270319T203000
DTSTAMP:20260422T125123
CREATED:20250909T165030Z
LAST-MODIFIED:20250909T165042Z
UID:10009624-1805481000-1805488200@www.landonwinery.com
SUMMARY:Music Bingo Gainesville
DESCRIPTION:
URL:https://www.landonwinery.com/event/music-bingo-gainesville-2/2027-03-19/
LOCATION:Landon Winery Gainesville\, 201 W California St.\, Gainesville\, TX\, 76240\, United States
CATEGORIES:Friday,Weekly
ATTACH;FMTTYPE=image/jpeg:https://www.landonwinery.com/wp-content/uploads/2025/01/Bingo-Gainesville-1.jpg
ORGANIZER;CN="Landon Winery":MAILTO:winery@landonwinery.com
END:VEVENT
BEGIN:VEVENT
DTSTART;TZID=America/Chicago:20270318T183000
DTEND;TZID=America/Chicago:20270318T203000
DTSTAMP:20260422T125123
CREATED:20251020T214322Z
LAST-MODIFIED:20251020T220826Z
UID:10009069-1805394600-1805401800@www.landonwinery.com
SUMMARY:Music Bingo Wylie
DESCRIPTION:
URL:https://www.landonwinery.com/event/music-bingo-wylie-2/2027-03-18/
LOCATION:Landon Winery Wylie\, 103 N Ballard Ave\, Wylie\, TX\, 75098\, United States
CATEGORIES:Thursday,Weekly
ATTACH;FMTTYPE=image/jpeg:https://www.landonwinery.com/wp-content/uploads/2025/01/Wylie-Bingo.jpg
ORGANIZER;CN="Landon Winery":MAILTO:winery@landonwinery.com
END:VEVENT
BEGIN:VEVENT
DTSTART;TZID=America/Chicago:20270318T120000
DTEND;TZID=America/Chicago:20270318T210000
DTSTAMP:20260422T125123
CREATED:20250909T162501Z
LAST-MODIFIED:20250909T162510Z
UID:10007972-1805371200-1805403600@www.landonwinery.com
SUMMARY:Thursday Uncorked Grapevine
DESCRIPTION:
URL:https://www.landonwinery.com/event/9545-2/2027-03-18/
LOCATION:Sloan & Williams Winery Grapevine\, 401 S Main St\, Grapevine\, 76051\, United States
ATTACH;FMTTYPE=image/jpeg:https://www.landonwinery.com/wp-content/uploads/2025/02/Thursday-Uncorked.jpg
ORGANIZER;CN="Sloan & Williams Winery":MAILTO:sloanwilliams@landonwinery.com
END:VEVENT
BEGIN:VEVENT
DTSTART;TZID=America/Chicago:20270317T190000
DTEND;TZID=America/Chicago:20270317T203000
DTSTAMP:20260422T125123
CREATED:20250919T151525Z
LAST-MODIFIED:20250919T151531Z
UID:10009892-1805310000-1805315400@www.landonwinery.com
SUMMARY:Trivia at Red Dirt Cellars
DESCRIPTION:
URL:https://www.landonwinery.com/event/trivia-at-red-dirt-cellars-2/2027-03-17/
LOCATION:Sloan & Williams Winery Grapevine\, 401 S Main St\, Grapevine\, 76051\, United States
CATEGORIES:Trivia Night,Wednesday,Weekly
ATTACH;FMTTYPE=image/jpeg:https://www.landonwinery.com/wp-content/uploads/2025/09/Trivia-RDC.jpg
ORGANIZER;CN="Sloan & Williams Winery":MAILTO:sloanwilliams@landonwinery.com
END:VEVENT
BEGIN:VEVENT
DTSTART;TZID=America/Chicago:20270317T120000
DTEND;TZID=America/Chicago:20270317T210000
DTSTAMP:20260422T125123
CREATED:20250103T185845Z
LAST-MODIFIED:20250108T211900Z
UID:10012080-1805284800-1805317200@www.landonwinery.com
SUMMARY:Wine Down Wednesday Gainesville
DESCRIPTION:
URL:https://www.landonwinery.com/event/wine-down-wednesday-gainesville/2027-03-17/
LOCATION:Landon Winery Gainesville\, 201 W California St.\, Gainesville\, TX\, 76240\, United States
CATEGORIES:Weekly,Wine Wednesday
ATTACH;FMTTYPE=image/jpeg:https://www.landonwinery.com/wp-content/uploads/2024/09/Wine-Down-Wednesday.jpg
ORGANIZER;CN="Landon Winery":MAILTO:winery@landonwinery.com
END:VEVENT
BEGIN:VEVENT
DTSTART;TZID=America/Chicago:20270317T120000
DTEND;TZID=America/Chicago:20270317T210000
DTSTAMP:20260422T125123
CREATED:20250103T185629Z
LAST-MODIFIED:20250108T212009Z
UID:10001943-1805284800-1805317200@www.landonwinery.com
SUMMARY:Wine Down Wednesday Denison
DESCRIPTION:
URL:https://www.landonwinery.com/event/wine-down-wednesday-denison/2027-03-17/
LOCATION:Landon Winery Denison\, 318 W Main St.\, Denison\, TX\, 75020\, United States
CATEGORIES:Weekly,Wine Wednesday
ATTACH;FMTTYPE=image/jpeg:https://www.landonwinery.com/wp-content/uploads/2024/09/Wine-Down-Wednesday.jpg
ORGANIZER;CN="Landon Winery":MAILTO:winery@landonwinery.com
END:VEVENT
BEGIN:VEVENT
DTSTART;TZID=America/Chicago:20270317T120000
DTEND;TZID=America/Chicago:20270317T210000
DTSTAMP:20260422T125123
CREATED:20250103T184945Z
LAST-MODIFIED:20250108T212101Z
UID:10001160-1805284800-1805317200@www.landonwinery.com
SUMMARY:Wine Down Wednesday Grapevine
DESCRIPTION:
URL:https://www.landonwinery.com/event/wine-down-wednesday-grapevine/2027-03-17/
LOCATION:Landon Winery Grapevine\, 415 S. Main St.\, Grapevine\, TX\, 76051\, United States
CATEGORIES:Weekly,Wine Wednesday
ATTACH;FMTTYPE=image/jpeg:https://www.landonwinery.com/wp-content/uploads/2024/09/Wine-Down-Wednesday.jpg
ORGANIZER;CN="Landon Winery":MAILTO:winery@landonwinery.com
END:VEVENT
BEGIN:VEVENT
DTSTART;TZID=America/Chicago:20270317T120000
DTEND;TZID=America/Chicago:20270317T210000
DTSTAMP:20260422T125123
CREATED:20250103T183816Z
LAST-MODIFIED:20250108T211712Z
UID:10000899-1805284800-1805317200@www.landonwinery.com
SUMMARY:Wine Down Wednesday Greenville
DESCRIPTION:
URL:https://www.landonwinery.com/event/wine-down-wednesday-greenville/2027-03-17/
LOCATION:Landon Winery Greenville\, 2508 Lee St.\, Greenville\, TX\, 75401\, United States
CATEGORIES:Weekly,Wine Wednesday
ATTACH;FMTTYPE=image/jpeg:https://www.landonwinery.com/wp-content/uploads/2024/09/Wine-Down-Wednesday.jpg
ORGANIZER;CN="Landon Winery":MAILTO:winery@landonwinery.com
END:VEVENT
BEGIN:VEVENT
DTSTART;TZID=America/Chicago:20270317T120000
DTEND;TZID=America/Chicago:20270317T210000
DTSTAMP:20260422T125123
CREATED:20250103T181944Z
LAST-MODIFIED:20250108T212216Z
UID:10000638-1805284800-1805317200@www.landonwinery.com
SUMMARY:Wine Down Wednesday McKinney
DESCRIPTION:
URL:https://www.landonwinery.com/event/wine-down-wednesday-mckinney/2027-03-17/
LOCATION:Landon Winery McKinney\, 101 N Kentucky St.\, McKinney\, TX\, 75069\, United States
CATEGORIES:Weekly,Wine Wednesday
ATTACH;FMTTYPE=image/jpeg:https://www.landonwinery.com/wp-content/uploads/2024/09/Wine-Down-Wednesday.jpg
ORGANIZER;CN="Landon Winery":MAILTO:winery@landonwinery.com
END:VEVENT
BEGIN:VEVENT
DTSTART;TZID=America/Chicago:20270317T120000
DTEND;TZID=America/Chicago:20270317T210000
DTSTAMP:20260422T125123
CREATED:20250103T181224Z
LAST-MODIFIED:20250108T212438Z
UID:10000377-1805284800-1805317200@www.landonwinery.com
SUMMARY:Wine Down Wednesday Wylie
DESCRIPTION:
URL:https://www.landonwinery.com/event/wine-down-wednesday-wylie/2027-03-17/
LOCATION:Landon Winery Wylie\, 103 N Ballard Ave\, Wylie\, TX\, 75098\, United States
CATEGORIES:Weekly,Wine Wednesday
ATTACH;FMTTYPE=image/jpeg:https://www.landonwinery.com/wp-content/uploads/2024/09/Wine-Down-Wednesday.jpg
ORGANIZER;CN="Landon Winery":MAILTO:winery@landonwinery.com
END:VEVENT
BEGIN:VEVENT
DTSTART;TZID=America/Chicago:20270317T120000
DTEND;TZID=America/Chicago:20270317T210000
DTSTAMP:20260422T125123
CREATED:20240918T012559Z
LAST-MODIFIED:20250103T180339Z
UID:10000116-1805284800-1805317200@www.landonwinery.com
SUMMARY:Wine Down Wednesday Coppell
DESCRIPTION:
URL:https://www.landonwinery.com/event/wine-down-wednesday-coppell/2027-03-17/
LOCATION:Landon Winery Coppell\, 3121 Olympus Boulevard #130\, Coppell\, TX\, 75019\, United States
CATEGORIES:Weekly,Wine Wednesday
ATTACH;FMTTYPE=image/jpeg:https://www.landonwinery.com/wp-content/uploads/2024/09/Wine-Down-Wednesday.jpg
ORGANIZER;CN="Landon Winery":MAILTO:winery@landonwinery.com
END:VEVENT
END:VCALENDAR