BEGIN:VCALENDAR
VERSION:2.0
PRODID:-//Landon Winery - ECPv6.15.18//NONSGML v1.0//EN
CALSCALE:GREGORIAN
METHOD:PUBLISH
X-WR-CALNAME:Landon Winery
X-ORIGINAL-URL:https://www.landonwinery.com
X-WR-CALDESC:Events for Landon Winery
REFRESH-INTERVAL;VALUE=DURATION:PT1H
X-Robots-Tag:noindex
X-PUBLISHED-TTL:PT1H
BEGIN:VTIMEZONE
TZID:America/Chicago
BEGIN:DAYLIGHT
TZOFFSETFROM:-0600
TZOFFSETTO:-0500
TZNAME:CDT
DTSTART:20240310T080000
END:DAYLIGHT
BEGIN:STANDARD
TZOFFSETFROM:-0500
TZOFFSETTO:-0600
TZNAME:CST
DTSTART:20241103T070000
END:STANDARD
BEGIN:DAYLIGHT
TZOFFSETFROM:-0600
TZOFFSETTO:-0500
TZNAME:CDT
DTSTART:20250309T080000
END:DAYLIGHT
BEGIN:STANDARD
TZOFFSETFROM:-0500
TZOFFSETTO:-0600
TZNAME:CST
DTSTART:20251102T070000
END:STANDARD
BEGIN:DAYLIGHT
TZOFFSETFROM:-0600
TZOFFSETTO:-0500
TZNAME:CDT
DTSTART:20260308T080000
END:DAYLIGHT
BEGIN:STANDARD
TZOFFSETFROM:-0500
TZOFFSETTO:-0600
TZNAME:CST
DTSTART:20261101T070000
END:STANDARD
BEGIN:DAYLIGHT
TZOFFSETFROM:-0600
TZOFFSETTO:-0500
TZNAME:CDT
DTSTART:20270314T080000
END:DAYLIGHT
BEGIN:STANDARD
TZOFFSETFROM:-0500
TZOFFSETTO:-0600
TZNAME:CST
DTSTART:20271107T070000
END:STANDARD
END:VTIMEZONE
BEGIN:VEVENT
DTSTART;TZID=America/Chicago:20260411T110000
DTEND;TZID=America/Chicago:20260411T180000
DTSTAMP:20260425T120940
CREATED:20260317T165746Z
LAST-MODIFIED:20260317T165746Z
UID:10011160-1775905200-1775930400@www.landonwinery.com
SUMMARY:Grapevine Spring Wine Trail
DESCRIPTION:
URL:https://www.landonwinery.com/event/grapevine-spring-wine-trail-2/
LOCATION:Sloan & Williams Winery Grapevine\, 401 S Main St\, Grapevine\, 76051\, United States
CATEGORIES:Wine Trail
ATTACH;FMTTYPE=image/jpeg:https://www.landonwinery.com/wp-content/uploads/2026/03/spring-wine-trail-26.jpg
ORGANIZER;CN="Sloan & Williams Winery":MAILTO:sloanwilliams@landonwinery.com
END:VEVENT
BEGIN:VEVENT
DTSTART;TZID=America/Chicago:20260411T110000
DTEND;TZID=America/Chicago:20260411T180000
DTSTAMP:20260425T120940
CREATED:20260317T165206Z
LAST-MODIFIED:20260317T165206Z
UID:10011159-1775905200-1775930400@www.landonwinery.com
SUMMARY:Grapevine Spring Wine Trail
DESCRIPTION:
URL:https://www.landonwinery.com/event/grapevine-spring-wine-trail/
LOCATION:Landon Winery Grapevine\, 415 S. Main St.\, Grapevine\, TX\, 76051\, United States
CATEGORIES:Wine Trail
ATTACH;FMTTYPE=image/jpeg:https://www.landonwinery.com/wp-content/uploads/2026/03/spring-wine-trail-26.jpg
ORGANIZER;CN="Landon Winery":MAILTO:winery@landonwinery.com
END:VEVENT
BEGIN:VEVENT
DTSTART;TZID=America/Chicago:20260201T120000
DTEND;TZID=America/Chicago:20260301T210000
DTSTAMP:20260425T120940
CREATED:20260119T152729Z
LAST-MODIFIED:20260119T152729Z
UID:10010985-1769947200-1772398800@www.landonwinery.com
SUMMARY:North Texas Winter Wine Trail
DESCRIPTION:
URL:https://www.landonwinery.com/event/north-texas-winter-wine-trail/
LOCATION:All Landon Locations\, TX\, United States
CATEGORIES:Wine Trail
ATTACH;FMTTYPE=image/jpeg:https://www.landonwinery.com/wp-content/uploads/2026/01/Wine-Trail.jpg
END:VEVENT
BEGIN:VEVENT
DTSTART;TZID=America/Chicago:20251001T120000
DTEND;TZID=America/Chicago:20251102T210000
DTSTAMP:20260425T120940
CREATED:20251002T130813Z
LAST-MODIFIED:20251002T130813Z
UID:10010614-1759320000-1762117200@www.landonwinery.com
SUMMARY:Fall Wine Trail
DESCRIPTION:
URL:https://www.landonwinery.com/event/fall-wine-trail/
LOCATION:All Landon Locations\, TX\, United States
CATEGORIES:Wine Trail
ATTACH;FMTTYPE=image/jpeg:https://www.landonwinery.com/wp-content/uploads/2025/10/Fall-wine-trail.jpg
ORGANIZER;CN="Landon Winery":MAILTO:winery@landonwinery.com
END:VEVENT
BEGIN:VEVENT
DTSTART;TZID=America/Chicago:20250621T110000
DTEND;TZID=America/Chicago:20250621T180000
DTSTAMP:20260425T120940
CREATED:20250519T170930Z
LAST-MODIFIED:20250519T170930Z
UID:10008337-1750503600-1750528800@www.landonwinery.com
SUMMARY:Summer Solstice Wine Trail Sloan & Williams
DESCRIPTION:
URL:https://www.landonwinery.com/event/summer-solstice-wine-trail-sloan-williams/
LOCATION:Sloan & Williams Winery Grapevine\, 401 S Main St\, Grapevine\, 76051\, United States
CATEGORIES:Wine Trail
ATTACH;FMTTYPE=image/jpeg:https://www.landonwinery.com/wp-content/uploads/2025/05/Summer-Wine-Trail.jpg
ORGANIZER;CN="Sloan & Williams Winery":MAILTO:sloanwilliams@landonwinery.com
END:VEVENT
BEGIN:VEVENT
DTSTART;TZID=America/Chicago:20250621T110000
DTEND;TZID=America/Chicago:20250621T180000
DTSTAMP:20260425T120940
CREATED:20250519T170611Z
LAST-MODIFIED:20250519T170611Z
UID:10008336-1750503600-1750528800@www.landonwinery.com
SUMMARY:Summer Solstice Wine Trail Grapevine
DESCRIPTION:
URL:https://www.landonwinery.com/event/summer-solstice-wine-trail-grapevine/
LOCATION:Landon Winery Grapevine\, 415 S. Main St.\, Grapevine\, TX\, 76051\, United States
CATEGORIES:Wine Trail
ATTACH;FMTTYPE=image/jpeg:https://www.landonwinery.com/wp-content/uploads/2025/05/Summer-Wine-Trail.jpg
ORGANIZER;CN="Landon Winery":MAILTO:winery@landonwinery.com
END:VEVENT
END:VCALENDAR