BEGIN:VCALENDAR
VERSION:2.0
PRODID:-//Landon Winery - ECPv6.15.18//NONSGML v1.0//EN
CALSCALE:GREGORIAN
METHOD:PUBLISH
X-ORIGINAL-URL:https://www.landonwinery.com
X-WR-CALDESC:Events for Landon Winery
REFRESH-INTERVAL;VALUE=DURATION:PT1H
X-Robots-Tag:noindex
X-PUBLISHED-TTL:PT1H
BEGIN:VTIMEZONE
TZID:America/Chicago
BEGIN:DAYLIGHT
TZOFFSETFROM:-0600
TZOFFSETTO:-0500
TZNAME:CDT
DTSTART:20260308T080000
END:DAYLIGHT
BEGIN:STANDARD
TZOFFSETFROM:-0500
TZOFFSETTO:-0600
TZNAME:CST
DTSTART:20261101T070000
END:STANDARD
BEGIN:DAYLIGHT
TZOFFSETFROM:-0600
TZOFFSETTO:-0500
TZNAME:CDT
DTSTART:20270314T080000
END:DAYLIGHT
BEGIN:STANDARD
TZOFFSETFROM:-0500
TZOFFSETTO:-0600
TZNAME:CST
DTSTART:20271107T070000
END:STANDARD
BEGIN:DAYLIGHT
TZOFFSETFROM:-0600
TZOFFSETTO:-0500
TZNAME:CDT
DTSTART:20280312T080000
END:DAYLIGHT
BEGIN:STANDARD
TZOFFSETFROM:-0500
TZOFFSETTO:-0600
TZNAME:CST
DTSTART:20281105T070000
END:STANDARD
BEGIN:DAYLIGHT
TZOFFSETFROM:-0600
TZOFFSETTO:-0500
TZNAME:CDT
DTSTART:20290311T080000
END:DAYLIGHT
BEGIN:STANDARD
TZOFFSETFROM:-0500
TZOFFSETTO:-0600
TZNAME:CST
DTSTART:20291104T070000
END:STANDARD
BEGIN:DAYLIGHT
TZOFFSETFROM:-0600
TZOFFSETTO:-0500
TZNAME:CDT
DTSTART:20300310T080000
END:DAYLIGHT
BEGIN:STANDARD
TZOFFSETFROM:-0500
TZOFFSETTO:-0600
TZNAME:CST
DTSTART:20301103T070000
END:STANDARD
BEGIN:DAYLIGHT
TZOFFSETFROM:-0600
TZOFFSETTO:-0500
TZNAME:CDT
DTSTART:20310309T080000
END:DAYLIGHT
BEGIN:STANDARD
TZOFFSETFROM:-0500
TZOFFSETTO:-0600
TZNAME:CST
DTSTART:20311102T070000
END:STANDARD
BEGIN:DAYLIGHT
TZOFFSETFROM:-0600
TZOFFSETTO:-0500
TZNAME:CDT
DTSTART:20320314T080000
END:DAYLIGHT
BEGIN:STANDARD
TZOFFSETFROM:-0500
TZOFFSETTO:-0600
TZNAME:CST
DTSTART:20321107T070000
END:STANDARD
END:VTIMEZONE
BEGIN:VEVENT
DTSTART;TZID=America/Chicago:20270529T190000
DTEND;TZID=America/Chicago:20310529T210000
DTSTAMP:20260420T155046
CREATED:20260401T040554Z
LAST-MODIFIED:20260401T040617Z
UID:10012360-1811617200-1937854800@www.landonwinery.com
SUMMARY:Music Bingo Denison
DESCRIPTION:
URL:https://www.landonwinery.com/event/music-bingo-denison-2-2-2/2027-05-29/
LOCATION:Landon Winery Denison\, 318 W Main St.\, Denison\, TX\, 75020\, United States
CATEGORIES:Music Bingo,Weekly
ATTACH;FMTTYPE=image/jpeg:https://www.landonwinery.com/wp-content/uploads/2025/08/Bingo-Denison.jpg
ORGANIZER;CN="Landon Winery":MAILTO:winery@landonwinery.com
END:VEVENT
BEGIN:VEVENT
DTSTART;TZID=America/Chicago:20270605T190000
DTEND;TZID=America/Chicago:20310605T210000
DTSTAMP:20260420T155046
CREATED:20260401T040554Z
LAST-MODIFIED:20260401T040617Z
UID:10012361-1812222000-1938459600@www.landonwinery.com
SUMMARY:Music Bingo Denison
DESCRIPTION:
URL:https://www.landonwinery.com/event/music-bingo-denison-2-2-2/2027-06-05/
LOCATION:Landon Winery Denison\, 318 W Main St.\, Denison\, TX\, 75020\, United States
CATEGORIES:Music Bingo,Weekly
ATTACH;FMTTYPE=image/jpeg:https://www.landonwinery.com/wp-content/uploads/2025/08/Bingo-Denison.jpg
ORGANIZER;CN="Landon Winery":MAILTO:winery@landonwinery.com
END:VEVENT
BEGIN:VEVENT
DTSTART;TZID=America/Chicago:20270612T190000
DTEND;TZID=America/Chicago:20310612T210000
DTSTAMP:20260420T155046
CREATED:20260401T040554Z
LAST-MODIFIED:20260401T040617Z
UID:10012362-1812826800-1939064400@www.landonwinery.com
SUMMARY:Music Bingo Denison
DESCRIPTION:
URL:https://www.landonwinery.com/event/music-bingo-denison-2-2-2/2027-06-12/
LOCATION:Landon Winery Denison\, 318 W Main St.\, Denison\, TX\, 75020\, United States
CATEGORIES:Music Bingo,Weekly
ATTACH;FMTTYPE=image/jpeg:https://www.landonwinery.com/wp-content/uploads/2025/08/Bingo-Denison.jpg
ORGANIZER;CN="Landon Winery":MAILTO:winery@landonwinery.com
END:VEVENT
BEGIN:VEVENT
DTSTART;TZID=America/Chicago:20270619T190000
DTEND;TZID=America/Chicago:20310619T210000
DTSTAMP:20260420T155046
CREATED:20260401T040554Z
LAST-MODIFIED:20260401T040617Z
UID:10012363-1813431600-1939669200@www.landonwinery.com
SUMMARY:Music Bingo Denison
DESCRIPTION:
URL:https://www.landonwinery.com/event/music-bingo-denison-2-2-2/2027-06-19/
LOCATION:Landon Winery Denison\, 318 W Main St.\, Denison\, TX\, 75020\, United States
CATEGORIES:Music Bingo,Weekly
ATTACH;FMTTYPE=image/jpeg:https://www.landonwinery.com/wp-content/uploads/2025/08/Bingo-Denison.jpg
ORGANIZER;CN="Landon Winery":MAILTO:winery@landonwinery.com
END:VEVENT
BEGIN:VEVENT
DTSTART;TZID=America/Chicago:20270626T190000
DTEND;TZID=America/Chicago:20310626T210000
DTSTAMP:20260420T155046
CREATED:20260401T040554Z
LAST-MODIFIED:20260401T040617Z
UID:10012364-1814036400-1940274000@www.landonwinery.com
SUMMARY:Music Bingo Denison
DESCRIPTION:
URL:https://www.landonwinery.com/event/music-bingo-denison-2-2-2/2027-06-26/
LOCATION:Landon Winery Denison\, 318 W Main St.\, Denison\, TX\, 75020\, United States
CATEGORIES:Music Bingo,Weekly
ATTACH;FMTTYPE=image/jpeg:https://www.landonwinery.com/wp-content/uploads/2025/08/Bingo-Denison.jpg
ORGANIZER;CN="Landon Winery":MAILTO:winery@landonwinery.com
END:VEVENT
BEGIN:VEVENT
DTSTART;TZID=America/Chicago:20270703T190000
DTEND;TZID=America/Chicago:20310703T210000
DTSTAMP:20260420T155046
CREATED:20260401T040554Z
LAST-MODIFIED:20260401T040617Z
UID:10012365-1814641200-1940878800@www.landonwinery.com
SUMMARY:Music Bingo Denison
DESCRIPTION:
URL:https://www.landonwinery.com/event/music-bingo-denison-2-2-2/2027-07-03/
LOCATION:Landon Winery Denison\, 318 W Main St.\, Denison\, TX\, 75020\, United States
CATEGORIES:Music Bingo,Weekly
ATTACH;FMTTYPE=image/jpeg:https://www.landonwinery.com/wp-content/uploads/2025/08/Bingo-Denison.jpg
ORGANIZER;CN="Landon Winery":MAILTO:winery@landonwinery.com
END:VEVENT
BEGIN:VEVENT
DTSTART;TZID=America/Chicago:20270710T190000
DTEND;TZID=America/Chicago:20310710T210000
DTSTAMP:20260420T155046
CREATED:20260401T040554Z
LAST-MODIFIED:20260401T040617Z
UID:10012366-1815246000-1941483600@www.landonwinery.com
SUMMARY:Music Bingo Denison
DESCRIPTION:
URL:https://www.landonwinery.com/event/music-bingo-denison-2-2-2/2027-07-10/
LOCATION:Landon Winery Denison\, 318 W Main St.\, Denison\, TX\, 75020\, United States
CATEGORIES:Music Bingo,Weekly
ATTACH;FMTTYPE=image/jpeg:https://www.landonwinery.com/wp-content/uploads/2025/08/Bingo-Denison.jpg
ORGANIZER;CN="Landon Winery":MAILTO:winery@landonwinery.com
END:VEVENT
BEGIN:VEVENT
DTSTART;TZID=America/Chicago:20270717T190000
DTEND;TZID=America/Chicago:20310717T210000
DTSTAMP:20260420T155046
CREATED:20260401T040554Z
LAST-MODIFIED:20260401T040617Z
UID:10012367-1815850800-1942088400@www.landonwinery.com
SUMMARY:Music Bingo Denison
DESCRIPTION:
URL:https://www.landonwinery.com/event/music-bingo-denison-2-2-2/2027-07-17/
LOCATION:Landon Winery Denison\, 318 W Main St.\, Denison\, TX\, 75020\, United States
CATEGORIES:Music Bingo,Weekly
ATTACH;FMTTYPE=image/jpeg:https://www.landonwinery.com/wp-content/uploads/2025/08/Bingo-Denison.jpg
ORGANIZER;CN="Landon Winery":MAILTO:winery@landonwinery.com
END:VEVENT
BEGIN:VEVENT
DTSTART;TZID=America/Chicago:20270724T190000
DTEND;TZID=America/Chicago:20310724T210000
DTSTAMP:20260420T155046
CREATED:20260401T040554Z
LAST-MODIFIED:20260401T040617Z
UID:10012368-1816455600-1942693200@www.landonwinery.com
SUMMARY:Music Bingo Denison
DESCRIPTION:
URL:https://www.landonwinery.com/event/music-bingo-denison-2-2-2/2027-07-24/
LOCATION:Landon Winery Denison\, 318 W Main St.\, Denison\, TX\, 75020\, United States
CATEGORIES:Music Bingo,Weekly
ATTACH;FMTTYPE=image/jpeg:https://www.landonwinery.com/wp-content/uploads/2025/08/Bingo-Denison.jpg
ORGANIZER;CN="Landon Winery":MAILTO:winery@landonwinery.com
END:VEVENT
BEGIN:VEVENT
DTSTART;TZID=America/Chicago:20270731T190000
DTEND;TZID=America/Chicago:20310731T210000
DTSTAMP:20260420T155046
CREATED:20260401T040554Z
LAST-MODIFIED:20260401T040617Z
UID:10012369-1817060400-1943298000@www.landonwinery.com
SUMMARY:Music Bingo Denison
DESCRIPTION:
URL:https://www.landonwinery.com/event/music-bingo-denison-2-2-2/2027-07-31/
LOCATION:Landon Winery Denison\, 318 W Main St.\, Denison\, TX\, 75020\, United States
CATEGORIES:Music Bingo,Weekly
ATTACH;FMTTYPE=image/jpeg:https://www.landonwinery.com/wp-content/uploads/2025/08/Bingo-Denison.jpg
ORGANIZER;CN="Landon Winery":MAILTO:winery@landonwinery.com
END:VEVENT
BEGIN:VEVENT
DTSTART;TZID=America/Chicago:20270804T120000
DTEND;TZID=America/Chicago:20270804T210000
DTSTAMP:20260420T155046
CREATED:20240918T012559Z
LAST-MODIFIED:20250103T180339Z
UID:10000136-1817380800-1817413200@www.landonwinery.com
SUMMARY:Wine Down Wednesday Coppell
DESCRIPTION:
URL:https://www.landonwinery.com/event/wine-down-wednesday-coppell/2027-08-04/
LOCATION:Landon Winery Coppell\, 3121 Olympus Boulevard #130\, Coppell\, TX\, 75019\, United States
CATEGORIES:Weekly,Wine Wednesday
ATTACH;FMTTYPE=image/jpeg:https://www.landonwinery.com/wp-content/uploads/2024/09/Wine-Down-Wednesday.jpg
ORGANIZER;CN="Landon Winery":MAILTO:winery@landonwinery.com
END:VEVENT
BEGIN:VEVENT
DTSTART;TZID=America/Chicago:20270804T120000
DTEND;TZID=America/Chicago:20270804T210000
DTSTAMP:20260420T155046
CREATED:20250103T181224Z
LAST-MODIFIED:20250108T212438Z
UID:10000397-1817380800-1817413200@www.landonwinery.com
SUMMARY:Wine Down Wednesday Wylie
DESCRIPTION:
URL:https://www.landonwinery.com/event/wine-down-wednesday-wylie/2027-08-04/
LOCATION:Landon Winery Wylie\, 103 N Ballard Ave\, Wylie\, TX\, 75098\, United States
CATEGORIES:Weekly,Wine Wednesday
ATTACH;FMTTYPE=image/jpeg:https://www.landonwinery.com/wp-content/uploads/2024/09/Wine-Down-Wednesday.jpg
ORGANIZER;CN="Landon Winery":MAILTO:winery@landonwinery.com
END:VEVENT
BEGIN:VEVENT
DTSTART;TZID=America/Chicago:20270804T120000
DTEND;TZID=America/Chicago:20270804T210000
DTSTAMP:20260420T155046
CREATED:20250103T181944Z
LAST-MODIFIED:20250108T212216Z
UID:10000658-1817380800-1817413200@www.landonwinery.com
SUMMARY:Wine Down Wednesday McKinney
DESCRIPTION:
URL:https://www.landonwinery.com/event/wine-down-wednesday-mckinney/2027-08-04/
LOCATION:Landon Winery McKinney\, 101 N Kentucky St.\, McKinney\, TX\, 75069\, United States
CATEGORIES:Weekly,Wine Wednesday
ATTACH;FMTTYPE=image/jpeg:https://www.landonwinery.com/wp-content/uploads/2024/09/Wine-Down-Wednesday.jpg
ORGANIZER;CN="Landon Winery":MAILTO:winery@landonwinery.com
END:VEVENT
BEGIN:VEVENT
DTSTART;TZID=America/Chicago:20270804T120000
DTEND;TZID=America/Chicago:20270804T210000
DTSTAMP:20260420T155046
CREATED:20250103T183816Z
LAST-MODIFIED:20250108T211712Z
UID:10000919-1817380800-1817413200@www.landonwinery.com
SUMMARY:Wine Down Wednesday Greenville
DESCRIPTION:
URL:https://www.landonwinery.com/event/wine-down-wednesday-greenville/2027-08-04/
LOCATION:Landon Winery Greenville\, 2508 Lee St.\, Greenville\, TX\, 75401\, United States
CATEGORIES:Weekly,Wine Wednesday
ATTACH;FMTTYPE=image/jpeg:https://www.landonwinery.com/wp-content/uploads/2024/09/Wine-Down-Wednesday.jpg
ORGANIZER;CN="Landon Winery":MAILTO:winery@landonwinery.com
END:VEVENT
BEGIN:VEVENT
DTSTART;TZID=America/Chicago:20270804T120000
DTEND;TZID=America/Chicago:20270804T210000
DTSTAMP:20260420T155046
CREATED:20250103T184945Z
LAST-MODIFIED:20250108T212101Z
UID:10001180-1817380800-1817413200@www.landonwinery.com
SUMMARY:Wine Down Wednesday Grapevine
DESCRIPTION:
URL:https://www.landonwinery.com/event/wine-down-wednesday-grapevine/2027-08-04/
LOCATION:Landon Winery Grapevine\, 415 S. Main St.\, Grapevine\, TX\, 76051\, United States
CATEGORIES:Weekly,Wine Wednesday
ATTACH;FMTTYPE=image/jpeg:https://www.landonwinery.com/wp-content/uploads/2024/09/Wine-Down-Wednesday.jpg
ORGANIZER;CN="Landon Winery":MAILTO:winery@landonwinery.com
END:VEVENT
BEGIN:VEVENT
DTSTART;TZID=America/Chicago:20270804T120000
DTEND;TZID=America/Chicago:20270804T210000
DTSTAMP:20260420T155046
CREATED:20250103T185629Z
LAST-MODIFIED:20250108T212009Z
UID:10001963-1817380800-1817413200@www.landonwinery.com
SUMMARY:Wine Down Wednesday Denison
DESCRIPTION:
URL:https://www.landonwinery.com/event/wine-down-wednesday-denison/2027-08-04/
LOCATION:Landon Winery Denison\, 318 W Main St.\, Denison\, TX\, 75020\, United States
CATEGORIES:Weekly,Wine Wednesday
ATTACH;FMTTYPE=image/jpeg:https://www.landonwinery.com/wp-content/uploads/2024/09/Wine-Down-Wednesday.jpg
ORGANIZER;CN="Landon Winery":MAILTO:winery@landonwinery.com
END:VEVENT
BEGIN:VEVENT
DTSTART;TZID=America/Chicago:20270804T120000
DTEND;TZID=America/Chicago:20270804T210000
DTSTAMP:20260420T155046
CREATED:20250103T185845Z
LAST-MODIFIED:20250108T211900Z
UID:10012100-1817380800-1817413200@www.landonwinery.com
SUMMARY:Wine Down Wednesday Gainesville
DESCRIPTION:
URL:https://www.landonwinery.com/event/wine-down-wednesday-gainesville/2027-08-04/
LOCATION:Landon Winery Gainesville\, 201 W California St.\, Gainesville\, TX\, 76240\, United States
CATEGORIES:Weekly,Wine Wednesday
ATTACH;FMTTYPE=image/jpeg:https://www.landonwinery.com/wp-content/uploads/2024/09/Wine-Down-Wednesday.jpg
ORGANIZER;CN="Landon Winery":MAILTO:winery@landonwinery.com
END:VEVENT
BEGIN:VEVENT
DTSTART;TZID=America/Chicago:20270804T190000
DTEND;TZID=America/Chicago:20270804T203000
DTSTAMP:20260420T155046
CREATED:20250919T151525Z
LAST-MODIFIED:20250919T151531Z
UID:10009912-1817406000-1817411400@www.landonwinery.com
SUMMARY:Trivia at Red Dirt Cellars
DESCRIPTION:
URL:https://www.landonwinery.com/event/trivia-at-red-dirt-cellars-2/2027-08-04/
LOCATION:Sloan & Williams Winery Grapevine\, 401 S Main St\, Grapevine\, 76051\, United States
CATEGORIES:Trivia Night,Wednesday,Weekly
ATTACH;FMTTYPE=image/jpeg:https://www.landonwinery.com/wp-content/uploads/2025/09/Trivia-RDC.jpg
ORGANIZER;CN="Sloan & Williams Winery":MAILTO:sloanwilliams@landonwinery.com
END:VEVENT
BEGIN:VEVENT
DTSTART;TZID=America/Chicago:20270805T183000
DTEND;TZID=America/Chicago:20270805T203000
DTSTAMP:20260420T155046
CREATED:20251020T214322Z
LAST-MODIFIED:20251020T220826Z
UID:10009089-1817490600-1817497800@www.landonwinery.com
SUMMARY:Music Bingo Wylie
DESCRIPTION:
URL:https://www.landonwinery.com/event/music-bingo-wylie-2/2027-08-05/
LOCATION:Landon Winery Wylie\, 103 N Ballard Ave\, Wylie\, TX\, 75098\, United States
CATEGORIES:Thursday,Weekly
ATTACH;FMTTYPE=image/jpeg:https://www.landonwinery.com/wp-content/uploads/2025/01/Wylie-Bingo.jpg
ORGANIZER;CN="Landon Winery":MAILTO:winery@landonwinery.com
END:VEVENT
BEGIN:VEVENT
DTSTART;TZID=America/Chicago:20270806T183000
DTEND;TZID=America/Chicago:20270806T203000
DTSTAMP:20260420T155046
CREATED:20250909T165030Z
LAST-MODIFIED:20250909T165042Z
UID:10009644-1817577000-1817584200@www.landonwinery.com
SUMMARY:Music Bingo Gainesville
DESCRIPTION:
URL:https://www.landonwinery.com/event/music-bingo-gainesville-2/2027-08-06/
LOCATION:Landon Winery Gainesville\, 201 W California St.\, Gainesville\, TX\, 76240\, United States
CATEGORIES:Friday,Weekly
ATTACH;FMTTYPE=image/jpeg:https://www.landonwinery.com/wp-content/uploads/2025/01/Bingo-Gainesville-1.jpg
ORGANIZER;CN="Landon Winery":MAILTO:winery@landonwinery.com
END:VEVENT
BEGIN:VEVENT
DTSTART;TZID=America/Chicago:20270806T190000
DTEND;TZID=America/Chicago:20270806T210000
DTSTAMP:20260420T155046
CREATED:20250105T193510Z
LAST-MODIFIED:20250930T224615Z
UID:10005252-1817578800-1817586000@www.landonwinery.com
SUMMARY:Music Bingo McKinney
DESCRIPTION:
URL:https://www.landonwinery.com/event/music-bingo-mckinney/2027-08-06/
LOCATION:Landon Winery McKinney\, 101 N Kentucky St.\, McKinney\, TX\, 75069\, United States
CATEGORIES:Friday,Weekly
ATTACH;FMTTYPE=image/jpeg:https://www.landonwinery.com/wp-content/uploads/2025/01/Music-Bingo-McKinney.jpg
ORGANIZER;CN="Landon Winery":MAILTO:winery@landonwinery.com
END:VEVENT
BEGIN:VEVENT
DTSTART;TZID=America/Chicago:20270806T190000
DTEND;TZID=America/Chicago:20270806T210000
DTSTAMP:20260420T155046
CREATED:20250105T193853Z
LAST-MODIFIED:20250704T141920Z
UID:10005512-1817578800-1817586000@www.landonwinery.com
SUMMARY:Music Bingo Greenville
DESCRIPTION:
URL:https://www.landonwinery.com/event/music-bingo-greenville/2027-08-06/
LOCATION:Landon Winery Greenville\, 2508 Lee St.\, Greenville\, TX\, 75401\, United States
CATEGORIES:Friday,Weekly
ATTACH;FMTTYPE=image/jpeg:https://www.landonwinery.com/wp-content/uploads/2025/01/Music-Bingo-Greenville.jpg
ORGANIZER;CN="Landon Winery":MAILTO:winery@landonwinery.com
END:VEVENT
BEGIN:VEVENT
DTSTART;TZID=America/Chicago:20270807T190000
DTEND;TZID=America/Chicago:20310807T210000
DTSTAMP:20260420T155046
CREATED:20260401T040554Z
LAST-MODIFIED:20260401T040617Z
UID:10012370-1817665200-1943902800@www.landonwinery.com
SUMMARY:Music Bingo Denison
DESCRIPTION:
URL:https://www.landonwinery.com/event/music-bingo-denison-2-2-2/2027-08-07/
LOCATION:Landon Winery Denison\, 318 W Main St.\, Denison\, TX\, 75020\, United States
CATEGORIES:Music Bingo,Weekly
ATTACH;FMTTYPE=image/jpeg:https://www.landonwinery.com/wp-content/uploads/2025/08/Bingo-Denison.jpg
ORGANIZER;CN="Landon Winery":MAILTO:winery@landonwinery.com
END:VEVENT
BEGIN:VEVENT
DTSTART;TZID=America/Chicago:20270808T120000
DTEND;TZID=America/Chicago:20270808T210000
DTSTAMP:20260420T155046
CREATED:20250103T191050Z
LAST-MODIFIED:20250419T141453Z
UID:10002486-1817726400-1817758800@www.landonwinery.com
SUMMARY:Mimosa Mania Sunday Wylie
DESCRIPTION:
URL:https://www.landonwinery.com/event/mimosa-mania-sunday-wylie/2027-08-08/
LOCATION:Landon Winery Wylie\, 103 N Ballard Ave\, Wylie\, TX\, 75098\, United States
CATEGORIES:Sunday,Weekly
ATTACH;FMTTYPE=image/jpeg:https://www.landonwinery.com/wp-content/uploads/2025/01/Mimosa-Mania.jpg
ORGANIZER;CN="Landon Winery":MAILTO:winery@landonwinery.com
END:VEVENT
BEGIN:VEVENT
DTSTART;TZID=America/Chicago:20270808T120000
DTEND;TZID=America/Chicago:20270808T210000
DTSTAMP:20260420T155046
CREATED:20250103T192301Z
LAST-MODIFIED:20250419T141237Z
UID:10002747-1817726400-1817758800@www.landonwinery.com
SUMMARY:Mimosa Mania Sunday Greenville
DESCRIPTION:
URL:https://www.landonwinery.com/event/mimosa-mania-sunday-greenville/2027-08-08/
LOCATION:Landon Winery Greenville\, 2508 Lee St.\, Greenville\, TX\, 75401\, United States
CATEGORIES:Sunday,Weekly
ATTACH;FMTTYPE=image/jpeg:https://www.landonwinery.com/wp-content/uploads/2025/01/Mimosa-Mania.jpg
ORGANIZER;CN="Landon Winery":MAILTO:winery@landonwinery.com
END:VEVENT
BEGIN:VEVENT
DTSTART;TZID=America/Chicago:20270808T120000
DTEND;TZID=America/Chicago:20270808T210000
DTSTAMP:20260420T155046
CREATED:20250103T192846Z
LAST-MODIFIED:20250419T141109Z
UID:10003008-1817726400-1817758800@www.landonwinery.com
SUMMARY:Mimosa Mania Sunday Coppell
DESCRIPTION:
URL:https://www.landonwinery.com/event/mimosa-mania-sunday-coppell/2027-08-08/
LOCATION:Landon Winery Coppell\, 3121 Olympus Boulevard #130\, Coppell\, TX\, 75019\, United States
CATEGORIES:Sunday,Weekly
ATTACH;FMTTYPE=image/jpeg:https://www.landonwinery.com/wp-content/uploads/2025/01/Mimosa-Mania.jpg
ORGANIZER;CN="Landon Winery":MAILTO:winery@landonwinery.com
END:VEVENT
BEGIN:VEVENT
DTSTART;TZID=America/Chicago:20270808T120000
DTEND;TZID=America/Chicago:20270808T210000
DTSTAMP:20260420T155046
CREATED:20250105T190537Z
LAST-MODIFIED:20250419T141007Z
UID:10003269-1817726400-1817758800@www.landonwinery.com
SUMMARY:Mimosa Mania Sunday Grapevine
DESCRIPTION:
URL:https://www.landonwinery.com/event/mimosa-mania-sunday-grapevine/2027-08-08/
LOCATION:Landon Winery Grapevine\, 415 S. Main St.\, Grapevine\, TX\, 76051\, United States
CATEGORIES:Sunday,Weekly
ATTACH;FMTTYPE=image/jpeg:https://www.landonwinery.com/wp-content/uploads/2025/01/Mimosa-Mania.jpg
ORGANIZER;CN="Landon Winery":MAILTO:winery@landonwinery.com
END:VEVENT
BEGIN:VEVENT
DTSTART;TZID=America/Chicago:20270811T120000
DTEND;TZID=America/Chicago:20270811T210000
DTSTAMP:20260420T155046
CREATED:20240918T012559Z
LAST-MODIFIED:20250103T180339Z
UID:10000137-1817985600-1818018000@www.landonwinery.com
SUMMARY:Wine Down Wednesday Coppell
DESCRIPTION:
URL:https://www.landonwinery.com/event/wine-down-wednesday-coppell/2027-08-11/
LOCATION:Landon Winery Coppell\, 3121 Olympus Boulevard #130\, Coppell\, TX\, 75019\, United States
CATEGORIES:Weekly,Wine Wednesday
ATTACH;FMTTYPE=image/jpeg:https://www.landonwinery.com/wp-content/uploads/2024/09/Wine-Down-Wednesday.jpg
ORGANIZER;CN="Landon Winery":MAILTO:winery@landonwinery.com
END:VEVENT
BEGIN:VEVENT
DTSTART;TZID=America/Chicago:20270811T120000
DTEND;TZID=America/Chicago:20270811T210000
DTSTAMP:20260420T155046
CREATED:20250103T181224Z
LAST-MODIFIED:20250108T212438Z
UID:10000398-1817985600-1818018000@www.landonwinery.com
SUMMARY:Wine Down Wednesday Wylie
DESCRIPTION:
URL:https://www.landonwinery.com/event/wine-down-wednesday-wylie/2027-08-11/
LOCATION:Landon Winery Wylie\, 103 N Ballard Ave\, Wylie\, TX\, 75098\, United States
CATEGORIES:Weekly,Wine Wednesday
ATTACH;FMTTYPE=image/jpeg:https://www.landonwinery.com/wp-content/uploads/2024/09/Wine-Down-Wednesday.jpg
ORGANIZER;CN="Landon Winery":MAILTO:winery@landonwinery.com
END:VEVENT
BEGIN:VEVENT
DTSTART;TZID=America/Chicago:20270811T120000
DTEND;TZID=America/Chicago:20270811T210000
DTSTAMP:20260420T155046
CREATED:20250103T181944Z
LAST-MODIFIED:20250108T212216Z
UID:10000659-1817985600-1818018000@www.landonwinery.com
SUMMARY:Wine Down Wednesday McKinney
DESCRIPTION:
URL:https://www.landonwinery.com/event/wine-down-wednesday-mckinney/2027-08-11/
LOCATION:Landon Winery McKinney\, 101 N Kentucky St.\, McKinney\, TX\, 75069\, United States
CATEGORIES:Weekly,Wine Wednesday
ATTACH;FMTTYPE=image/jpeg:https://www.landonwinery.com/wp-content/uploads/2024/09/Wine-Down-Wednesday.jpg
ORGANIZER;CN="Landon Winery":MAILTO:winery@landonwinery.com
END:VEVENT
END:VCALENDAR