BEGIN:VCALENDAR
VERSION:2.0
PRODID:-//Landon Winery - ECPv6.15.18//NONSGML v1.0//EN
CALSCALE:GREGORIAN
METHOD:PUBLISH
X-WR-CALNAME:Landon Winery
X-ORIGINAL-URL:https://www.landonwinery.com
X-WR-CALDESC:Events for Landon Winery
REFRESH-INTERVAL;VALUE=DURATION:PT1H
X-Robots-Tag:noindex
X-PUBLISHED-TTL:PT1H
BEGIN:VTIMEZONE
TZID:America/Chicago
BEGIN:DAYLIGHT
TZOFFSETFROM:-0600
TZOFFSETTO:-0500
TZNAME:CDT
DTSTART:20290311T080000
END:DAYLIGHT
BEGIN:STANDARD
TZOFFSETFROM:-0500
TZOFFSETTO:-0600
TZNAME:CST
DTSTART:20291104T070000
END:STANDARD
BEGIN:DAYLIGHT
TZOFFSETFROM:-0600
TZOFFSETTO:-0500
TZNAME:CDT
DTSTART:20300310T080000
END:DAYLIGHT
BEGIN:STANDARD
TZOFFSETFROM:-0500
TZOFFSETTO:-0600
TZNAME:CST
DTSTART:20301103T070000
END:STANDARD
BEGIN:DAYLIGHT
TZOFFSETFROM:-0600
TZOFFSETTO:-0500
TZNAME:CDT
DTSTART:20310309T080000
END:DAYLIGHT
BEGIN:STANDARD
TZOFFSETFROM:-0500
TZOFFSETTO:-0600
TZNAME:CST
DTSTART:20311102T070000
END:STANDARD
END:VTIMEZONE
BEGIN:VEVENT
DTSTART;TZID=America/Chicago:20300314T183000
DTEND;TZID=America/Chicago:20300314T203000
DTSTAMP:20260424T195008
CREATED:20251020T214322Z
LAST-MODIFIED:20251020T220826Z
UID:10009225-1899743400-1899750600@www.landonwinery.com
SUMMARY:Music Bingo Wylie
DESCRIPTION:
URL:https://www.landonwinery.com/event/music-bingo-wylie-2/2030-03-14/
LOCATION:Landon Winery Wylie\, 103 N Ballard Ave\, Wylie\, TX\, 75098\, United States
CATEGORIES:Thursday,Weekly
ATTACH;FMTTYPE=image/jpeg:https://www.landonwinery.com/wp-content/uploads/2025/01/Wylie-Bingo.jpg
ORGANIZER;CN="Landon Winery":MAILTO:winery@landonwinery.com
END:VEVENT
BEGIN:VEVENT
DTSTART;TZID=America/Chicago:20300321T183000
DTEND;TZID=America/Chicago:20300321T203000
DTSTAMP:20260424T195008
CREATED:20251020T214322Z
LAST-MODIFIED:20251020T220826Z
UID:10009226-1900348200-1900355400@www.landonwinery.com
SUMMARY:Music Bingo Wylie
DESCRIPTION:
URL:https://www.landonwinery.com/event/music-bingo-wylie-2/2030-03-21/
LOCATION:Landon Winery Wylie\, 103 N Ballard Ave\, Wylie\, TX\, 75098\, United States
CATEGORIES:Thursday,Weekly
ATTACH;FMTTYPE=image/jpeg:https://www.landonwinery.com/wp-content/uploads/2025/01/Wylie-Bingo.jpg
ORGANIZER;CN="Landon Winery":MAILTO:winery@landonwinery.com
END:VEVENT
BEGIN:VEVENT
DTSTART;TZID=America/Chicago:20300328T183000
DTEND;TZID=America/Chicago:20300328T203000
DTSTAMP:20260424T195008
CREATED:20251020T214322Z
LAST-MODIFIED:20251020T220826Z
UID:10009227-1900953000-1900960200@www.landonwinery.com
SUMMARY:Music Bingo Wylie
DESCRIPTION:
URL:https://www.landonwinery.com/event/music-bingo-wylie-2/2030-03-28/
LOCATION:Landon Winery Wylie\, 103 N Ballard Ave\, Wylie\, TX\, 75098\, United States
CATEGORIES:Thursday,Weekly
ATTACH;FMTTYPE=image/jpeg:https://www.landonwinery.com/wp-content/uploads/2025/01/Wylie-Bingo.jpg
ORGANIZER;CN="Landon Winery":MAILTO:winery@landonwinery.com
END:VEVENT
BEGIN:VEVENT
DTSTART;TZID=America/Chicago:20300404T183000
DTEND;TZID=America/Chicago:20300404T203000
DTSTAMP:20260424T195008
CREATED:20251020T214322Z
LAST-MODIFIED:20251020T220826Z
UID:10009228-1901557800-1901565000@www.landonwinery.com
SUMMARY:Music Bingo Wylie
DESCRIPTION:
URL:https://www.landonwinery.com/event/music-bingo-wylie-2/2030-04-04/
LOCATION:Landon Winery Wylie\, 103 N Ballard Ave\, Wylie\, TX\, 75098\, United States
CATEGORIES:Thursday,Weekly
ATTACH;FMTTYPE=image/jpeg:https://www.landonwinery.com/wp-content/uploads/2025/01/Wylie-Bingo.jpg
ORGANIZER;CN="Landon Winery":MAILTO:winery@landonwinery.com
END:VEVENT
BEGIN:VEVENT
DTSTART;TZID=America/Chicago:20300411T183000
DTEND;TZID=America/Chicago:20300411T203000
DTSTAMP:20260424T195008
CREATED:20251020T214322Z
LAST-MODIFIED:20251020T220826Z
UID:10009229-1902162600-1902169800@www.landonwinery.com
SUMMARY:Music Bingo Wylie
DESCRIPTION:
URL:https://www.landonwinery.com/event/music-bingo-wylie-2/2030-04-11/
LOCATION:Landon Winery Wylie\, 103 N Ballard Ave\, Wylie\, TX\, 75098\, United States
CATEGORIES:Thursday,Weekly
ATTACH;FMTTYPE=image/jpeg:https://www.landonwinery.com/wp-content/uploads/2025/01/Wylie-Bingo.jpg
ORGANIZER;CN="Landon Winery":MAILTO:winery@landonwinery.com
END:VEVENT
BEGIN:VEVENT
DTSTART;TZID=America/Chicago:20300418T183000
DTEND;TZID=America/Chicago:20300418T203000
DTSTAMP:20260424T195008
CREATED:20251020T214322Z
LAST-MODIFIED:20251020T220826Z
UID:10009230-1902767400-1902774600@www.landonwinery.com
SUMMARY:Music Bingo Wylie
DESCRIPTION:
URL:https://www.landonwinery.com/event/music-bingo-wylie-2/2030-04-18/
LOCATION:Landon Winery Wylie\, 103 N Ballard Ave\, Wylie\, TX\, 75098\, United States
CATEGORIES:Thursday,Weekly
ATTACH;FMTTYPE=image/jpeg:https://www.landonwinery.com/wp-content/uploads/2025/01/Wylie-Bingo.jpg
ORGANIZER;CN="Landon Winery":MAILTO:winery@landonwinery.com
END:VEVENT
BEGIN:VEVENT
DTSTART;TZID=America/Chicago:20300425T183000
DTEND;TZID=America/Chicago:20300425T203000
DTSTAMP:20260424T195008
CREATED:20251020T214322Z
LAST-MODIFIED:20251020T220826Z
UID:10009231-1903372200-1903379400@www.landonwinery.com
SUMMARY:Music Bingo Wylie
DESCRIPTION:
URL:https://www.landonwinery.com/event/music-bingo-wylie-2/2030-04-25/
LOCATION:Landon Winery Wylie\, 103 N Ballard Ave\, Wylie\, TX\, 75098\, United States
CATEGORIES:Thursday,Weekly
ATTACH;FMTTYPE=image/jpeg:https://www.landonwinery.com/wp-content/uploads/2025/01/Wylie-Bingo.jpg
ORGANIZER;CN="Landon Winery":MAILTO:winery@landonwinery.com
END:VEVENT
BEGIN:VEVENT
DTSTART;TZID=America/Chicago:20300502T183000
DTEND;TZID=America/Chicago:20300502T203000
DTSTAMP:20260424T195008
CREATED:20251020T214322Z
LAST-MODIFIED:20251020T220826Z
UID:10009232-1903977000-1903984200@www.landonwinery.com
SUMMARY:Music Bingo Wylie
DESCRIPTION:
URL:https://www.landonwinery.com/event/music-bingo-wylie-2/2030-05-02/
LOCATION:Landon Winery Wylie\, 103 N Ballard Ave\, Wylie\, TX\, 75098\, United States
CATEGORIES:Thursday,Weekly
ATTACH;FMTTYPE=image/jpeg:https://www.landonwinery.com/wp-content/uploads/2025/01/Wylie-Bingo.jpg
ORGANIZER;CN="Landon Winery":MAILTO:winery@landonwinery.com
END:VEVENT
BEGIN:VEVENT
DTSTART;TZID=America/Chicago:20300509T183000
DTEND;TZID=America/Chicago:20300509T203000
DTSTAMP:20260424T195008
CREATED:20251020T214322Z
LAST-MODIFIED:20251020T220826Z
UID:10009233-1904581800-1904589000@www.landonwinery.com
SUMMARY:Music Bingo Wylie
DESCRIPTION:
URL:https://www.landonwinery.com/event/music-bingo-wylie-2/2030-05-09/
LOCATION:Landon Winery Wylie\, 103 N Ballard Ave\, Wylie\, TX\, 75098\, United States
CATEGORIES:Thursday,Weekly
ATTACH;FMTTYPE=image/jpeg:https://www.landonwinery.com/wp-content/uploads/2025/01/Wylie-Bingo.jpg
ORGANIZER;CN="Landon Winery":MAILTO:winery@landonwinery.com
END:VEVENT
BEGIN:VEVENT
DTSTART;TZID=America/Chicago:20300516T183000
DTEND;TZID=America/Chicago:20300516T203000
DTSTAMP:20260424T195008
CREATED:20251020T214322Z
LAST-MODIFIED:20251020T220826Z
UID:10009234-1905186600-1905193800@www.landonwinery.com
SUMMARY:Music Bingo Wylie
DESCRIPTION:
URL:https://www.landonwinery.com/event/music-bingo-wylie-2/2030-05-16/
LOCATION:Landon Winery Wylie\, 103 N Ballard Ave\, Wylie\, TX\, 75098\, United States
CATEGORIES:Thursday,Weekly
ATTACH;FMTTYPE=image/jpeg:https://www.landonwinery.com/wp-content/uploads/2025/01/Wylie-Bingo.jpg
ORGANIZER;CN="Landon Winery":MAILTO:winery@landonwinery.com
END:VEVENT
BEGIN:VEVENT
DTSTART;TZID=America/Chicago:20300523T183000
DTEND;TZID=America/Chicago:20300523T203000
DTSTAMP:20260424T195008
CREATED:20251020T214322Z
LAST-MODIFIED:20251020T220826Z
UID:10009235-1905791400-1905798600@www.landonwinery.com
SUMMARY:Music Bingo Wylie
DESCRIPTION:
URL:https://www.landonwinery.com/event/music-bingo-wylie-2/2030-05-23/
LOCATION:Landon Winery Wylie\, 103 N Ballard Ave\, Wylie\, TX\, 75098\, United States
CATEGORIES:Thursday,Weekly
ATTACH;FMTTYPE=image/jpeg:https://www.landonwinery.com/wp-content/uploads/2025/01/Wylie-Bingo.jpg
ORGANIZER;CN="Landon Winery":MAILTO:winery@landonwinery.com
END:VEVENT
BEGIN:VEVENT
DTSTART;TZID=America/Chicago:20300530T183000
DTEND;TZID=America/Chicago:20300530T203000
DTSTAMP:20260424T195008
CREATED:20251020T214322Z
LAST-MODIFIED:20251020T220826Z
UID:10009236-1906396200-1906403400@www.landonwinery.com
SUMMARY:Music Bingo Wylie
DESCRIPTION:
URL:https://www.landonwinery.com/event/music-bingo-wylie-2/2030-05-30/
LOCATION:Landon Winery Wylie\, 103 N Ballard Ave\, Wylie\, TX\, 75098\, United States
CATEGORIES:Thursday,Weekly
ATTACH;FMTTYPE=image/jpeg:https://www.landonwinery.com/wp-content/uploads/2025/01/Wylie-Bingo.jpg
ORGANIZER;CN="Landon Winery":MAILTO:winery@landonwinery.com
END:VEVENT
BEGIN:VEVENT
DTSTART;TZID=America/Chicago:20300606T183000
DTEND;TZID=America/Chicago:20300606T203000
DTSTAMP:20260424T195008
CREATED:20251020T214322Z
LAST-MODIFIED:20251020T220826Z
UID:10009237-1907001000-1907008200@www.landonwinery.com
SUMMARY:Music Bingo Wylie
DESCRIPTION:
URL:https://www.landonwinery.com/event/music-bingo-wylie-2/2030-06-06/
LOCATION:Landon Winery Wylie\, 103 N Ballard Ave\, Wylie\, TX\, 75098\, United States
CATEGORIES:Thursday,Weekly
ATTACH;FMTTYPE=image/jpeg:https://www.landonwinery.com/wp-content/uploads/2025/01/Wylie-Bingo.jpg
ORGANIZER;CN="Landon Winery":MAILTO:winery@landonwinery.com
END:VEVENT
BEGIN:VEVENT
DTSTART;TZID=America/Chicago:20300613T183000
DTEND;TZID=America/Chicago:20300613T203000
DTSTAMP:20260424T195008
CREATED:20251020T214322Z
LAST-MODIFIED:20251020T220826Z
UID:10009238-1907605800-1907613000@www.landonwinery.com
SUMMARY:Music Bingo Wylie
DESCRIPTION:
URL:https://www.landonwinery.com/event/music-bingo-wylie-2/2030-06-13/
LOCATION:Landon Winery Wylie\, 103 N Ballard Ave\, Wylie\, TX\, 75098\, United States
CATEGORIES:Thursday,Weekly
ATTACH;FMTTYPE=image/jpeg:https://www.landonwinery.com/wp-content/uploads/2025/01/Wylie-Bingo.jpg
ORGANIZER;CN="Landon Winery":MAILTO:winery@landonwinery.com
END:VEVENT
BEGIN:VEVENT
DTSTART;TZID=America/Chicago:20300620T183000
DTEND;TZID=America/Chicago:20300620T203000
DTSTAMP:20260424T195009
CREATED:20251020T214322Z
LAST-MODIFIED:20251020T220826Z
UID:10009239-1908210600-1908217800@www.landonwinery.com
SUMMARY:Music Bingo Wylie
DESCRIPTION:
URL:https://www.landonwinery.com/event/music-bingo-wylie-2/2030-06-20/
LOCATION:Landon Winery Wylie\, 103 N Ballard Ave\, Wylie\, TX\, 75098\, United States
CATEGORIES:Thursday,Weekly
ATTACH;FMTTYPE=image/jpeg:https://www.landonwinery.com/wp-content/uploads/2025/01/Wylie-Bingo.jpg
ORGANIZER;CN="Landon Winery":MAILTO:winery@landonwinery.com
END:VEVENT
BEGIN:VEVENT
DTSTART;TZID=America/Chicago:20300627T183000
DTEND;TZID=America/Chicago:20300627T203000
DTSTAMP:20260424T195009
CREATED:20251020T214322Z
LAST-MODIFIED:20251020T220826Z
UID:10009240-1908815400-1908822600@www.landonwinery.com
SUMMARY:Music Bingo Wylie
DESCRIPTION:
URL:https://www.landonwinery.com/event/music-bingo-wylie-2/2030-06-27/
LOCATION:Landon Winery Wylie\, 103 N Ballard Ave\, Wylie\, TX\, 75098\, United States
CATEGORIES:Thursday,Weekly
ATTACH;FMTTYPE=image/jpeg:https://www.landonwinery.com/wp-content/uploads/2025/01/Wylie-Bingo.jpg
ORGANIZER;CN="Landon Winery":MAILTO:winery@landonwinery.com
END:VEVENT
BEGIN:VEVENT
DTSTART;TZID=America/Chicago:20300704T183000
DTEND;TZID=America/Chicago:20300704T203000
DTSTAMP:20260424T195009
CREATED:20251020T214322Z
LAST-MODIFIED:20251020T220826Z
UID:10009241-1909420200-1909427400@www.landonwinery.com
SUMMARY:Music Bingo Wylie
DESCRIPTION:
URL:https://www.landonwinery.com/event/music-bingo-wylie-2/2030-07-04/
LOCATION:Landon Winery Wylie\, 103 N Ballard Ave\, Wylie\, TX\, 75098\, United States
CATEGORIES:Thursday,Weekly
ATTACH;FMTTYPE=image/jpeg:https://www.landonwinery.com/wp-content/uploads/2025/01/Wylie-Bingo.jpg
ORGANIZER;CN="Landon Winery":MAILTO:winery@landonwinery.com
END:VEVENT
BEGIN:VEVENT
DTSTART;TZID=America/Chicago:20300711T183000
DTEND;TZID=America/Chicago:20300711T203000
DTSTAMP:20260424T195009
CREATED:20251020T214322Z
LAST-MODIFIED:20251020T220826Z
UID:10009242-1910025000-1910032200@www.landonwinery.com
SUMMARY:Music Bingo Wylie
DESCRIPTION:
URL:https://www.landonwinery.com/event/music-bingo-wylie-2/2030-07-11/
LOCATION:Landon Winery Wylie\, 103 N Ballard Ave\, Wylie\, TX\, 75098\, United States
CATEGORIES:Thursday,Weekly
ATTACH;FMTTYPE=image/jpeg:https://www.landonwinery.com/wp-content/uploads/2025/01/Wylie-Bingo.jpg
ORGANIZER;CN="Landon Winery":MAILTO:winery@landonwinery.com
END:VEVENT
BEGIN:VEVENT
DTSTART;TZID=America/Chicago:20300718T183000
DTEND;TZID=America/Chicago:20300718T203000
DTSTAMP:20260424T195009
CREATED:20251020T214322Z
LAST-MODIFIED:20251020T220826Z
UID:10009243-1910629800-1910637000@www.landonwinery.com
SUMMARY:Music Bingo Wylie
DESCRIPTION:
URL:https://www.landonwinery.com/event/music-bingo-wylie-2/2030-07-18/
LOCATION:Landon Winery Wylie\, 103 N Ballard Ave\, Wylie\, TX\, 75098\, United States
CATEGORIES:Thursday,Weekly
ATTACH;FMTTYPE=image/jpeg:https://www.landonwinery.com/wp-content/uploads/2025/01/Wylie-Bingo.jpg
ORGANIZER;CN="Landon Winery":MAILTO:winery@landonwinery.com
END:VEVENT
BEGIN:VEVENT
DTSTART;TZID=America/Chicago:20300725T183000
DTEND;TZID=America/Chicago:20300725T203000
DTSTAMP:20260424T195009
CREATED:20251020T214322Z
LAST-MODIFIED:20251020T220826Z
UID:10009244-1911234600-1911241800@www.landonwinery.com
SUMMARY:Music Bingo Wylie
DESCRIPTION:
URL:https://www.landonwinery.com/event/music-bingo-wylie-2/2030-07-25/
LOCATION:Landon Winery Wylie\, 103 N Ballard Ave\, Wylie\, TX\, 75098\, United States
CATEGORIES:Thursday,Weekly
ATTACH;FMTTYPE=image/jpeg:https://www.landonwinery.com/wp-content/uploads/2025/01/Wylie-Bingo.jpg
ORGANIZER;CN="Landon Winery":MAILTO:winery@landonwinery.com
END:VEVENT
BEGIN:VEVENT
DTSTART;TZID=America/Chicago:20300801T183000
DTEND;TZID=America/Chicago:20300801T203000
DTSTAMP:20260424T195009
CREATED:20251020T214322Z
LAST-MODIFIED:20251020T220826Z
UID:10009245-1911839400-1911846600@www.landonwinery.com
SUMMARY:Music Bingo Wylie
DESCRIPTION:
URL:https://www.landonwinery.com/event/music-bingo-wylie-2/2030-08-01/
LOCATION:Landon Winery Wylie\, 103 N Ballard Ave\, Wylie\, TX\, 75098\, United States
CATEGORIES:Thursday,Weekly
ATTACH;FMTTYPE=image/jpeg:https://www.landonwinery.com/wp-content/uploads/2025/01/Wylie-Bingo.jpg
ORGANIZER;CN="Landon Winery":MAILTO:winery@landonwinery.com
END:VEVENT
BEGIN:VEVENT
DTSTART;TZID=America/Chicago:20300808T183000
DTEND;TZID=America/Chicago:20300808T203000
DTSTAMP:20260424T195009
CREATED:20251020T214322Z
LAST-MODIFIED:20251020T220826Z
UID:10009246-1912444200-1912451400@www.landonwinery.com
SUMMARY:Music Bingo Wylie
DESCRIPTION:
URL:https://www.landonwinery.com/event/music-bingo-wylie-2/2030-08-08/
LOCATION:Landon Winery Wylie\, 103 N Ballard Ave\, Wylie\, TX\, 75098\, United States
CATEGORIES:Thursday,Weekly
ATTACH;FMTTYPE=image/jpeg:https://www.landonwinery.com/wp-content/uploads/2025/01/Wylie-Bingo.jpg
ORGANIZER;CN="Landon Winery":MAILTO:winery@landonwinery.com
END:VEVENT
BEGIN:VEVENT
DTSTART;TZID=America/Chicago:20300815T183000
DTEND;TZID=America/Chicago:20300815T203000
DTSTAMP:20260424T195009
CREATED:20251020T214322Z
LAST-MODIFIED:20251020T220826Z
UID:10009247-1913049000-1913056200@www.landonwinery.com
SUMMARY:Music Bingo Wylie
DESCRIPTION:
URL:https://www.landonwinery.com/event/music-bingo-wylie-2/2030-08-15/
LOCATION:Landon Winery Wylie\, 103 N Ballard Ave\, Wylie\, TX\, 75098\, United States
CATEGORIES:Thursday,Weekly
ATTACH;FMTTYPE=image/jpeg:https://www.landonwinery.com/wp-content/uploads/2025/01/Wylie-Bingo.jpg
ORGANIZER;CN="Landon Winery":MAILTO:winery@landonwinery.com
END:VEVENT
BEGIN:VEVENT
DTSTART;TZID=America/Chicago:20300822T183000
DTEND;TZID=America/Chicago:20300822T203000
DTSTAMP:20260424T195009
CREATED:20251020T214322Z
LAST-MODIFIED:20251020T220826Z
UID:10009248-1913653800-1913661000@www.landonwinery.com
SUMMARY:Music Bingo Wylie
DESCRIPTION:
URL:https://www.landonwinery.com/event/music-bingo-wylie-2/2030-08-22/
LOCATION:Landon Winery Wylie\, 103 N Ballard Ave\, Wylie\, TX\, 75098\, United States
CATEGORIES:Thursday,Weekly
ATTACH;FMTTYPE=image/jpeg:https://www.landonwinery.com/wp-content/uploads/2025/01/Wylie-Bingo.jpg
ORGANIZER;CN="Landon Winery":MAILTO:winery@landonwinery.com
END:VEVENT
BEGIN:VEVENT
DTSTART;TZID=America/Chicago:20300829T183000
DTEND;TZID=America/Chicago:20300829T203000
DTSTAMP:20260424T195009
CREATED:20251020T214322Z
LAST-MODIFIED:20251020T220826Z
UID:10009249-1914258600-1914265800@www.landonwinery.com
SUMMARY:Music Bingo Wylie
DESCRIPTION:
URL:https://www.landonwinery.com/event/music-bingo-wylie-2/2030-08-29/
LOCATION:Landon Winery Wylie\, 103 N Ballard Ave\, Wylie\, TX\, 75098\, United States
CATEGORIES:Thursday,Weekly
ATTACH;FMTTYPE=image/jpeg:https://www.landonwinery.com/wp-content/uploads/2025/01/Wylie-Bingo.jpg
ORGANIZER;CN="Landon Winery":MAILTO:winery@landonwinery.com
END:VEVENT
BEGIN:VEVENT
DTSTART;TZID=America/Chicago:20300905T183000
DTEND;TZID=America/Chicago:20300905T203000
DTSTAMP:20260424T195009
CREATED:20251020T214322Z
LAST-MODIFIED:20251020T220826Z
UID:10010630-1914863400-1914870600@www.landonwinery.com
SUMMARY:Music Bingo Wylie
DESCRIPTION:
URL:https://www.landonwinery.com/event/music-bingo-wylie-2/2030-09-05/
LOCATION:Landon Winery Wylie\, 103 N Ballard Ave\, Wylie\, TX\, 75098\, United States
CATEGORIES:Thursday,Weekly
ATTACH;FMTTYPE=image/jpeg:https://www.landonwinery.com/wp-content/uploads/2025/01/Wylie-Bingo.jpg
ORGANIZER;CN="Landon Winery":MAILTO:winery@landonwinery.com
END:VEVENT
BEGIN:VEVENT
DTSTART;TZID=America/Chicago:20300912T183000
DTEND;TZID=America/Chicago:20300912T203000
DTSTAMP:20260424T195009
CREATED:20251020T214322Z
LAST-MODIFIED:20251020T220826Z
UID:10010631-1915468200-1915475400@www.landonwinery.com
SUMMARY:Music Bingo Wylie
DESCRIPTION:
URL:https://www.landonwinery.com/event/music-bingo-wylie-2/2030-09-12/
LOCATION:Landon Winery Wylie\, 103 N Ballard Ave\, Wylie\, TX\, 75098\, United States
CATEGORIES:Thursday,Weekly
ATTACH;FMTTYPE=image/jpeg:https://www.landonwinery.com/wp-content/uploads/2025/01/Wylie-Bingo.jpg
ORGANIZER;CN="Landon Winery":MAILTO:winery@landonwinery.com
END:VEVENT
BEGIN:VEVENT
DTSTART;TZID=America/Chicago:20300919T183000
DTEND;TZID=America/Chicago:20300919T203000
DTSTAMP:20260424T195009
CREATED:20251020T214322Z
LAST-MODIFIED:20251020T220826Z
UID:10010632-1916073000-1916080200@www.landonwinery.com
SUMMARY:Music Bingo Wylie
DESCRIPTION:
URL:https://www.landonwinery.com/event/music-bingo-wylie-2/2030-09-19/
LOCATION:Landon Winery Wylie\, 103 N Ballard Ave\, Wylie\, TX\, 75098\, United States
CATEGORIES:Thursday,Weekly
ATTACH;FMTTYPE=image/jpeg:https://www.landonwinery.com/wp-content/uploads/2025/01/Wylie-Bingo.jpg
ORGANIZER;CN="Landon Winery":MAILTO:winery@landonwinery.com
END:VEVENT
BEGIN:VEVENT
DTSTART;TZID=America/Chicago:20300926T183000
DTEND;TZID=America/Chicago:20300926T203000
DTSTAMP:20260424T195009
CREATED:20251020T214322Z
LAST-MODIFIED:20251020T220826Z
UID:10010633-1916677800-1916685000@www.landonwinery.com
SUMMARY:Music Bingo Wylie
DESCRIPTION:
URL:https://www.landonwinery.com/event/music-bingo-wylie-2/2030-09-26/
LOCATION:Landon Winery Wylie\, 103 N Ballard Ave\, Wylie\, TX\, 75098\, United States
CATEGORIES:Thursday,Weekly
ATTACH;FMTTYPE=image/jpeg:https://www.landonwinery.com/wp-content/uploads/2025/01/Wylie-Bingo.jpg
ORGANIZER;CN="Landon Winery":MAILTO:winery@landonwinery.com
END:VEVENT
BEGIN:VEVENT
DTSTART;TZID=America/Chicago:20301003T183000
DTEND;TZID=America/Chicago:20301003T203000
DTSTAMP:20260424T195009
CREATED:20251020T214322Z
LAST-MODIFIED:20251020T220826Z
UID:10010634-1917282600-1917289800@www.landonwinery.com
SUMMARY:Music Bingo Wylie
DESCRIPTION:
URL:https://www.landonwinery.com/event/music-bingo-wylie-2/2030-10-03/
LOCATION:Landon Winery Wylie\, 103 N Ballard Ave\, Wylie\, TX\, 75098\, United States
CATEGORIES:Thursday,Weekly
ATTACH;FMTTYPE=image/jpeg:https://www.landonwinery.com/wp-content/uploads/2025/01/Wylie-Bingo.jpg
ORGANIZER;CN="Landon Winery":MAILTO:winery@landonwinery.com
END:VEVENT
END:VCALENDAR