BEGIN:VCALENDAR
VERSION:2.0
PRODID:-//Landon Winery - ECPv6.15.18//NONSGML v1.0//EN
CALSCALE:GREGORIAN
METHOD:PUBLISH
X-ORIGINAL-URL:https://www.landonwinery.com
X-WR-CALDESC:Events for Landon Winery
REFRESH-INTERVAL;VALUE=DURATION:PT1H
X-Robots-Tag:noindex
X-PUBLISHED-TTL:PT1H
BEGIN:VTIMEZONE
TZID:America/Chicago
BEGIN:DAYLIGHT
TZOFFSETFROM:-0600
TZOFFSETTO:-0500
TZNAME:CDT
DTSTART:20280312T080000
END:DAYLIGHT
BEGIN:STANDARD
TZOFFSETFROM:-0500
TZOFFSETTO:-0600
TZNAME:CST
DTSTART:20281105T070000
END:STANDARD
BEGIN:DAYLIGHT
TZOFFSETFROM:-0600
TZOFFSETTO:-0500
TZNAME:CDT
DTSTART:20290311T080000
END:DAYLIGHT
BEGIN:STANDARD
TZOFFSETFROM:-0500
TZOFFSETTO:-0600
TZNAME:CST
DTSTART:20291104T070000
END:STANDARD
BEGIN:DAYLIGHT
TZOFFSETFROM:-0600
TZOFFSETTO:-0500
TZNAME:CDT
DTSTART:20300310T080000
END:DAYLIGHT
BEGIN:STANDARD
TZOFFSETFROM:-0500
TZOFFSETTO:-0600
TZNAME:CST
DTSTART:20301103T070000
END:STANDARD
END:VTIMEZONE
BEGIN:VEVENT
DTSTART;TZID=America/Chicago:20290329T183000
DTEND;TZID=America/Chicago:20290329T203000
DTSTAMP:20260419T221006
CREATED:20251020T214322Z
LAST-MODIFIED:20251020T220826Z
UID:10009175-1869503400-1869510600@www.landonwinery.com
SUMMARY:Music Bingo Wylie
DESCRIPTION:
URL:https://www.landonwinery.com/event/music-bingo-wylie-2/2029-03-29/
LOCATION:Landon Winery Wylie\, 103 N Ballard Ave\, Wylie\, TX\, 75098\, United States
CATEGORIES:Thursday,Weekly
ATTACH;FMTTYPE=image/jpeg:https://www.landonwinery.com/wp-content/uploads/2025/01/Wylie-Bingo.jpg
ORGANIZER;CN="Landon Winery":MAILTO:winery@landonwinery.com
END:VEVENT
BEGIN:VEVENT
DTSTART;TZID=America/Chicago:20290405T183000
DTEND;TZID=America/Chicago:20290405T203000
DTSTAMP:20260419T221006
CREATED:20251020T214322Z
LAST-MODIFIED:20251020T220826Z
UID:10009176-1870108200-1870115400@www.landonwinery.com
SUMMARY:Music Bingo Wylie
DESCRIPTION:
URL:https://www.landonwinery.com/event/music-bingo-wylie-2/2029-04-05/
LOCATION:Landon Winery Wylie\, 103 N Ballard Ave\, Wylie\, TX\, 75098\, United States
CATEGORIES:Thursday,Weekly
ATTACH;FMTTYPE=image/jpeg:https://www.landonwinery.com/wp-content/uploads/2025/01/Wylie-Bingo.jpg
ORGANIZER;CN="Landon Winery":MAILTO:winery@landonwinery.com
END:VEVENT
BEGIN:VEVENT
DTSTART;TZID=America/Chicago:20290412T183000
DTEND;TZID=America/Chicago:20290412T203000
DTSTAMP:20260419T221006
CREATED:20251020T214322Z
LAST-MODIFIED:20251020T220826Z
UID:10009177-1870713000-1870720200@www.landonwinery.com
SUMMARY:Music Bingo Wylie
DESCRIPTION:
URL:https://www.landonwinery.com/event/music-bingo-wylie-2/2029-04-12/
LOCATION:Landon Winery Wylie\, 103 N Ballard Ave\, Wylie\, TX\, 75098\, United States
CATEGORIES:Thursday,Weekly
ATTACH;FMTTYPE=image/jpeg:https://www.landonwinery.com/wp-content/uploads/2025/01/Wylie-Bingo.jpg
ORGANIZER;CN="Landon Winery":MAILTO:winery@landonwinery.com
END:VEVENT
BEGIN:VEVENT
DTSTART;TZID=America/Chicago:20290419T183000
DTEND;TZID=America/Chicago:20290419T203000
DTSTAMP:20260419T221006
CREATED:20251020T214322Z
LAST-MODIFIED:20251020T220826Z
UID:10009178-1871317800-1871325000@www.landonwinery.com
SUMMARY:Music Bingo Wylie
DESCRIPTION:
URL:https://www.landonwinery.com/event/music-bingo-wylie-2/2029-04-19/
LOCATION:Landon Winery Wylie\, 103 N Ballard Ave\, Wylie\, TX\, 75098\, United States
CATEGORIES:Thursday,Weekly
ATTACH;FMTTYPE=image/jpeg:https://www.landonwinery.com/wp-content/uploads/2025/01/Wylie-Bingo.jpg
ORGANIZER;CN="Landon Winery":MAILTO:winery@landonwinery.com
END:VEVENT
BEGIN:VEVENT
DTSTART;TZID=America/Chicago:20290426T183000
DTEND;TZID=America/Chicago:20290426T203000
DTSTAMP:20260419T221006
CREATED:20251020T214322Z
LAST-MODIFIED:20251020T220826Z
UID:10009179-1871922600-1871929800@www.landonwinery.com
SUMMARY:Music Bingo Wylie
DESCRIPTION:
URL:https://www.landonwinery.com/event/music-bingo-wylie-2/2029-04-26/
LOCATION:Landon Winery Wylie\, 103 N Ballard Ave\, Wylie\, TX\, 75098\, United States
CATEGORIES:Thursday,Weekly
ATTACH;FMTTYPE=image/jpeg:https://www.landonwinery.com/wp-content/uploads/2025/01/Wylie-Bingo.jpg
ORGANIZER;CN="Landon Winery":MAILTO:winery@landonwinery.com
END:VEVENT
BEGIN:VEVENT
DTSTART;TZID=America/Chicago:20290503T183000
DTEND;TZID=America/Chicago:20290503T203000
DTSTAMP:20260419T221006
CREATED:20251020T214322Z
LAST-MODIFIED:20251020T220826Z
UID:10009180-1872527400-1872534600@www.landonwinery.com
SUMMARY:Music Bingo Wylie
DESCRIPTION:
URL:https://www.landonwinery.com/event/music-bingo-wylie-2/2029-05-03/
LOCATION:Landon Winery Wylie\, 103 N Ballard Ave\, Wylie\, TX\, 75098\, United States
CATEGORIES:Thursday,Weekly
ATTACH;FMTTYPE=image/jpeg:https://www.landonwinery.com/wp-content/uploads/2025/01/Wylie-Bingo.jpg
ORGANIZER;CN="Landon Winery":MAILTO:winery@landonwinery.com
END:VEVENT
BEGIN:VEVENT
DTSTART;TZID=America/Chicago:20290510T183000
DTEND;TZID=America/Chicago:20290510T203000
DTSTAMP:20260419T221006
CREATED:20251020T214322Z
LAST-MODIFIED:20251020T220826Z
UID:10009181-1873132200-1873139400@www.landonwinery.com
SUMMARY:Music Bingo Wylie
DESCRIPTION:
URL:https://www.landonwinery.com/event/music-bingo-wylie-2/2029-05-10/
LOCATION:Landon Winery Wylie\, 103 N Ballard Ave\, Wylie\, TX\, 75098\, United States
CATEGORIES:Thursday,Weekly
ATTACH;FMTTYPE=image/jpeg:https://www.landonwinery.com/wp-content/uploads/2025/01/Wylie-Bingo.jpg
ORGANIZER;CN="Landon Winery":MAILTO:winery@landonwinery.com
END:VEVENT
BEGIN:VEVENT
DTSTART;TZID=America/Chicago:20290517T183000
DTEND;TZID=America/Chicago:20290517T203000
DTSTAMP:20260419T221006
CREATED:20251020T214322Z
LAST-MODIFIED:20251020T220826Z
UID:10009182-1873737000-1873744200@www.landonwinery.com
SUMMARY:Music Bingo Wylie
DESCRIPTION:
URL:https://www.landonwinery.com/event/music-bingo-wylie-2/2029-05-17/
LOCATION:Landon Winery Wylie\, 103 N Ballard Ave\, Wylie\, TX\, 75098\, United States
CATEGORIES:Thursday,Weekly
ATTACH;FMTTYPE=image/jpeg:https://www.landonwinery.com/wp-content/uploads/2025/01/Wylie-Bingo.jpg
ORGANIZER;CN="Landon Winery":MAILTO:winery@landonwinery.com
END:VEVENT
BEGIN:VEVENT
DTSTART;TZID=America/Chicago:20290524T183000
DTEND;TZID=America/Chicago:20290524T203000
DTSTAMP:20260419T221006
CREATED:20251020T214322Z
LAST-MODIFIED:20251020T220826Z
UID:10009183-1874341800-1874349000@www.landonwinery.com
SUMMARY:Music Bingo Wylie
DESCRIPTION:
URL:https://www.landonwinery.com/event/music-bingo-wylie-2/2029-05-24/
LOCATION:Landon Winery Wylie\, 103 N Ballard Ave\, Wylie\, TX\, 75098\, United States
CATEGORIES:Thursday,Weekly
ATTACH;FMTTYPE=image/jpeg:https://www.landonwinery.com/wp-content/uploads/2025/01/Wylie-Bingo.jpg
ORGANIZER;CN="Landon Winery":MAILTO:winery@landonwinery.com
END:VEVENT
BEGIN:VEVENT
DTSTART;TZID=America/Chicago:20290531T183000
DTEND;TZID=America/Chicago:20290531T203000
DTSTAMP:20260419T221006
CREATED:20251020T214322Z
LAST-MODIFIED:20251020T220826Z
UID:10009184-1874946600-1874953800@www.landonwinery.com
SUMMARY:Music Bingo Wylie
DESCRIPTION:
URL:https://www.landonwinery.com/event/music-bingo-wylie-2/2029-05-31/
LOCATION:Landon Winery Wylie\, 103 N Ballard Ave\, Wylie\, TX\, 75098\, United States
CATEGORIES:Thursday,Weekly
ATTACH;FMTTYPE=image/jpeg:https://www.landonwinery.com/wp-content/uploads/2025/01/Wylie-Bingo.jpg
ORGANIZER;CN="Landon Winery":MAILTO:winery@landonwinery.com
END:VEVENT
BEGIN:VEVENT
DTSTART;TZID=America/Chicago:20290607T183000
DTEND;TZID=America/Chicago:20290607T203000
DTSTAMP:20260419T221006
CREATED:20251020T214322Z
LAST-MODIFIED:20251020T220826Z
UID:10009185-1875551400-1875558600@www.landonwinery.com
SUMMARY:Music Bingo Wylie
DESCRIPTION:
URL:https://www.landonwinery.com/event/music-bingo-wylie-2/2029-06-07/
LOCATION:Landon Winery Wylie\, 103 N Ballard Ave\, Wylie\, TX\, 75098\, United States
CATEGORIES:Thursday,Weekly
ATTACH;FMTTYPE=image/jpeg:https://www.landonwinery.com/wp-content/uploads/2025/01/Wylie-Bingo.jpg
ORGANIZER;CN="Landon Winery":MAILTO:winery@landonwinery.com
END:VEVENT
BEGIN:VEVENT
DTSTART;TZID=America/Chicago:20290614T183000
DTEND;TZID=America/Chicago:20290614T203000
DTSTAMP:20260419T221006
CREATED:20251020T214322Z
LAST-MODIFIED:20251020T220826Z
UID:10009186-1876156200-1876163400@www.landonwinery.com
SUMMARY:Music Bingo Wylie
DESCRIPTION:
URL:https://www.landonwinery.com/event/music-bingo-wylie-2/2029-06-14/
LOCATION:Landon Winery Wylie\, 103 N Ballard Ave\, Wylie\, TX\, 75098\, United States
CATEGORIES:Thursday,Weekly
ATTACH;FMTTYPE=image/jpeg:https://www.landonwinery.com/wp-content/uploads/2025/01/Wylie-Bingo.jpg
ORGANIZER;CN="Landon Winery":MAILTO:winery@landonwinery.com
END:VEVENT
BEGIN:VEVENT
DTSTART;TZID=America/Chicago:20290621T183000
DTEND;TZID=America/Chicago:20290621T203000
DTSTAMP:20260419T221006
CREATED:20251020T214322Z
LAST-MODIFIED:20251020T220826Z
UID:10009187-1876761000-1876768200@www.landonwinery.com
SUMMARY:Music Bingo Wylie
DESCRIPTION:
URL:https://www.landonwinery.com/event/music-bingo-wylie-2/2029-06-21/
LOCATION:Landon Winery Wylie\, 103 N Ballard Ave\, Wylie\, TX\, 75098\, United States
CATEGORIES:Thursday,Weekly
ATTACH;FMTTYPE=image/jpeg:https://www.landonwinery.com/wp-content/uploads/2025/01/Wylie-Bingo.jpg
ORGANIZER;CN="Landon Winery":MAILTO:winery@landonwinery.com
END:VEVENT
BEGIN:VEVENT
DTSTART;TZID=America/Chicago:20290628T183000
DTEND;TZID=America/Chicago:20290628T203000
DTSTAMP:20260419T221006
CREATED:20251020T214322Z
LAST-MODIFIED:20251020T220826Z
UID:10009188-1877365800-1877373000@www.landonwinery.com
SUMMARY:Music Bingo Wylie
DESCRIPTION:
URL:https://www.landonwinery.com/event/music-bingo-wylie-2/2029-06-28/
LOCATION:Landon Winery Wylie\, 103 N Ballard Ave\, Wylie\, TX\, 75098\, United States
CATEGORIES:Thursday,Weekly
ATTACH;FMTTYPE=image/jpeg:https://www.landonwinery.com/wp-content/uploads/2025/01/Wylie-Bingo.jpg
ORGANIZER;CN="Landon Winery":MAILTO:winery@landonwinery.com
END:VEVENT
BEGIN:VEVENT
DTSTART;TZID=America/Chicago:20290705T183000
DTEND;TZID=America/Chicago:20290705T203000
DTSTAMP:20260419T221006
CREATED:20251020T214322Z
LAST-MODIFIED:20251020T220826Z
UID:10009189-1877970600-1877977800@www.landonwinery.com
SUMMARY:Music Bingo Wylie
DESCRIPTION:
URL:https://www.landonwinery.com/event/music-bingo-wylie-2/2029-07-05/
LOCATION:Landon Winery Wylie\, 103 N Ballard Ave\, Wylie\, TX\, 75098\, United States
CATEGORIES:Thursday,Weekly
ATTACH;FMTTYPE=image/jpeg:https://www.landonwinery.com/wp-content/uploads/2025/01/Wylie-Bingo.jpg
ORGANIZER;CN="Landon Winery":MAILTO:winery@landonwinery.com
END:VEVENT
BEGIN:VEVENT
DTSTART;TZID=America/Chicago:20290712T183000
DTEND;TZID=America/Chicago:20290712T203000
DTSTAMP:20260419T221006
CREATED:20251020T214322Z
LAST-MODIFIED:20251020T220826Z
UID:10009190-1878575400-1878582600@www.landonwinery.com
SUMMARY:Music Bingo Wylie
DESCRIPTION:
URL:https://www.landonwinery.com/event/music-bingo-wylie-2/2029-07-12/
LOCATION:Landon Winery Wylie\, 103 N Ballard Ave\, Wylie\, TX\, 75098\, United States
CATEGORIES:Thursday,Weekly
ATTACH;FMTTYPE=image/jpeg:https://www.landonwinery.com/wp-content/uploads/2025/01/Wylie-Bingo.jpg
ORGANIZER;CN="Landon Winery":MAILTO:winery@landonwinery.com
END:VEVENT
BEGIN:VEVENT
DTSTART;TZID=America/Chicago:20290719T183000
DTEND;TZID=America/Chicago:20290719T203000
DTSTAMP:20260419T221006
CREATED:20251020T214322Z
LAST-MODIFIED:20251020T220826Z
UID:10009191-1879180200-1879187400@www.landonwinery.com
SUMMARY:Music Bingo Wylie
DESCRIPTION:
URL:https://www.landonwinery.com/event/music-bingo-wylie-2/2029-07-19/
LOCATION:Landon Winery Wylie\, 103 N Ballard Ave\, Wylie\, TX\, 75098\, United States
CATEGORIES:Thursday,Weekly
ATTACH;FMTTYPE=image/jpeg:https://www.landonwinery.com/wp-content/uploads/2025/01/Wylie-Bingo.jpg
ORGANIZER;CN="Landon Winery":MAILTO:winery@landonwinery.com
END:VEVENT
BEGIN:VEVENT
DTSTART;TZID=America/Chicago:20290726T183000
DTEND;TZID=America/Chicago:20290726T203000
DTSTAMP:20260419T221006
CREATED:20251020T214322Z
LAST-MODIFIED:20251020T220826Z
UID:10009192-1879785000-1879792200@www.landonwinery.com
SUMMARY:Music Bingo Wylie
DESCRIPTION:
URL:https://www.landonwinery.com/event/music-bingo-wylie-2/2029-07-26/
LOCATION:Landon Winery Wylie\, 103 N Ballard Ave\, Wylie\, TX\, 75098\, United States
CATEGORIES:Thursday,Weekly
ATTACH;FMTTYPE=image/jpeg:https://www.landonwinery.com/wp-content/uploads/2025/01/Wylie-Bingo.jpg
ORGANIZER;CN="Landon Winery":MAILTO:winery@landonwinery.com
END:VEVENT
BEGIN:VEVENT
DTSTART;TZID=America/Chicago:20290802T183000
DTEND;TZID=America/Chicago:20290802T203000
DTSTAMP:20260419T221006
CREATED:20251020T214322Z
LAST-MODIFIED:20251020T220826Z
UID:10009193-1880389800-1880397000@www.landonwinery.com
SUMMARY:Music Bingo Wylie
DESCRIPTION:
URL:https://www.landonwinery.com/event/music-bingo-wylie-2/2029-08-02/
LOCATION:Landon Winery Wylie\, 103 N Ballard Ave\, Wylie\, TX\, 75098\, United States
CATEGORIES:Thursday,Weekly
ATTACH;FMTTYPE=image/jpeg:https://www.landonwinery.com/wp-content/uploads/2025/01/Wylie-Bingo.jpg
ORGANIZER;CN="Landon Winery":MAILTO:winery@landonwinery.com
END:VEVENT
BEGIN:VEVENT
DTSTART;TZID=America/Chicago:20290809T183000
DTEND;TZID=America/Chicago:20290809T203000
DTSTAMP:20260419T221006
CREATED:20251020T214322Z
LAST-MODIFIED:20251020T220826Z
UID:10009194-1880994600-1881001800@www.landonwinery.com
SUMMARY:Music Bingo Wylie
DESCRIPTION:
URL:https://www.landonwinery.com/event/music-bingo-wylie-2/2029-08-09/
LOCATION:Landon Winery Wylie\, 103 N Ballard Ave\, Wylie\, TX\, 75098\, United States
CATEGORIES:Thursday,Weekly
ATTACH;FMTTYPE=image/jpeg:https://www.landonwinery.com/wp-content/uploads/2025/01/Wylie-Bingo.jpg
ORGANIZER;CN="Landon Winery":MAILTO:winery@landonwinery.com
END:VEVENT
BEGIN:VEVENT
DTSTART;TZID=America/Chicago:20290816T183000
DTEND;TZID=America/Chicago:20290816T203000
DTSTAMP:20260419T221006
CREATED:20251020T214322Z
LAST-MODIFIED:20251020T220826Z
UID:10009195-1881599400-1881606600@www.landonwinery.com
SUMMARY:Music Bingo Wylie
DESCRIPTION:
URL:https://www.landonwinery.com/event/music-bingo-wylie-2/2029-08-16/
LOCATION:Landon Winery Wylie\, 103 N Ballard Ave\, Wylie\, TX\, 75098\, United States
CATEGORIES:Thursday,Weekly
ATTACH;FMTTYPE=image/jpeg:https://www.landonwinery.com/wp-content/uploads/2025/01/Wylie-Bingo.jpg
ORGANIZER;CN="Landon Winery":MAILTO:winery@landonwinery.com
END:VEVENT
BEGIN:VEVENT
DTSTART;TZID=America/Chicago:20290823T183000
DTEND;TZID=America/Chicago:20290823T203000
DTSTAMP:20260419T221006
CREATED:20251020T214322Z
LAST-MODIFIED:20251020T220826Z
UID:10009196-1882204200-1882211400@www.landonwinery.com
SUMMARY:Music Bingo Wylie
DESCRIPTION:
URL:https://www.landonwinery.com/event/music-bingo-wylie-2/2029-08-23/
LOCATION:Landon Winery Wylie\, 103 N Ballard Ave\, Wylie\, TX\, 75098\, United States
CATEGORIES:Thursday,Weekly
ATTACH;FMTTYPE=image/jpeg:https://www.landonwinery.com/wp-content/uploads/2025/01/Wylie-Bingo.jpg
ORGANIZER;CN="Landon Winery":MAILTO:winery@landonwinery.com
END:VEVENT
BEGIN:VEVENT
DTSTART;TZID=America/Chicago:20290830T183000
DTEND;TZID=America/Chicago:20290830T203000
DTSTAMP:20260419T221006
CREATED:20251020T214322Z
LAST-MODIFIED:20251020T220826Z
UID:10009197-1882809000-1882816200@www.landonwinery.com
SUMMARY:Music Bingo Wylie
DESCRIPTION:
URL:https://www.landonwinery.com/event/music-bingo-wylie-2/2029-08-30/
LOCATION:Landon Winery Wylie\, 103 N Ballard Ave\, Wylie\, TX\, 75098\, United States
CATEGORIES:Thursday,Weekly
ATTACH;FMTTYPE=image/jpeg:https://www.landonwinery.com/wp-content/uploads/2025/01/Wylie-Bingo.jpg
ORGANIZER;CN="Landon Winery":MAILTO:winery@landonwinery.com
END:VEVENT
BEGIN:VEVENT
DTSTART;TZID=America/Chicago:20290906T183000
DTEND;TZID=America/Chicago:20290906T203000
DTSTAMP:20260419T221006
CREATED:20251020T214322Z
LAST-MODIFIED:20251020T220826Z
UID:10009198-1883413800-1883421000@www.landonwinery.com
SUMMARY:Music Bingo Wylie
DESCRIPTION:
URL:https://www.landonwinery.com/event/music-bingo-wylie-2/2029-09-06/
LOCATION:Landon Winery Wylie\, 103 N Ballard Ave\, Wylie\, TX\, 75098\, United States
CATEGORIES:Thursday,Weekly
ATTACH;FMTTYPE=image/jpeg:https://www.landonwinery.com/wp-content/uploads/2025/01/Wylie-Bingo.jpg
ORGANIZER;CN="Landon Winery":MAILTO:winery@landonwinery.com
END:VEVENT
BEGIN:VEVENT
DTSTART;TZID=America/Chicago:20290913T183000
DTEND;TZID=America/Chicago:20290913T203000
DTSTAMP:20260419T221006
CREATED:20251020T214322Z
LAST-MODIFIED:20251020T220826Z
UID:10009199-1884018600-1884025800@www.landonwinery.com
SUMMARY:Music Bingo Wylie
DESCRIPTION:
URL:https://www.landonwinery.com/event/music-bingo-wylie-2/2029-09-13/
LOCATION:Landon Winery Wylie\, 103 N Ballard Ave\, Wylie\, TX\, 75098\, United States
CATEGORIES:Thursday,Weekly
ATTACH;FMTTYPE=image/jpeg:https://www.landonwinery.com/wp-content/uploads/2025/01/Wylie-Bingo.jpg
ORGANIZER;CN="Landon Winery":MAILTO:winery@landonwinery.com
END:VEVENT
BEGIN:VEVENT
DTSTART;TZID=America/Chicago:20290920T183000
DTEND;TZID=America/Chicago:20290920T203000
DTSTAMP:20260419T221006
CREATED:20251020T214322Z
LAST-MODIFIED:20251020T220826Z
UID:10009200-1884623400-1884630600@www.landonwinery.com
SUMMARY:Music Bingo Wylie
DESCRIPTION:
URL:https://www.landonwinery.com/event/music-bingo-wylie-2/2029-09-20/
LOCATION:Landon Winery Wylie\, 103 N Ballard Ave\, Wylie\, TX\, 75098\, United States
CATEGORIES:Thursday,Weekly
ATTACH;FMTTYPE=image/jpeg:https://www.landonwinery.com/wp-content/uploads/2025/01/Wylie-Bingo.jpg
ORGANIZER;CN="Landon Winery":MAILTO:winery@landonwinery.com
END:VEVENT
BEGIN:VEVENT
DTSTART;TZID=America/Chicago:20290927T183000
DTEND;TZID=America/Chicago:20290927T203000
DTSTAMP:20260419T221006
CREATED:20251020T214322Z
LAST-MODIFIED:20251020T220826Z
UID:10009201-1885228200-1885235400@www.landonwinery.com
SUMMARY:Music Bingo Wylie
DESCRIPTION:
URL:https://www.landonwinery.com/event/music-bingo-wylie-2/2029-09-27/
LOCATION:Landon Winery Wylie\, 103 N Ballard Ave\, Wylie\, TX\, 75098\, United States
CATEGORIES:Thursday,Weekly
ATTACH;FMTTYPE=image/jpeg:https://www.landonwinery.com/wp-content/uploads/2025/01/Wylie-Bingo.jpg
ORGANIZER;CN="Landon Winery":MAILTO:winery@landonwinery.com
END:VEVENT
BEGIN:VEVENT
DTSTART;TZID=America/Chicago:20291004T183000
DTEND;TZID=America/Chicago:20291004T203000
DTSTAMP:20260419T221006
CREATED:20251020T214322Z
LAST-MODIFIED:20251020T220826Z
UID:10009202-1885833000-1885840200@www.landonwinery.com
SUMMARY:Music Bingo Wylie
DESCRIPTION:
URL:https://www.landonwinery.com/event/music-bingo-wylie-2/2029-10-04/
LOCATION:Landon Winery Wylie\, 103 N Ballard Ave\, Wylie\, TX\, 75098\, United States
CATEGORIES:Thursday,Weekly
ATTACH;FMTTYPE=image/jpeg:https://www.landonwinery.com/wp-content/uploads/2025/01/Wylie-Bingo.jpg
ORGANIZER;CN="Landon Winery":MAILTO:winery@landonwinery.com
END:VEVENT
BEGIN:VEVENT
DTSTART;TZID=America/Chicago:20291011T183000
DTEND;TZID=America/Chicago:20291011T203000
DTSTAMP:20260419T221006
CREATED:20251020T214322Z
LAST-MODIFIED:20251020T220826Z
UID:10009203-1886437800-1886445000@www.landonwinery.com
SUMMARY:Music Bingo Wylie
DESCRIPTION:
URL:https://www.landonwinery.com/event/music-bingo-wylie-2/2029-10-11/
LOCATION:Landon Winery Wylie\, 103 N Ballard Ave\, Wylie\, TX\, 75098\, United States
CATEGORIES:Thursday,Weekly
ATTACH;FMTTYPE=image/jpeg:https://www.landonwinery.com/wp-content/uploads/2025/01/Wylie-Bingo.jpg
ORGANIZER;CN="Landon Winery":MAILTO:winery@landonwinery.com
END:VEVENT
BEGIN:VEVENT
DTSTART;TZID=America/Chicago:20291018T183000
DTEND;TZID=America/Chicago:20291018T203000
DTSTAMP:20260419T221006
CREATED:20251020T214322Z
LAST-MODIFIED:20251020T220826Z
UID:10009204-1887042600-1887049800@www.landonwinery.com
SUMMARY:Music Bingo Wylie
DESCRIPTION:
URL:https://www.landonwinery.com/event/music-bingo-wylie-2/2029-10-18/
LOCATION:Landon Winery Wylie\, 103 N Ballard Ave\, Wylie\, TX\, 75098\, United States
CATEGORIES:Thursday,Weekly
ATTACH;FMTTYPE=image/jpeg:https://www.landonwinery.com/wp-content/uploads/2025/01/Wylie-Bingo.jpg
ORGANIZER;CN="Landon Winery":MAILTO:winery@landonwinery.com
END:VEVENT
END:VCALENDAR