BEGIN:VCALENDAR
VERSION:2.0
PRODID:-//Landon Winery - ECPv6.15.18//NONSGML v1.0//EN
CALSCALE:GREGORIAN
METHOD:PUBLISH
X-ORIGINAL-URL:https://www.landonwinery.com
X-WR-CALDESC:Events for Landon Winery
REFRESH-INTERVAL;VALUE=DURATION:PT1H
X-Robots-Tag:noindex
X-PUBLISHED-TTL:PT1H
BEGIN:VTIMEZONE
TZID:America/Chicago
BEGIN:DAYLIGHT
TZOFFSETFROM:-0600
TZOFFSETTO:-0500
TZNAME:CDT
DTSTART:20240310T080000
END:DAYLIGHT
BEGIN:STANDARD
TZOFFSETFROM:-0500
TZOFFSETTO:-0600
TZNAME:CST
DTSTART:20241103T070000
END:STANDARD
BEGIN:DAYLIGHT
TZOFFSETFROM:-0600
TZOFFSETTO:-0500
TZNAME:CDT
DTSTART:20250309T080000
END:DAYLIGHT
BEGIN:STANDARD
TZOFFSETFROM:-0500
TZOFFSETTO:-0600
TZNAME:CST
DTSTART:20251102T070000
END:STANDARD
BEGIN:DAYLIGHT
TZOFFSETFROM:-0600
TZOFFSETTO:-0500
TZNAME:CDT
DTSTART:20260308T080000
END:DAYLIGHT
BEGIN:STANDARD
TZOFFSETFROM:-0500
TZOFFSETTO:-0600
TZNAME:CST
DTSTART:20261101T070000
END:STANDARD
END:VTIMEZONE
BEGIN:VEVENT
DTSTART;TZID=America/Chicago:20250713T120000
DTEND;TZID=America/Chicago:20250713T210000
DTSTAMP:20260420T021135
CREATED:20250103T191050Z
LAST-MODIFIED:20250419T141453Z
UID:10002378-1752408000-1752440400@www.landonwinery.com
SUMMARY:Mimosa Mania Sunday Wylie
DESCRIPTION:
URL:https://www.landonwinery.com/event/mimosa-mania-sunday-wylie/2025-07-13/
LOCATION:Landon Winery Wylie\, 103 N Ballard Ave\, Wylie\, TX\, 75098\, United States
CATEGORIES:Sunday,Weekly
ATTACH;FMTTYPE=image/jpeg:https://www.landonwinery.com/wp-content/uploads/2025/01/Mimosa-Mania.jpg
ORGANIZER;CN="Landon Winery":MAILTO:winery@landonwinery.com
END:VEVENT
BEGIN:VEVENT
DTSTART;TZID=America/Chicago:20250713T120000
DTEND;TZID=America/Chicago:20250713T210000
DTSTAMP:20260420T021135
CREATED:20250103T192301Z
LAST-MODIFIED:20250419T141237Z
UID:10002639-1752408000-1752440400@www.landonwinery.com
SUMMARY:Mimosa Mania Sunday Greenville
DESCRIPTION:
URL:https://www.landonwinery.com/event/mimosa-mania-sunday-greenville/2025-07-13/
LOCATION:Landon Winery Greenville\, 2508 Lee St.\, Greenville\, TX\, 75401\, United States
CATEGORIES:Sunday,Weekly
ATTACH;FMTTYPE=image/jpeg:https://www.landonwinery.com/wp-content/uploads/2025/01/Mimosa-Mania.jpg
ORGANIZER;CN="Landon Winery":MAILTO:winery@landonwinery.com
END:VEVENT
BEGIN:VEVENT
DTSTART;TZID=America/Chicago:20250713T120000
DTEND;TZID=America/Chicago:20250713T210000
DTSTAMP:20260420T021135
CREATED:20250103T192846Z
LAST-MODIFIED:20250419T141109Z
UID:10002900-1752408000-1752440400@www.landonwinery.com
SUMMARY:Mimosa Mania Sunday Coppell
DESCRIPTION:
URL:https://www.landonwinery.com/event/mimosa-mania-sunday-coppell/2025-07-13/
LOCATION:Landon Winery Coppell\, 3121 Olympus Boulevard #130\, Coppell\, TX\, 75019\, United States
CATEGORIES:Sunday,Weekly
ATTACH;FMTTYPE=image/jpeg:https://www.landonwinery.com/wp-content/uploads/2025/01/Mimosa-Mania.jpg
ORGANIZER;CN="Landon Winery":MAILTO:winery@landonwinery.com
END:VEVENT
BEGIN:VEVENT
DTSTART;TZID=America/Chicago:20250713T120000
DTEND;TZID=America/Chicago:20250713T210000
DTSTAMP:20260420T021135
CREATED:20250105T190537Z
LAST-MODIFIED:20250419T141007Z
UID:10003161-1752408000-1752440400@www.landonwinery.com
SUMMARY:Mimosa Mania Sunday Grapevine
DESCRIPTION:
URL:https://www.landonwinery.com/event/mimosa-mania-sunday-grapevine/2025-07-13/
LOCATION:Landon Winery Grapevine\, 415 S. Main St.\, Grapevine\, TX\, 76051\, United States
CATEGORIES:Sunday,Weekly
ATTACH;FMTTYPE=image/jpeg:https://www.landonwinery.com/wp-content/uploads/2025/01/Mimosa-Mania.jpg
ORGANIZER;CN="Landon Winery":MAILTO:winery@landonwinery.com
END:VEVENT
BEGIN:VEVENT
DTSTART;TZID=America/Chicago:20250720T120000
DTEND;TZID=America/Chicago:20250720T210000
DTSTAMP:20260420T021135
CREATED:20250103T191050Z
LAST-MODIFIED:20250419T141453Z
UID:10002379-1753012800-1753045200@www.landonwinery.com
SUMMARY:Mimosa Mania Sunday Wylie
DESCRIPTION:
URL:https://www.landonwinery.com/event/mimosa-mania-sunday-wylie/2025-07-20/
LOCATION:Landon Winery Wylie\, 103 N Ballard Ave\, Wylie\, TX\, 75098\, United States
CATEGORIES:Sunday,Weekly
ATTACH;FMTTYPE=image/jpeg:https://www.landonwinery.com/wp-content/uploads/2025/01/Mimosa-Mania.jpg
ORGANIZER;CN="Landon Winery":MAILTO:winery@landonwinery.com
END:VEVENT
BEGIN:VEVENT
DTSTART;TZID=America/Chicago:20250720T120000
DTEND;TZID=America/Chicago:20250720T210000
DTSTAMP:20260420T021135
CREATED:20250103T192301Z
LAST-MODIFIED:20250419T141237Z
UID:10002640-1753012800-1753045200@www.landonwinery.com
SUMMARY:Mimosa Mania Sunday Greenville
DESCRIPTION:
URL:https://www.landonwinery.com/event/mimosa-mania-sunday-greenville/2025-07-20/
LOCATION:Landon Winery Greenville\, 2508 Lee St.\, Greenville\, TX\, 75401\, United States
CATEGORIES:Sunday,Weekly
ATTACH;FMTTYPE=image/jpeg:https://www.landonwinery.com/wp-content/uploads/2025/01/Mimosa-Mania.jpg
ORGANIZER;CN="Landon Winery":MAILTO:winery@landonwinery.com
END:VEVENT
BEGIN:VEVENT
DTSTART;TZID=America/Chicago:20250720T120000
DTEND;TZID=America/Chicago:20250720T210000
DTSTAMP:20260420T021135
CREATED:20250103T192846Z
LAST-MODIFIED:20250419T141109Z
UID:10002901-1753012800-1753045200@www.landonwinery.com
SUMMARY:Mimosa Mania Sunday Coppell
DESCRIPTION:
URL:https://www.landonwinery.com/event/mimosa-mania-sunday-coppell/2025-07-20/
LOCATION:Landon Winery Coppell\, 3121 Olympus Boulevard #130\, Coppell\, TX\, 75019\, United States
CATEGORIES:Sunday,Weekly
ATTACH;FMTTYPE=image/jpeg:https://www.landonwinery.com/wp-content/uploads/2025/01/Mimosa-Mania.jpg
ORGANIZER;CN="Landon Winery":MAILTO:winery@landonwinery.com
END:VEVENT
BEGIN:VEVENT
DTSTART;TZID=America/Chicago:20250720T120000
DTEND;TZID=America/Chicago:20250720T210000
DTSTAMP:20260420T021135
CREATED:20250105T190537Z
LAST-MODIFIED:20250419T141007Z
UID:10003162-1753012800-1753045200@www.landonwinery.com
SUMMARY:Mimosa Mania Sunday Grapevine
DESCRIPTION:
URL:https://www.landonwinery.com/event/mimosa-mania-sunday-grapevine/2025-07-20/
LOCATION:Landon Winery Grapevine\, 415 S. Main St.\, Grapevine\, TX\, 76051\, United States
CATEGORIES:Sunday,Weekly
ATTACH;FMTTYPE=image/jpeg:https://www.landonwinery.com/wp-content/uploads/2025/01/Mimosa-Mania.jpg
ORGANIZER;CN="Landon Winery":MAILTO:winery@landonwinery.com
END:VEVENT
BEGIN:VEVENT
DTSTART;TZID=America/Chicago:20250727T120000
DTEND;TZID=America/Chicago:20250727T210000
DTSTAMP:20260420T021135
CREATED:20250103T191050Z
LAST-MODIFIED:20250419T141453Z
UID:10002380-1753617600-1753650000@www.landonwinery.com
SUMMARY:Mimosa Mania Sunday Wylie
DESCRIPTION:
URL:https://www.landonwinery.com/event/mimosa-mania-sunday-wylie/2025-07-27/
LOCATION:Landon Winery Wylie\, 103 N Ballard Ave\, Wylie\, TX\, 75098\, United States
CATEGORIES:Sunday,Weekly
ATTACH;FMTTYPE=image/jpeg:https://www.landonwinery.com/wp-content/uploads/2025/01/Mimosa-Mania.jpg
ORGANIZER;CN="Landon Winery":MAILTO:winery@landonwinery.com
END:VEVENT
BEGIN:VEVENT
DTSTART;TZID=America/Chicago:20250727T120000
DTEND;TZID=America/Chicago:20250727T210000
DTSTAMP:20260420T021135
CREATED:20250103T192301Z
LAST-MODIFIED:20250419T141237Z
UID:10002641-1753617600-1753650000@www.landonwinery.com
SUMMARY:Mimosa Mania Sunday Greenville
DESCRIPTION:
URL:https://www.landonwinery.com/event/mimosa-mania-sunday-greenville/2025-07-27/
LOCATION:Landon Winery Greenville\, 2508 Lee St.\, Greenville\, TX\, 75401\, United States
CATEGORIES:Sunday,Weekly
ATTACH;FMTTYPE=image/jpeg:https://www.landonwinery.com/wp-content/uploads/2025/01/Mimosa-Mania.jpg
ORGANIZER;CN="Landon Winery":MAILTO:winery@landonwinery.com
END:VEVENT
BEGIN:VEVENT
DTSTART;TZID=America/Chicago:20250727T120000
DTEND;TZID=America/Chicago:20250727T210000
DTSTAMP:20260420T021135
CREATED:20250103T192846Z
LAST-MODIFIED:20250419T141109Z
UID:10002902-1753617600-1753650000@www.landonwinery.com
SUMMARY:Mimosa Mania Sunday Coppell
DESCRIPTION:
URL:https://www.landonwinery.com/event/mimosa-mania-sunday-coppell/2025-07-27/
LOCATION:Landon Winery Coppell\, 3121 Olympus Boulevard #130\, Coppell\, TX\, 75019\, United States
CATEGORIES:Sunday,Weekly
ATTACH;FMTTYPE=image/jpeg:https://www.landonwinery.com/wp-content/uploads/2025/01/Mimosa-Mania.jpg
ORGANIZER;CN="Landon Winery":MAILTO:winery@landonwinery.com
END:VEVENT
BEGIN:VEVENT
DTSTART;TZID=America/Chicago:20250727T120000
DTEND;TZID=America/Chicago:20250727T210000
DTSTAMP:20260420T021135
CREATED:20250105T190537Z
LAST-MODIFIED:20250419T141007Z
UID:10003163-1753617600-1753650000@www.landonwinery.com
SUMMARY:Mimosa Mania Sunday Grapevine
DESCRIPTION:
URL:https://www.landonwinery.com/event/mimosa-mania-sunday-grapevine/2025-07-27/
LOCATION:Landon Winery Grapevine\, 415 S. Main St.\, Grapevine\, TX\, 76051\, United States
CATEGORIES:Sunday,Weekly
ATTACH;FMTTYPE=image/jpeg:https://www.landonwinery.com/wp-content/uploads/2025/01/Mimosa-Mania.jpg
ORGANIZER;CN="Landon Winery":MAILTO:winery@landonwinery.com
END:VEVENT
BEGIN:VEVENT
DTSTART;TZID=America/Chicago:20250803T120000
DTEND;TZID=America/Chicago:20250803T210000
DTSTAMP:20260420T021135
CREATED:20250103T191050Z
LAST-MODIFIED:20250419T141453Z
UID:10002381-1754222400-1754254800@www.landonwinery.com
SUMMARY:Mimosa Mania Sunday Wylie
DESCRIPTION:
URL:https://www.landonwinery.com/event/mimosa-mania-sunday-wylie/2025-08-03/
LOCATION:Landon Winery Wylie\, 103 N Ballard Ave\, Wylie\, TX\, 75098\, United States
CATEGORIES:Sunday,Weekly
ATTACH;FMTTYPE=image/jpeg:https://www.landonwinery.com/wp-content/uploads/2025/01/Mimosa-Mania.jpg
ORGANIZER;CN="Landon Winery":MAILTO:winery@landonwinery.com
END:VEVENT
BEGIN:VEVENT
DTSTART;TZID=America/Chicago:20250803T120000
DTEND;TZID=America/Chicago:20250803T210000
DTSTAMP:20260420T021135
CREATED:20250103T192301Z
LAST-MODIFIED:20250419T141237Z
UID:10002642-1754222400-1754254800@www.landonwinery.com
SUMMARY:Mimosa Mania Sunday Greenville
DESCRIPTION:
URL:https://www.landonwinery.com/event/mimosa-mania-sunday-greenville/2025-08-03/
LOCATION:Landon Winery Greenville\, 2508 Lee St.\, Greenville\, TX\, 75401\, United States
CATEGORIES:Sunday,Weekly
ATTACH;FMTTYPE=image/jpeg:https://www.landonwinery.com/wp-content/uploads/2025/01/Mimosa-Mania.jpg
ORGANIZER;CN="Landon Winery":MAILTO:winery@landonwinery.com
END:VEVENT
BEGIN:VEVENT
DTSTART;TZID=America/Chicago:20250803T120000
DTEND;TZID=America/Chicago:20250803T210000
DTSTAMP:20260420T021135
CREATED:20250103T192846Z
LAST-MODIFIED:20250419T141109Z
UID:10002903-1754222400-1754254800@www.landonwinery.com
SUMMARY:Mimosa Mania Sunday Coppell
DESCRIPTION:
URL:https://www.landonwinery.com/event/mimosa-mania-sunday-coppell/2025-08-03/
LOCATION:Landon Winery Coppell\, 3121 Olympus Boulevard #130\, Coppell\, TX\, 75019\, United States
CATEGORIES:Sunday,Weekly
ATTACH;FMTTYPE=image/jpeg:https://www.landonwinery.com/wp-content/uploads/2025/01/Mimosa-Mania.jpg
ORGANIZER;CN="Landon Winery":MAILTO:winery@landonwinery.com
END:VEVENT
BEGIN:VEVENT
DTSTART;TZID=America/Chicago:20250803T120000
DTEND;TZID=America/Chicago:20250803T210000
DTSTAMP:20260420T021135
CREATED:20250105T190537Z
LAST-MODIFIED:20250419T141007Z
UID:10003164-1754222400-1754254800@www.landonwinery.com
SUMMARY:Mimosa Mania Sunday Grapevine
DESCRIPTION:
URL:https://www.landonwinery.com/event/mimosa-mania-sunday-grapevine/2025-08-03/
LOCATION:Landon Winery Grapevine\, 415 S. Main St.\, Grapevine\, TX\, 76051\, United States
CATEGORIES:Sunday,Weekly
ATTACH;FMTTYPE=image/jpeg:https://www.landonwinery.com/wp-content/uploads/2025/01/Mimosa-Mania.jpg
ORGANIZER;CN="Landon Winery":MAILTO:winery@landonwinery.com
END:VEVENT
BEGIN:VEVENT
DTSTART;TZID=America/Chicago:20250810T120000
DTEND;TZID=America/Chicago:20250810T210000
DTSTAMP:20260420T021135
CREATED:20250103T191050Z
LAST-MODIFIED:20250419T141453Z
UID:10002382-1754827200-1754859600@www.landonwinery.com
SUMMARY:Mimosa Mania Sunday Wylie
DESCRIPTION:
URL:https://www.landonwinery.com/event/mimosa-mania-sunday-wylie/2025-08-10/
LOCATION:Landon Winery Wylie\, 103 N Ballard Ave\, Wylie\, TX\, 75098\, United States
CATEGORIES:Sunday,Weekly
ATTACH;FMTTYPE=image/jpeg:https://www.landonwinery.com/wp-content/uploads/2025/01/Mimosa-Mania.jpg
ORGANIZER;CN="Landon Winery":MAILTO:winery@landonwinery.com
END:VEVENT
BEGIN:VEVENT
DTSTART;TZID=America/Chicago:20250810T120000
DTEND;TZID=America/Chicago:20250810T210000
DTSTAMP:20260420T021135
CREATED:20250103T192301Z
LAST-MODIFIED:20250419T141237Z
UID:10002643-1754827200-1754859600@www.landonwinery.com
SUMMARY:Mimosa Mania Sunday Greenville
DESCRIPTION:
URL:https://www.landonwinery.com/event/mimosa-mania-sunday-greenville/2025-08-10/
LOCATION:Landon Winery Greenville\, 2508 Lee St.\, Greenville\, TX\, 75401\, United States
CATEGORIES:Sunday,Weekly
ATTACH;FMTTYPE=image/jpeg:https://www.landonwinery.com/wp-content/uploads/2025/01/Mimosa-Mania.jpg
ORGANIZER;CN="Landon Winery":MAILTO:winery@landonwinery.com
END:VEVENT
BEGIN:VEVENT
DTSTART;TZID=America/Chicago:20250810T120000
DTEND;TZID=America/Chicago:20250810T210000
DTSTAMP:20260420T021135
CREATED:20250103T192846Z
LAST-MODIFIED:20250419T141109Z
UID:10002904-1754827200-1754859600@www.landonwinery.com
SUMMARY:Mimosa Mania Sunday Coppell
DESCRIPTION:
URL:https://www.landonwinery.com/event/mimosa-mania-sunday-coppell/2025-08-10/
LOCATION:Landon Winery Coppell\, 3121 Olympus Boulevard #130\, Coppell\, TX\, 75019\, United States
CATEGORIES:Sunday,Weekly
ATTACH;FMTTYPE=image/jpeg:https://www.landonwinery.com/wp-content/uploads/2025/01/Mimosa-Mania.jpg
ORGANIZER;CN="Landon Winery":MAILTO:winery@landonwinery.com
END:VEVENT
BEGIN:VEVENT
DTSTART;TZID=America/Chicago:20250810T120000
DTEND;TZID=America/Chicago:20250810T210000
DTSTAMP:20260420T021135
CREATED:20250105T190537Z
LAST-MODIFIED:20250419T141007Z
UID:10003165-1754827200-1754859600@www.landonwinery.com
SUMMARY:Mimosa Mania Sunday Grapevine
DESCRIPTION:
URL:https://www.landonwinery.com/event/mimosa-mania-sunday-grapevine/2025-08-10/
LOCATION:Landon Winery Grapevine\, 415 S. Main St.\, Grapevine\, TX\, 76051\, United States
CATEGORIES:Sunday,Weekly
ATTACH;FMTTYPE=image/jpeg:https://www.landonwinery.com/wp-content/uploads/2025/01/Mimosa-Mania.jpg
ORGANIZER;CN="Landon Winery":MAILTO:winery@landonwinery.com
END:VEVENT
BEGIN:VEVENT
DTSTART;TZID=America/Chicago:20250817T120000
DTEND;TZID=America/Chicago:20250817T210000
DTSTAMP:20260420T021135
CREATED:20250103T191050Z
LAST-MODIFIED:20250419T141453Z
UID:10002383-1755432000-1755464400@www.landonwinery.com
SUMMARY:Mimosa Mania Sunday Wylie
DESCRIPTION:
URL:https://www.landonwinery.com/event/mimosa-mania-sunday-wylie/2025-08-17/
LOCATION:Landon Winery Wylie\, 103 N Ballard Ave\, Wylie\, TX\, 75098\, United States
CATEGORIES:Sunday,Weekly
ATTACH;FMTTYPE=image/jpeg:https://www.landonwinery.com/wp-content/uploads/2025/01/Mimosa-Mania.jpg
ORGANIZER;CN="Landon Winery":MAILTO:winery@landonwinery.com
END:VEVENT
BEGIN:VEVENT
DTSTART;TZID=America/Chicago:20250817T120000
DTEND;TZID=America/Chicago:20250817T210000
DTSTAMP:20260420T021135
CREATED:20250103T192301Z
LAST-MODIFIED:20250419T141237Z
UID:10002644-1755432000-1755464400@www.landonwinery.com
SUMMARY:Mimosa Mania Sunday Greenville
DESCRIPTION:
URL:https://www.landonwinery.com/event/mimosa-mania-sunday-greenville/2025-08-17/
LOCATION:Landon Winery Greenville\, 2508 Lee St.\, Greenville\, TX\, 75401\, United States
CATEGORIES:Sunday,Weekly
ATTACH;FMTTYPE=image/jpeg:https://www.landonwinery.com/wp-content/uploads/2025/01/Mimosa-Mania.jpg
ORGANIZER;CN="Landon Winery":MAILTO:winery@landonwinery.com
END:VEVENT
BEGIN:VEVENT
DTSTART;TZID=America/Chicago:20250817T120000
DTEND;TZID=America/Chicago:20250817T210000
DTSTAMP:20260420T021135
CREATED:20250103T192846Z
LAST-MODIFIED:20250419T141109Z
UID:10002905-1755432000-1755464400@www.landonwinery.com
SUMMARY:Mimosa Mania Sunday Coppell
DESCRIPTION:
URL:https://www.landonwinery.com/event/mimosa-mania-sunday-coppell/2025-08-17/
LOCATION:Landon Winery Coppell\, 3121 Olympus Boulevard #130\, Coppell\, TX\, 75019\, United States
CATEGORIES:Sunday,Weekly
ATTACH;FMTTYPE=image/jpeg:https://www.landonwinery.com/wp-content/uploads/2025/01/Mimosa-Mania.jpg
ORGANIZER;CN="Landon Winery":MAILTO:winery@landonwinery.com
END:VEVENT
BEGIN:VEVENT
DTSTART;TZID=America/Chicago:20250817T120000
DTEND;TZID=America/Chicago:20250817T210000
DTSTAMP:20260420T021135
CREATED:20250105T190537Z
LAST-MODIFIED:20250419T141007Z
UID:10003166-1755432000-1755464400@www.landonwinery.com
SUMMARY:Mimosa Mania Sunday Grapevine
DESCRIPTION:
URL:https://www.landonwinery.com/event/mimosa-mania-sunday-grapevine/2025-08-17/
LOCATION:Landon Winery Grapevine\, 415 S. Main St.\, Grapevine\, TX\, 76051\, United States
CATEGORIES:Sunday,Weekly
ATTACH;FMTTYPE=image/jpeg:https://www.landonwinery.com/wp-content/uploads/2025/01/Mimosa-Mania.jpg
ORGANIZER;CN="Landon Winery":MAILTO:winery@landonwinery.com
END:VEVENT
BEGIN:VEVENT
DTSTART;TZID=America/Chicago:20250824T120000
DTEND;TZID=America/Chicago:20250824T210000
DTSTAMP:20260420T021135
CREATED:20250103T191050Z
LAST-MODIFIED:20250419T141453Z
UID:10002384-1756036800-1756069200@www.landonwinery.com
SUMMARY:Mimosa Mania Sunday Wylie
DESCRIPTION:
URL:https://www.landonwinery.com/event/mimosa-mania-sunday-wylie/2025-08-24/
LOCATION:Landon Winery Wylie\, 103 N Ballard Ave\, Wylie\, TX\, 75098\, United States
CATEGORIES:Sunday,Weekly
ATTACH;FMTTYPE=image/jpeg:https://www.landonwinery.com/wp-content/uploads/2025/01/Mimosa-Mania.jpg
ORGANIZER;CN="Landon Winery":MAILTO:winery@landonwinery.com
END:VEVENT
BEGIN:VEVENT
DTSTART;TZID=America/Chicago:20250824T120000
DTEND;TZID=America/Chicago:20250824T210000
DTSTAMP:20260420T021135
CREATED:20250103T192301Z
LAST-MODIFIED:20250419T141237Z
UID:10002645-1756036800-1756069200@www.landonwinery.com
SUMMARY:Mimosa Mania Sunday Greenville
DESCRIPTION:
URL:https://www.landonwinery.com/event/mimosa-mania-sunday-greenville/2025-08-24/
LOCATION:Landon Winery Greenville\, 2508 Lee St.\, Greenville\, TX\, 75401\, United States
CATEGORIES:Sunday,Weekly
ATTACH;FMTTYPE=image/jpeg:https://www.landonwinery.com/wp-content/uploads/2025/01/Mimosa-Mania.jpg
ORGANIZER;CN="Landon Winery":MAILTO:winery@landonwinery.com
END:VEVENT
BEGIN:VEVENT
DTSTART;TZID=America/Chicago:20250824T120000
DTEND;TZID=America/Chicago:20250824T210000
DTSTAMP:20260420T021135
CREATED:20250103T192846Z
LAST-MODIFIED:20250419T141109Z
UID:10002906-1756036800-1756069200@www.landonwinery.com
SUMMARY:Mimosa Mania Sunday Coppell
DESCRIPTION:
URL:https://www.landonwinery.com/event/mimosa-mania-sunday-coppell/2025-08-24/
LOCATION:Landon Winery Coppell\, 3121 Olympus Boulevard #130\, Coppell\, TX\, 75019\, United States
CATEGORIES:Sunday,Weekly
ATTACH;FMTTYPE=image/jpeg:https://www.landonwinery.com/wp-content/uploads/2025/01/Mimosa-Mania.jpg
ORGANIZER;CN="Landon Winery":MAILTO:winery@landonwinery.com
END:VEVENT
BEGIN:VEVENT
DTSTART;TZID=America/Chicago:20250824T120000
DTEND;TZID=America/Chicago:20250824T210000
DTSTAMP:20260420T021135
CREATED:20250105T190537Z
LAST-MODIFIED:20250419T141007Z
UID:10003167-1756036800-1756069200@www.landonwinery.com
SUMMARY:Mimosa Mania Sunday Grapevine
DESCRIPTION:
URL:https://www.landonwinery.com/event/mimosa-mania-sunday-grapevine/2025-08-24/
LOCATION:Landon Winery Grapevine\, 415 S. Main St.\, Grapevine\, TX\, 76051\, United States
CATEGORIES:Sunday,Weekly
ATTACH;FMTTYPE=image/jpeg:https://www.landonwinery.com/wp-content/uploads/2025/01/Mimosa-Mania.jpg
ORGANIZER;CN="Landon Winery":MAILTO:winery@landonwinery.com
END:VEVENT
BEGIN:VEVENT
DTSTART;TZID=America/Chicago:20250831T120000
DTEND;TZID=America/Chicago:20250831T210000
DTSTAMP:20260420T021135
CREATED:20250103T191050Z
LAST-MODIFIED:20250419T141453Z
UID:10002385-1756641600-1756674000@www.landonwinery.com
SUMMARY:Mimosa Mania Sunday Wylie
DESCRIPTION:
URL:https://www.landonwinery.com/event/mimosa-mania-sunday-wylie/2025-08-31/
LOCATION:Landon Winery Wylie\, 103 N Ballard Ave\, Wylie\, TX\, 75098\, United States
CATEGORIES:Sunday,Weekly
ATTACH;FMTTYPE=image/jpeg:https://www.landonwinery.com/wp-content/uploads/2025/01/Mimosa-Mania.jpg
ORGANIZER;CN="Landon Winery":MAILTO:winery@landonwinery.com
END:VEVENT
BEGIN:VEVENT
DTSTART;TZID=America/Chicago:20250831T120000
DTEND;TZID=America/Chicago:20250831T210000
DTSTAMP:20260420T021135
CREATED:20250103T192301Z
LAST-MODIFIED:20250419T141237Z
UID:10002646-1756641600-1756674000@www.landonwinery.com
SUMMARY:Mimosa Mania Sunday Greenville
DESCRIPTION:
URL:https://www.landonwinery.com/event/mimosa-mania-sunday-greenville/2025-08-31/
LOCATION:Landon Winery Greenville\, 2508 Lee St.\, Greenville\, TX\, 75401\, United States
CATEGORIES:Sunday,Weekly
ATTACH;FMTTYPE=image/jpeg:https://www.landonwinery.com/wp-content/uploads/2025/01/Mimosa-Mania.jpg
ORGANIZER;CN="Landon Winery":MAILTO:winery@landonwinery.com
END:VEVENT
END:VCALENDAR