BEGIN:VCALENDAR
VERSION:2.0
PRODID:-//Landon Winery - ECPv6.15.18//NONSGML v1.0//EN
CALSCALE:GREGORIAN
METHOD:PUBLISH
X-WR-CALNAME:Landon Winery
X-ORIGINAL-URL:https://www.landonwinery.com
X-WR-CALDESC:Events for Landon Winery
REFRESH-INTERVAL;VALUE=DURATION:PT1H
X-Robots-Tag:noindex
X-PUBLISHED-TTL:PT1H
BEGIN:VTIMEZONE
TZID:America/Chicago
BEGIN:DAYLIGHT
TZOFFSETFROM:-0600
TZOFFSETTO:-0500
TZNAME:CDT
DTSTART:20270314T080000
END:DAYLIGHT
BEGIN:STANDARD
TZOFFSETFROM:-0500
TZOFFSETTO:-0600
TZNAME:CST
DTSTART:20271107T070000
END:STANDARD
BEGIN:DAYLIGHT
TZOFFSETFROM:-0600
TZOFFSETTO:-0500
TZNAME:CDT
DTSTART:20280312T080000
END:DAYLIGHT
BEGIN:STANDARD
TZOFFSETFROM:-0500
TZOFFSETTO:-0600
TZNAME:CST
DTSTART:20281105T070000
END:STANDARD
BEGIN:DAYLIGHT
TZOFFSETFROM:-0600
TZOFFSETTO:-0500
TZNAME:CDT
DTSTART:20290311T080000
END:DAYLIGHT
BEGIN:STANDARD
TZOFFSETFROM:-0500
TZOFFSETTO:-0600
TZNAME:CST
DTSTART:20291104T070000
END:STANDARD
END:VTIMEZONE
BEGIN:VEVENT
DTSTART;TZID=America/Chicago:20280326T120000
DTEND;TZID=America/Chicago:20280326T210000
DTSTAMP:20260425T164323
CREATED:20250103T191050Z
LAST-MODIFIED:20250419T141453Z
UID:10002519-1837684800-1837717200@www.landonwinery.com
SUMMARY:Mimosa Mania Sunday Wylie
DESCRIPTION:
URL:https://www.landonwinery.com/event/mimosa-mania-sunday-wylie/2028-03-26/
LOCATION:Landon Winery Wylie\, 103 N Ballard Ave\, Wylie\, TX\, 75098\, United States
CATEGORIES:Sunday,Weekly
ATTACH;FMTTYPE=image/jpeg:https://www.landonwinery.com/wp-content/uploads/2025/01/Mimosa-Mania.jpg
ORGANIZER;CN="Landon Winery":MAILTO:winery@landonwinery.com
END:VEVENT
BEGIN:VEVENT
DTSTART;TZID=America/Chicago:20280326T120000
DTEND;TZID=America/Chicago:20280326T210000
DTSTAMP:20260425T164323
CREATED:20250103T192301Z
LAST-MODIFIED:20250419T141237Z
UID:10002780-1837684800-1837717200@www.landonwinery.com
SUMMARY:Mimosa Mania Sunday Greenville
DESCRIPTION:
URL:https://www.landonwinery.com/event/mimosa-mania-sunday-greenville/2028-03-26/
LOCATION:Landon Winery Greenville\, 2508 Lee St.\, Greenville\, TX\, 75401\, United States
CATEGORIES:Sunday,Weekly
ATTACH;FMTTYPE=image/jpeg:https://www.landonwinery.com/wp-content/uploads/2025/01/Mimosa-Mania.jpg
ORGANIZER;CN="Landon Winery":MAILTO:winery@landonwinery.com
END:VEVENT
BEGIN:VEVENT
DTSTART;TZID=America/Chicago:20280326T120000
DTEND;TZID=America/Chicago:20280326T210000
DTSTAMP:20260425T164323
CREATED:20250103T192846Z
LAST-MODIFIED:20250419T141109Z
UID:10003041-1837684800-1837717200@www.landonwinery.com
SUMMARY:Mimosa Mania Sunday Coppell
DESCRIPTION:
URL:https://www.landonwinery.com/event/mimosa-mania-sunday-coppell/2028-03-26/
LOCATION:Landon Winery Coppell\, 3121 Olympus Boulevard #130\, Coppell\, TX\, 75019\, United States
CATEGORIES:Sunday,Weekly
ATTACH;FMTTYPE=image/jpeg:https://www.landonwinery.com/wp-content/uploads/2025/01/Mimosa-Mania.jpg
ORGANIZER;CN="Landon Winery":MAILTO:winery@landonwinery.com
END:VEVENT
BEGIN:VEVENT
DTSTART;TZID=America/Chicago:20280326T120000
DTEND;TZID=America/Chicago:20280326T210000
DTSTAMP:20260425T164323
CREATED:20250105T190537Z
LAST-MODIFIED:20250419T141007Z
UID:10003302-1837684800-1837717200@www.landonwinery.com
SUMMARY:Mimosa Mania Sunday Grapevine
DESCRIPTION:
URL:https://www.landonwinery.com/event/mimosa-mania-sunday-grapevine/2028-03-26/
LOCATION:Landon Winery Grapevine\, 415 S. Main St.\, Grapevine\, TX\, 76051\, United States
CATEGORIES:Sunday,Weekly
ATTACH;FMTTYPE=image/jpeg:https://www.landonwinery.com/wp-content/uploads/2025/01/Mimosa-Mania.jpg
ORGANIZER;CN="Landon Winery":MAILTO:winery@landonwinery.com
END:VEVENT
BEGIN:VEVENT
DTSTART;TZID=America/Chicago:20280402T120000
DTEND;TZID=America/Chicago:20280402T210000
DTSTAMP:20260425T164323
CREATED:20250103T191050Z
LAST-MODIFIED:20250419T141453Z
UID:10002520-1838289600-1838322000@www.landonwinery.com
SUMMARY:Mimosa Mania Sunday Wylie
DESCRIPTION:
URL:https://www.landonwinery.com/event/mimosa-mania-sunday-wylie/2028-04-02/
LOCATION:Landon Winery Wylie\, 103 N Ballard Ave\, Wylie\, TX\, 75098\, United States
CATEGORIES:Sunday,Weekly
ATTACH;FMTTYPE=image/jpeg:https://www.landonwinery.com/wp-content/uploads/2025/01/Mimosa-Mania.jpg
ORGANIZER;CN="Landon Winery":MAILTO:winery@landonwinery.com
END:VEVENT
BEGIN:VEVENT
DTSTART;TZID=America/Chicago:20280402T120000
DTEND;TZID=America/Chicago:20280402T210000
DTSTAMP:20260425T164323
CREATED:20250103T192301Z
LAST-MODIFIED:20250419T141237Z
UID:10002781-1838289600-1838322000@www.landonwinery.com
SUMMARY:Mimosa Mania Sunday Greenville
DESCRIPTION:
URL:https://www.landonwinery.com/event/mimosa-mania-sunday-greenville/2028-04-02/
LOCATION:Landon Winery Greenville\, 2508 Lee St.\, Greenville\, TX\, 75401\, United States
CATEGORIES:Sunday,Weekly
ATTACH;FMTTYPE=image/jpeg:https://www.landonwinery.com/wp-content/uploads/2025/01/Mimosa-Mania.jpg
ORGANIZER;CN="Landon Winery":MAILTO:winery@landonwinery.com
END:VEVENT
BEGIN:VEVENT
DTSTART;TZID=America/Chicago:20280402T120000
DTEND;TZID=America/Chicago:20280402T210000
DTSTAMP:20260425T164323
CREATED:20250103T192846Z
LAST-MODIFIED:20250419T141109Z
UID:10003042-1838289600-1838322000@www.landonwinery.com
SUMMARY:Mimosa Mania Sunday Coppell
DESCRIPTION:
URL:https://www.landonwinery.com/event/mimosa-mania-sunday-coppell/2028-04-02/
LOCATION:Landon Winery Coppell\, 3121 Olympus Boulevard #130\, Coppell\, TX\, 75019\, United States
CATEGORIES:Sunday,Weekly
ATTACH;FMTTYPE=image/jpeg:https://www.landonwinery.com/wp-content/uploads/2025/01/Mimosa-Mania.jpg
ORGANIZER;CN="Landon Winery":MAILTO:winery@landonwinery.com
END:VEVENT
BEGIN:VEVENT
DTSTART;TZID=America/Chicago:20280402T120000
DTEND;TZID=America/Chicago:20280402T210000
DTSTAMP:20260425T164324
CREATED:20250105T190537Z
LAST-MODIFIED:20250419T141007Z
UID:10003303-1838289600-1838322000@www.landonwinery.com
SUMMARY:Mimosa Mania Sunday Grapevine
DESCRIPTION:
URL:https://www.landonwinery.com/event/mimosa-mania-sunday-grapevine/2028-04-02/
LOCATION:Landon Winery Grapevine\, 415 S. Main St.\, Grapevine\, TX\, 76051\, United States
CATEGORIES:Sunday,Weekly
ATTACH;FMTTYPE=image/jpeg:https://www.landonwinery.com/wp-content/uploads/2025/01/Mimosa-Mania.jpg
ORGANIZER;CN="Landon Winery":MAILTO:winery@landonwinery.com
END:VEVENT
BEGIN:VEVENT
DTSTART;TZID=America/Chicago:20280409T120000
DTEND;TZID=America/Chicago:20280409T210000
DTSTAMP:20260425T164324
CREATED:20250103T191050Z
LAST-MODIFIED:20250419T141453Z
UID:10002521-1838894400-1838926800@www.landonwinery.com
SUMMARY:Mimosa Mania Sunday Wylie
DESCRIPTION:
URL:https://www.landonwinery.com/event/mimosa-mania-sunday-wylie/2028-04-09/
LOCATION:Landon Winery Wylie\, 103 N Ballard Ave\, Wylie\, TX\, 75098\, United States
CATEGORIES:Sunday,Weekly
ATTACH;FMTTYPE=image/jpeg:https://www.landonwinery.com/wp-content/uploads/2025/01/Mimosa-Mania.jpg
ORGANIZER;CN="Landon Winery":MAILTO:winery@landonwinery.com
END:VEVENT
BEGIN:VEVENT
DTSTART;TZID=America/Chicago:20280409T120000
DTEND;TZID=America/Chicago:20280409T210000
DTSTAMP:20260425T164324
CREATED:20250103T192301Z
LAST-MODIFIED:20250419T141237Z
UID:10002782-1838894400-1838926800@www.landonwinery.com
SUMMARY:Mimosa Mania Sunday Greenville
DESCRIPTION:
URL:https://www.landonwinery.com/event/mimosa-mania-sunday-greenville/2028-04-09/
LOCATION:Landon Winery Greenville\, 2508 Lee St.\, Greenville\, TX\, 75401\, United States
CATEGORIES:Sunday,Weekly
ATTACH;FMTTYPE=image/jpeg:https://www.landonwinery.com/wp-content/uploads/2025/01/Mimosa-Mania.jpg
ORGANIZER;CN="Landon Winery":MAILTO:winery@landonwinery.com
END:VEVENT
BEGIN:VEVENT
DTSTART;TZID=America/Chicago:20280409T120000
DTEND;TZID=America/Chicago:20280409T210000
DTSTAMP:20260425T164324
CREATED:20250103T192846Z
LAST-MODIFIED:20250419T141109Z
UID:10003043-1838894400-1838926800@www.landonwinery.com
SUMMARY:Mimosa Mania Sunday Coppell
DESCRIPTION:
URL:https://www.landonwinery.com/event/mimosa-mania-sunday-coppell/2028-04-09/
LOCATION:Landon Winery Coppell\, 3121 Olympus Boulevard #130\, Coppell\, TX\, 75019\, United States
CATEGORIES:Sunday,Weekly
ATTACH;FMTTYPE=image/jpeg:https://www.landonwinery.com/wp-content/uploads/2025/01/Mimosa-Mania.jpg
ORGANIZER;CN="Landon Winery":MAILTO:winery@landonwinery.com
END:VEVENT
BEGIN:VEVENT
DTSTART;TZID=America/Chicago:20280409T120000
DTEND;TZID=America/Chicago:20280409T210000
DTSTAMP:20260425T164324
CREATED:20250105T190537Z
LAST-MODIFIED:20250419T141007Z
UID:10003304-1838894400-1838926800@www.landonwinery.com
SUMMARY:Mimosa Mania Sunday Grapevine
DESCRIPTION:
URL:https://www.landonwinery.com/event/mimosa-mania-sunday-grapevine/2028-04-09/
LOCATION:Landon Winery Grapevine\, 415 S. Main St.\, Grapevine\, TX\, 76051\, United States
CATEGORIES:Sunday,Weekly
ATTACH;FMTTYPE=image/jpeg:https://www.landonwinery.com/wp-content/uploads/2025/01/Mimosa-Mania.jpg
ORGANIZER;CN="Landon Winery":MAILTO:winery@landonwinery.com
END:VEVENT
BEGIN:VEVENT
DTSTART;TZID=America/Chicago:20280416T120000
DTEND;TZID=America/Chicago:20280416T210000
DTSTAMP:20260425T164324
CREATED:20250103T191050Z
LAST-MODIFIED:20250419T141453Z
UID:10002522-1839499200-1839531600@www.landonwinery.com
SUMMARY:Mimosa Mania Sunday Wylie
DESCRIPTION:
URL:https://www.landonwinery.com/event/mimosa-mania-sunday-wylie/2028-04-16/
LOCATION:Landon Winery Wylie\, 103 N Ballard Ave\, Wylie\, TX\, 75098\, United States
CATEGORIES:Sunday,Weekly
ATTACH;FMTTYPE=image/jpeg:https://www.landonwinery.com/wp-content/uploads/2025/01/Mimosa-Mania.jpg
ORGANIZER;CN="Landon Winery":MAILTO:winery@landonwinery.com
END:VEVENT
BEGIN:VEVENT
DTSTART;TZID=America/Chicago:20280416T120000
DTEND;TZID=America/Chicago:20280416T210000
DTSTAMP:20260425T164324
CREATED:20250103T192301Z
LAST-MODIFIED:20250419T141237Z
UID:10002783-1839499200-1839531600@www.landonwinery.com
SUMMARY:Mimosa Mania Sunday Greenville
DESCRIPTION:
URL:https://www.landonwinery.com/event/mimosa-mania-sunday-greenville/2028-04-16/
LOCATION:Landon Winery Greenville\, 2508 Lee St.\, Greenville\, TX\, 75401\, United States
CATEGORIES:Sunday,Weekly
ATTACH;FMTTYPE=image/jpeg:https://www.landonwinery.com/wp-content/uploads/2025/01/Mimosa-Mania.jpg
ORGANIZER;CN="Landon Winery":MAILTO:winery@landonwinery.com
END:VEVENT
BEGIN:VEVENT
DTSTART;TZID=America/Chicago:20280416T120000
DTEND;TZID=America/Chicago:20280416T210000
DTSTAMP:20260425T164324
CREATED:20250103T192846Z
LAST-MODIFIED:20250419T141109Z
UID:10003044-1839499200-1839531600@www.landonwinery.com
SUMMARY:Mimosa Mania Sunday Coppell
DESCRIPTION:
URL:https://www.landonwinery.com/event/mimosa-mania-sunday-coppell/2028-04-16/
LOCATION:Landon Winery Coppell\, 3121 Olympus Boulevard #130\, Coppell\, TX\, 75019\, United States
CATEGORIES:Sunday,Weekly
ATTACH;FMTTYPE=image/jpeg:https://www.landonwinery.com/wp-content/uploads/2025/01/Mimosa-Mania.jpg
ORGANIZER;CN="Landon Winery":MAILTO:winery@landonwinery.com
END:VEVENT
BEGIN:VEVENT
DTSTART;TZID=America/Chicago:20280416T120000
DTEND;TZID=America/Chicago:20280416T210000
DTSTAMP:20260425T164324
CREATED:20250105T190537Z
LAST-MODIFIED:20250419T141007Z
UID:10003305-1839499200-1839531600@www.landonwinery.com
SUMMARY:Mimosa Mania Sunday Grapevine
DESCRIPTION:
URL:https://www.landonwinery.com/event/mimosa-mania-sunday-grapevine/2028-04-16/
LOCATION:Landon Winery Grapevine\, 415 S. Main St.\, Grapevine\, TX\, 76051\, United States
CATEGORIES:Sunday,Weekly
ATTACH;FMTTYPE=image/jpeg:https://www.landonwinery.com/wp-content/uploads/2025/01/Mimosa-Mania.jpg
ORGANIZER;CN="Landon Winery":MAILTO:winery@landonwinery.com
END:VEVENT
BEGIN:VEVENT
DTSTART;TZID=America/Chicago:20280423T120000
DTEND;TZID=America/Chicago:20280423T210000
DTSTAMP:20260425T164324
CREATED:20250103T191050Z
LAST-MODIFIED:20250419T141453Z
UID:10002523-1840104000-1840136400@www.landonwinery.com
SUMMARY:Mimosa Mania Sunday Wylie
DESCRIPTION:
URL:https://www.landonwinery.com/event/mimosa-mania-sunday-wylie/2028-04-23/
LOCATION:Landon Winery Wylie\, 103 N Ballard Ave\, Wylie\, TX\, 75098\, United States
CATEGORIES:Sunday,Weekly
ATTACH;FMTTYPE=image/jpeg:https://www.landonwinery.com/wp-content/uploads/2025/01/Mimosa-Mania.jpg
ORGANIZER;CN="Landon Winery":MAILTO:winery@landonwinery.com
END:VEVENT
BEGIN:VEVENT
DTSTART;TZID=America/Chicago:20280423T120000
DTEND;TZID=America/Chicago:20280423T210000
DTSTAMP:20260425T164324
CREATED:20250103T192301Z
LAST-MODIFIED:20250419T141237Z
UID:10002784-1840104000-1840136400@www.landonwinery.com
SUMMARY:Mimosa Mania Sunday Greenville
DESCRIPTION:
URL:https://www.landonwinery.com/event/mimosa-mania-sunday-greenville/2028-04-23/
LOCATION:Landon Winery Greenville\, 2508 Lee St.\, Greenville\, TX\, 75401\, United States
CATEGORIES:Sunday,Weekly
ATTACH;FMTTYPE=image/jpeg:https://www.landonwinery.com/wp-content/uploads/2025/01/Mimosa-Mania.jpg
ORGANIZER;CN="Landon Winery":MAILTO:winery@landonwinery.com
END:VEVENT
BEGIN:VEVENT
DTSTART;TZID=America/Chicago:20280423T120000
DTEND;TZID=America/Chicago:20280423T210000
DTSTAMP:20260425T164324
CREATED:20250103T192846Z
LAST-MODIFIED:20250419T141109Z
UID:10003045-1840104000-1840136400@www.landonwinery.com
SUMMARY:Mimosa Mania Sunday Coppell
DESCRIPTION:
URL:https://www.landonwinery.com/event/mimosa-mania-sunday-coppell/2028-04-23/
LOCATION:Landon Winery Coppell\, 3121 Olympus Boulevard #130\, Coppell\, TX\, 75019\, United States
CATEGORIES:Sunday,Weekly
ATTACH;FMTTYPE=image/jpeg:https://www.landonwinery.com/wp-content/uploads/2025/01/Mimosa-Mania.jpg
ORGANIZER;CN="Landon Winery":MAILTO:winery@landonwinery.com
END:VEVENT
BEGIN:VEVENT
DTSTART;TZID=America/Chicago:20280423T120000
DTEND;TZID=America/Chicago:20280423T210000
DTSTAMP:20260425T164324
CREATED:20250105T190537Z
LAST-MODIFIED:20250419T141007Z
UID:10003306-1840104000-1840136400@www.landonwinery.com
SUMMARY:Mimosa Mania Sunday Grapevine
DESCRIPTION:
URL:https://www.landonwinery.com/event/mimosa-mania-sunday-grapevine/2028-04-23/
LOCATION:Landon Winery Grapevine\, 415 S. Main St.\, Grapevine\, TX\, 76051\, United States
CATEGORIES:Sunday,Weekly
ATTACH;FMTTYPE=image/jpeg:https://www.landonwinery.com/wp-content/uploads/2025/01/Mimosa-Mania.jpg
ORGANIZER;CN="Landon Winery":MAILTO:winery@landonwinery.com
END:VEVENT
BEGIN:VEVENT
DTSTART;TZID=America/Chicago:20280430T120000
DTEND;TZID=America/Chicago:20280430T210000
DTSTAMP:20260425T164324
CREATED:20250103T191050Z
LAST-MODIFIED:20250419T141453Z
UID:10002524-1840708800-1840741200@www.landonwinery.com
SUMMARY:Mimosa Mania Sunday Wylie
DESCRIPTION:
URL:https://www.landonwinery.com/event/mimosa-mania-sunday-wylie/2028-04-30/
LOCATION:Landon Winery Wylie\, 103 N Ballard Ave\, Wylie\, TX\, 75098\, United States
CATEGORIES:Sunday,Weekly
ATTACH;FMTTYPE=image/jpeg:https://www.landonwinery.com/wp-content/uploads/2025/01/Mimosa-Mania.jpg
ORGANIZER;CN="Landon Winery":MAILTO:winery@landonwinery.com
END:VEVENT
BEGIN:VEVENT
DTSTART;TZID=America/Chicago:20280430T120000
DTEND;TZID=America/Chicago:20280430T210000
DTSTAMP:20260425T164324
CREATED:20250103T192301Z
LAST-MODIFIED:20250419T141237Z
UID:10002785-1840708800-1840741200@www.landonwinery.com
SUMMARY:Mimosa Mania Sunday Greenville
DESCRIPTION:
URL:https://www.landonwinery.com/event/mimosa-mania-sunday-greenville/2028-04-30/
LOCATION:Landon Winery Greenville\, 2508 Lee St.\, Greenville\, TX\, 75401\, United States
CATEGORIES:Sunday,Weekly
ATTACH;FMTTYPE=image/jpeg:https://www.landonwinery.com/wp-content/uploads/2025/01/Mimosa-Mania.jpg
ORGANIZER;CN="Landon Winery":MAILTO:winery@landonwinery.com
END:VEVENT
BEGIN:VEVENT
DTSTART;TZID=America/Chicago:20280430T120000
DTEND;TZID=America/Chicago:20280430T210000
DTSTAMP:20260425T164324
CREATED:20250103T192846Z
LAST-MODIFIED:20250419T141109Z
UID:10003046-1840708800-1840741200@www.landonwinery.com
SUMMARY:Mimosa Mania Sunday Coppell
DESCRIPTION:
URL:https://www.landonwinery.com/event/mimosa-mania-sunday-coppell/2028-04-30/
LOCATION:Landon Winery Coppell\, 3121 Olympus Boulevard #130\, Coppell\, TX\, 75019\, United States
CATEGORIES:Sunday,Weekly
ATTACH;FMTTYPE=image/jpeg:https://www.landonwinery.com/wp-content/uploads/2025/01/Mimosa-Mania.jpg
ORGANIZER;CN="Landon Winery":MAILTO:winery@landonwinery.com
END:VEVENT
BEGIN:VEVENT
DTSTART;TZID=America/Chicago:20280430T120000
DTEND;TZID=America/Chicago:20280430T210000
DTSTAMP:20260425T164324
CREATED:20250105T190537Z
LAST-MODIFIED:20250419T141007Z
UID:10003307-1840708800-1840741200@www.landonwinery.com
SUMMARY:Mimosa Mania Sunday Grapevine
DESCRIPTION:
URL:https://www.landonwinery.com/event/mimosa-mania-sunday-grapevine/2028-04-30/
LOCATION:Landon Winery Grapevine\, 415 S. Main St.\, Grapevine\, TX\, 76051\, United States
CATEGORIES:Sunday,Weekly
ATTACH;FMTTYPE=image/jpeg:https://www.landonwinery.com/wp-content/uploads/2025/01/Mimosa-Mania.jpg
ORGANIZER;CN="Landon Winery":MAILTO:winery@landonwinery.com
END:VEVENT
BEGIN:VEVENT
DTSTART;TZID=America/Chicago:20280507T120000
DTEND;TZID=America/Chicago:20280507T210000
DTSTAMP:20260425T164324
CREATED:20250103T191050Z
LAST-MODIFIED:20250419T141453Z
UID:10002525-1841313600-1841346000@www.landonwinery.com
SUMMARY:Mimosa Mania Sunday Wylie
DESCRIPTION:
URL:https://www.landonwinery.com/event/mimosa-mania-sunday-wylie/2028-05-07/
LOCATION:Landon Winery Wylie\, 103 N Ballard Ave\, Wylie\, TX\, 75098\, United States
CATEGORIES:Sunday,Weekly
ATTACH;FMTTYPE=image/jpeg:https://www.landonwinery.com/wp-content/uploads/2025/01/Mimosa-Mania.jpg
ORGANIZER;CN="Landon Winery":MAILTO:winery@landonwinery.com
END:VEVENT
BEGIN:VEVENT
DTSTART;TZID=America/Chicago:20280507T120000
DTEND;TZID=America/Chicago:20280507T210000
DTSTAMP:20260425T164324
CREATED:20250103T192301Z
LAST-MODIFIED:20250419T141237Z
UID:10002786-1841313600-1841346000@www.landonwinery.com
SUMMARY:Mimosa Mania Sunday Greenville
DESCRIPTION:
URL:https://www.landonwinery.com/event/mimosa-mania-sunday-greenville/2028-05-07/
LOCATION:Landon Winery Greenville\, 2508 Lee St.\, Greenville\, TX\, 75401\, United States
CATEGORIES:Sunday,Weekly
ATTACH;FMTTYPE=image/jpeg:https://www.landonwinery.com/wp-content/uploads/2025/01/Mimosa-Mania.jpg
ORGANIZER;CN="Landon Winery":MAILTO:winery@landonwinery.com
END:VEVENT
BEGIN:VEVENT
DTSTART;TZID=America/Chicago:20280507T120000
DTEND;TZID=America/Chicago:20280507T210000
DTSTAMP:20260425T164324
CREATED:20250103T192846Z
LAST-MODIFIED:20250419T141109Z
UID:10003047-1841313600-1841346000@www.landonwinery.com
SUMMARY:Mimosa Mania Sunday Coppell
DESCRIPTION:
URL:https://www.landonwinery.com/event/mimosa-mania-sunday-coppell/2028-05-07/
LOCATION:Landon Winery Coppell\, 3121 Olympus Boulevard #130\, Coppell\, TX\, 75019\, United States
CATEGORIES:Sunday,Weekly
ATTACH;FMTTYPE=image/jpeg:https://www.landonwinery.com/wp-content/uploads/2025/01/Mimosa-Mania.jpg
ORGANIZER;CN="Landon Winery":MAILTO:winery@landonwinery.com
END:VEVENT
BEGIN:VEVENT
DTSTART;TZID=America/Chicago:20280507T120000
DTEND;TZID=America/Chicago:20280507T210000
DTSTAMP:20260425T164324
CREATED:20250105T190537Z
LAST-MODIFIED:20250419T141007Z
UID:10003308-1841313600-1841346000@www.landonwinery.com
SUMMARY:Mimosa Mania Sunday Grapevine
DESCRIPTION:
URL:https://www.landonwinery.com/event/mimosa-mania-sunday-grapevine/2028-05-07/
LOCATION:Landon Winery Grapevine\, 415 S. Main St.\, Grapevine\, TX\, 76051\, United States
CATEGORIES:Sunday,Weekly
ATTACH;FMTTYPE=image/jpeg:https://www.landonwinery.com/wp-content/uploads/2025/01/Mimosa-Mania.jpg
ORGANIZER;CN="Landon Winery":MAILTO:winery@landonwinery.com
END:VEVENT
BEGIN:VEVENT
DTSTART;TZID=America/Chicago:20280514T120000
DTEND;TZID=America/Chicago:20280514T210000
DTSTAMP:20260425T164324
CREATED:20250103T191050Z
LAST-MODIFIED:20250419T141453Z
UID:10002526-1841918400-1841950800@www.landonwinery.com
SUMMARY:Mimosa Mania Sunday Wylie
DESCRIPTION:
URL:https://www.landonwinery.com/event/mimosa-mania-sunday-wylie/2028-05-14/
LOCATION:Landon Winery Wylie\, 103 N Ballard Ave\, Wylie\, TX\, 75098\, United States
CATEGORIES:Sunday,Weekly
ATTACH;FMTTYPE=image/jpeg:https://www.landonwinery.com/wp-content/uploads/2025/01/Mimosa-Mania.jpg
ORGANIZER;CN="Landon Winery":MAILTO:winery@landonwinery.com
END:VEVENT
BEGIN:VEVENT
DTSTART;TZID=America/Chicago:20280514T120000
DTEND;TZID=America/Chicago:20280514T210000
DTSTAMP:20260425T164324
CREATED:20250103T192301Z
LAST-MODIFIED:20250419T141237Z
UID:10002787-1841918400-1841950800@www.landonwinery.com
SUMMARY:Mimosa Mania Sunday Greenville
DESCRIPTION:
URL:https://www.landonwinery.com/event/mimosa-mania-sunday-greenville/2028-05-14/
LOCATION:Landon Winery Greenville\, 2508 Lee St.\, Greenville\, TX\, 75401\, United States
CATEGORIES:Sunday,Weekly
ATTACH;FMTTYPE=image/jpeg:https://www.landonwinery.com/wp-content/uploads/2025/01/Mimosa-Mania.jpg
ORGANIZER;CN="Landon Winery":MAILTO:winery@landonwinery.com
END:VEVENT
END:VCALENDAR