BEGIN:VCALENDAR
VERSION:2.0
PRODID:-//Landon Winery - ECPv6.15.18//NONSGML v1.0//EN
CALSCALE:GREGORIAN
METHOD:PUBLISH
X-WR-CALNAME:Landon Winery
X-ORIGINAL-URL:https://www.landonwinery.com
X-WR-CALDESC:Events for Landon Winery
REFRESH-INTERVAL;VALUE=DURATION:PT1H
X-Robots-Tag:noindex
X-PUBLISHED-TTL:PT1H
BEGIN:VTIMEZONE
TZID:America/Chicago
BEGIN:DAYLIGHT
TZOFFSETFROM:-0600
TZOFFSETTO:-0500
TZNAME:CDT
DTSTART:20300310T080000
END:DAYLIGHT
BEGIN:STANDARD
TZOFFSETFROM:-0500
TZOFFSETTO:-0600
TZNAME:CST
DTSTART:20301103T070000
END:STANDARD
BEGIN:DAYLIGHT
TZOFFSETFROM:-0600
TZOFFSETTO:-0500
TZNAME:CDT
DTSTART:20310309T080000
END:DAYLIGHT
BEGIN:STANDARD
TZOFFSETFROM:-0500
TZOFFSETTO:-0600
TZNAME:CST
DTSTART:20311102T070000
END:STANDARD
BEGIN:DAYLIGHT
TZOFFSETFROM:-0600
TZOFFSETTO:-0500
TZNAME:CDT
DTSTART:20320314T080000
END:DAYLIGHT
BEGIN:STANDARD
TZOFFSETFROM:-0500
TZOFFSETTO:-0600
TZNAME:CST
DTSTART:20321107T070000
END:STANDARD
BEGIN:DAYLIGHT
TZOFFSETFROM:-0600
TZOFFSETTO:-0500
TZNAME:CDT
DTSTART:20330313T080000
END:DAYLIGHT
BEGIN:STANDARD
TZOFFSETFROM:-0500
TZOFFSETTO:-0600
TZNAME:CST
DTSTART:20331106T070000
END:STANDARD
BEGIN:DAYLIGHT
TZOFFSETFROM:-0600
TZOFFSETTO:-0500
TZNAME:CDT
DTSTART:20340312T080000
END:DAYLIGHT
BEGIN:STANDARD
TZOFFSETFROM:-0500
TZOFFSETTO:-0600
TZNAME:CST
DTSTART:20341105T070000
END:STANDARD
BEGIN:DAYLIGHT
TZOFFSETFROM:-0600
TZOFFSETTO:-0500
TZNAME:CDT
DTSTART:20350311T080000
END:DAYLIGHT
BEGIN:STANDARD
TZOFFSETFROM:-0500
TZOFFSETTO:-0600
TZNAME:CST
DTSTART:20351104T070000
END:STANDARD
BEGIN:DAYLIGHT
TZOFFSETFROM:-0600
TZOFFSETTO:-0500
TZNAME:CDT
DTSTART:20360309T080000
END:DAYLIGHT
BEGIN:STANDARD
TZOFFSETFROM:-0500
TZOFFSETTO:-0600
TZNAME:CST
DTSTART:20361102T070000
END:STANDARD
END:VTIMEZONE
BEGIN:VEVENT
DTSTART;TZID=America/Chicago:20310329T190000
DTEND;TZID=America/Chicago:20350329T210000
DTSTAMP:20260424T091532
CREATED:20260401T040554Z
LAST-MODIFIED:20260401T040617Z
UID:10012560-1932577200-2058814800@www.landonwinery.com
SUMMARY:Music Bingo Denison
DESCRIPTION:
URL:https://www.landonwinery.com/event/music-bingo-denison-2-2-2/2031-03-29/
LOCATION:Landon Winery Denison\, 318 W Main St.\, Denison\, TX\, 75020\, United States
CATEGORIES:Music Bingo,Weekly
ATTACH;FMTTYPE=image/jpeg:https://www.landonwinery.com/wp-content/uploads/2025/08/Bingo-Denison.jpg
ORGANIZER;CN="Landon Winery":MAILTO:winery@landonwinery.com
END:VEVENT
BEGIN:VEVENT
DTSTART;TZID=America/Chicago:20310405T190000
DTEND;TZID=America/Chicago:20350405T210000
DTSTAMP:20260424T091532
CREATED:20260401T040554Z
LAST-MODIFIED:20260401T040617Z
UID:10012561-1933182000-2059419600@www.landonwinery.com
SUMMARY:Music Bingo Denison
DESCRIPTION:
URL:https://www.landonwinery.com/event/music-bingo-denison-2-2-2/2031-04-05/
LOCATION:Landon Winery Denison\, 318 W Main St.\, Denison\, TX\, 75020\, United States
CATEGORIES:Music Bingo,Weekly
ATTACH;FMTTYPE=image/jpeg:https://www.landonwinery.com/wp-content/uploads/2025/08/Bingo-Denison.jpg
ORGANIZER;CN="Landon Winery":MAILTO:winery@landonwinery.com
END:VEVENT
BEGIN:VEVENT
DTSTART;TZID=America/Chicago:20310412T190000
DTEND;TZID=America/Chicago:20350412T210000
DTSTAMP:20260424T091532
CREATED:20260401T040554Z
LAST-MODIFIED:20260401T040617Z
UID:10012562-1933786800-2060024400@www.landonwinery.com
SUMMARY:Music Bingo Denison
DESCRIPTION:
URL:https://www.landonwinery.com/event/music-bingo-denison-2-2-2/2031-04-12/
LOCATION:Landon Winery Denison\, 318 W Main St.\, Denison\, TX\, 75020\, United States
CATEGORIES:Music Bingo,Weekly
ATTACH;FMTTYPE=image/jpeg:https://www.landonwinery.com/wp-content/uploads/2025/08/Bingo-Denison.jpg
ORGANIZER;CN="Landon Winery":MAILTO:winery@landonwinery.com
END:VEVENT
BEGIN:VEVENT
DTSTART;TZID=America/Chicago:20310419T190000
DTEND;TZID=America/Chicago:20350419T210000
DTSTAMP:20260424T091532
CREATED:20260401T040554Z
LAST-MODIFIED:20260401T040617Z
UID:10012563-1934391600-2060629200@www.landonwinery.com
SUMMARY:Music Bingo Denison
DESCRIPTION:
URL:https://www.landonwinery.com/event/music-bingo-denison-2-2-2/2031-04-19/
LOCATION:Landon Winery Denison\, 318 W Main St.\, Denison\, TX\, 75020\, United States
CATEGORIES:Music Bingo,Weekly
ATTACH;FMTTYPE=image/jpeg:https://www.landonwinery.com/wp-content/uploads/2025/08/Bingo-Denison.jpg
ORGANIZER;CN="Landon Winery":MAILTO:winery@landonwinery.com
END:VEVENT
BEGIN:VEVENT
DTSTART;TZID=America/Chicago:20310426T190000
DTEND;TZID=America/Chicago:20350426T210000
DTSTAMP:20260424T091532
CREATED:20260401T040554Z
LAST-MODIFIED:20260401T040617Z
UID:10012564-1934996400-2061234000@www.landonwinery.com
SUMMARY:Music Bingo Denison
DESCRIPTION:
URL:https://www.landonwinery.com/event/music-bingo-denison-2-2-2/2031-04-26/
LOCATION:Landon Winery Denison\, 318 W Main St.\, Denison\, TX\, 75020\, United States
CATEGORIES:Music Bingo,Weekly
ATTACH;FMTTYPE=image/jpeg:https://www.landonwinery.com/wp-content/uploads/2025/08/Bingo-Denison.jpg
ORGANIZER;CN="Landon Winery":MAILTO:winery@landonwinery.com
END:VEVENT
BEGIN:VEVENT
DTSTART;TZID=America/Chicago:20310503T190000
DTEND;TZID=America/Chicago:20350503T210000
DTSTAMP:20260424T091532
CREATED:20260401T040554Z
LAST-MODIFIED:20260401T040617Z
UID:10012565-1935601200-2061838800@www.landonwinery.com
SUMMARY:Music Bingo Denison
DESCRIPTION:
URL:https://www.landonwinery.com/event/music-bingo-denison-2-2-2/2031-05-03/
LOCATION:Landon Winery Denison\, 318 W Main St.\, Denison\, TX\, 75020\, United States
CATEGORIES:Music Bingo,Weekly
ATTACH;FMTTYPE=image/jpeg:https://www.landonwinery.com/wp-content/uploads/2025/08/Bingo-Denison.jpg
ORGANIZER;CN="Landon Winery":MAILTO:winery@landonwinery.com
END:VEVENT
BEGIN:VEVENT
DTSTART;TZID=America/Chicago:20310510T190000
DTEND;TZID=America/Chicago:20350510T210000
DTSTAMP:20260424T091532
CREATED:20260401T040554Z
LAST-MODIFIED:20260401T040617Z
UID:10012566-1936206000-2062443600@www.landonwinery.com
SUMMARY:Music Bingo Denison
DESCRIPTION:
URL:https://www.landonwinery.com/event/music-bingo-denison-2-2-2/2031-05-10/
LOCATION:Landon Winery Denison\, 318 W Main St.\, Denison\, TX\, 75020\, United States
CATEGORIES:Music Bingo,Weekly
ATTACH;FMTTYPE=image/jpeg:https://www.landonwinery.com/wp-content/uploads/2025/08/Bingo-Denison.jpg
ORGANIZER;CN="Landon Winery":MAILTO:winery@landonwinery.com
END:VEVENT
BEGIN:VEVENT
DTSTART;TZID=America/Chicago:20310517T190000
DTEND;TZID=America/Chicago:20350517T210000
DTSTAMP:20260424T091532
CREATED:20260401T040554Z
LAST-MODIFIED:20260401T040617Z
UID:10012567-1936810800-2063048400@www.landonwinery.com
SUMMARY:Music Bingo Denison
DESCRIPTION:
URL:https://www.landonwinery.com/event/music-bingo-denison-2-2-2/2031-05-17/
LOCATION:Landon Winery Denison\, 318 W Main St.\, Denison\, TX\, 75020\, United States
CATEGORIES:Music Bingo,Weekly
ATTACH;FMTTYPE=image/jpeg:https://www.landonwinery.com/wp-content/uploads/2025/08/Bingo-Denison.jpg
ORGANIZER;CN="Landon Winery":MAILTO:winery@landonwinery.com
END:VEVENT
BEGIN:VEVENT
DTSTART;TZID=America/Chicago:20310524T190000
DTEND;TZID=America/Chicago:20350524T210000
DTSTAMP:20260424T091532
CREATED:20260401T040554Z
LAST-MODIFIED:20260401T040617Z
UID:10012568-1937415600-2063653200@www.landonwinery.com
SUMMARY:Music Bingo Denison
DESCRIPTION:
URL:https://www.landonwinery.com/event/music-bingo-denison-2-2-2/2031-05-24/
LOCATION:Landon Winery Denison\, 318 W Main St.\, Denison\, TX\, 75020\, United States
CATEGORIES:Music Bingo,Weekly
ATTACH;FMTTYPE=image/jpeg:https://www.landonwinery.com/wp-content/uploads/2025/08/Bingo-Denison.jpg
ORGANIZER;CN="Landon Winery":MAILTO:winery@landonwinery.com
END:VEVENT
BEGIN:VEVENT
DTSTART;TZID=America/Chicago:20310531T190000
DTEND;TZID=America/Chicago:20350531T210000
DTSTAMP:20260424T091532
CREATED:20260401T040554Z
LAST-MODIFIED:20260401T040617Z
UID:10012569-1938020400-2064258000@www.landonwinery.com
SUMMARY:Music Bingo Denison
DESCRIPTION:
URL:https://www.landonwinery.com/event/music-bingo-denison-2-2-2/2031-05-31/
LOCATION:Landon Winery Denison\, 318 W Main St.\, Denison\, TX\, 75020\, United States
CATEGORIES:Music Bingo,Weekly
ATTACH;FMTTYPE=image/jpeg:https://www.landonwinery.com/wp-content/uploads/2025/08/Bingo-Denison.jpg
ORGANIZER;CN="Landon Winery":MAILTO:winery@landonwinery.com
END:VEVENT
BEGIN:VEVENT
DTSTART;TZID=America/Chicago:20310607T190000
DTEND;TZID=America/Chicago:20350607T210000
DTSTAMP:20260424T091532
CREATED:20260401T040554Z
LAST-MODIFIED:20260401T040617Z
UID:10012570-1938625200-2064862800@www.landonwinery.com
SUMMARY:Music Bingo Denison
DESCRIPTION:
URL:https://www.landonwinery.com/event/music-bingo-denison-2-2-2/2031-06-07/
LOCATION:Landon Winery Denison\, 318 W Main St.\, Denison\, TX\, 75020\, United States
CATEGORIES:Music Bingo,Weekly
ATTACH;FMTTYPE=image/jpeg:https://www.landonwinery.com/wp-content/uploads/2025/08/Bingo-Denison.jpg
ORGANIZER;CN="Landon Winery":MAILTO:winery@landonwinery.com
END:VEVENT
BEGIN:VEVENT
DTSTART;TZID=America/Chicago:20310614T190000
DTEND;TZID=America/Chicago:20350614T210000
DTSTAMP:20260424T091532
CREATED:20260401T040554Z
LAST-MODIFIED:20260401T040617Z
UID:10012571-1939230000-2065467600@www.landonwinery.com
SUMMARY:Music Bingo Denison
DESCRIPTION:
URL:https://www.landonwinery.com/event/music-bingo-denison-2-2-2/2031-06-14/
LOCATION:Landon Winery Denison\, 318 W Main St.\, Denison\, TX\, 75020\, United States
CATEGORIES:Music Bingo,Weekly
ATTACH;FMTTYPE=image/jpeg:https://www.landonwinery.com/wp-content/uploads/2025/08/Bingo-Denison.jpg
ORGANIZER;CN="Landon Winery":MAILTO:winery@landonwinery.com
END:VEVENT
BEGIN:VEVENT
DTSTART;TZID=America/Chicago:20310621T190000
DTEND;TZID=America/Chicago:20350621T210000
DTSTAMP:20260424T091532
CREATED:20260401T040554Z
LAST-MODIFIED:20260401T040617Z
UID:10012572-1939834800-2066072400@www.landonwinery.com
SUMMARY:Music Bingo Denison
DESCRIPTION:
URL:https://www.landonwinery.com/event/music-bingo-denison-2-2-2/2031-06-21/
LOCATION:Landon Winery Denison\, 318 W Main St.\, Denison\, TX\, 75020\, United States
CATEGORIES:Music Bingo,Weekly
ATTACH;FMTTYPE=image/jpeg:https://www.landonwinery.com/wp-content/uploads/2025/08/Bingo-Denison.jpg
ORGANIZER;CN="Landon Winery":MAILTO:winery@landonwinery.com
END:VEVENT
BEGIN:VEVENT
DTSTART;TZID=America/Chicago:20310628T190000
DTEND;TZID=America/Chicago:20350628T210000
DTSTAMP:20260424T091532
CREATED:20260401T040554Z
LAST-MODIFIED:20260401T040617Z
UID:10012573-1940439600-2066677200@www.landonwinery.com
SUMMARY:Music Bingo Denison
DESCRIPTION:
URL:https://www.landonwinery.com/event/music-bingo-denison-2-2-2/2031-06-28/
LOCATION:Landon Winery Denison\, 318 W Main St.\, Denison\, TX\, 75020\, United States
CATEGORIES:Music Bingo,Weekly
ATTACH;FMTTYPE=image/jpeg:https://www.landonwinery.com/wp-content/uploads/2025/08/Bingo-Denison.jpg
ORGANIZER;CN="Landon Winery":MAILTO:winery@landonwinery.com
END:VEVENT
BEGIN:VEVENT
DTSTART;TZID=America/Chicago:20310705T190000
DTEND;TZID=America/Chicago:20350705T210000
DTSTAMP:20260424T091532
CREATED:20260401T040554Z
LAST-MODIFIED:20260401T040617Z
UID:10012574-1941044400-2067282000@www.landonwinery.com
SUMMARY:Music Bingo Denison
DESCRIPTION:
URL:https://www.landonwinery.com/event/music-bingo-denison-2-2-2/2031-07-05/
LOCATION:Landon Winery Denison\, 318 W Main St.\, Denison\, TX\, 75020\, United States
CATEGORIES:Music Bingo,Weekly
ATTACH;FMTTYPE=image/jpeg:https://www.landonwinery.com/wp-content/uploads/2025/08/Bingo-Denison.jpg
ORGANIZER;CN="Landon Winery":MAILTO:winery@landonwinery.com
END:VEVENT
BEGIN:VEVENT
DTSTART;TZID=America/Chicago:20310712T190000
DTEND;TZID=America/Chicago:20350712T210000
DTSTAMP:20260424T091532
CREATED:20260401T040554Z
LAST-MODIFIED:20260401T040617Z
UID:10012575-1941649200-2067886800@www.landonwinery.com
SUMMARY:Music Bingo Denison
DESCRIPTION:
URL:https://www.landonwinery.com/event/music-bingo-denison-2-2-2/2031-07-12/
LOCATION:Landon Winery Denison\, 318 W Main St.\, Denison\, TX\, 75020\, United States
CATEGORIES:Music Bingo,Weekly
ATTACH;FMTTYPE=image/jpeg:https://www.landonwinery.com/wp-content/uploads/2025/08/Bingo-Denison.jpg
ORGANIZER;CN="Landon Winery":MAILTO:winery@landonwinery.com
END:VEVENT
BEGIN:VEVENT
DTSTART;TZID=America/Chicago:20310719T190000
DTEND;TZID=America/Chicago:20350719T210000
DTSTAMP:20260424T091532
CREATED:20260401T040554Z
LAST-MODIFIED:20260401T040617Z
UID:10012576-1942254000-2068491600@www.landonwinery.com
SUMMARY:Music Bingo Denison
DESCRIPTION:
URL:https://www.landonwinery.com/event/music-bingo-denison-2-2-2/2031-07-19/
LOCATION:Landon Winery Denison\, 318 W Main St.\, Denison\, TX\, 75020\, United States
CATEGORIES:Music Bingo,Weekly
ATTACH;FMTTYPE=image/jpeg:https://www.landonwinery.com/wp-content/uploads/2025/08/Bingo-Denison.jpg
ORGANIZER;CN="Landon Winery":MAILTO:winery@landonwinery.com
END:VEVENT
BEGIN:VEVENT
DTSTART;TZID=America/Chicago:20310726T190000
DTEND;TZID=America/Chicago:20350726T210000
DTSTAMP:20260424T091532
CREATED:20260401T040554Z
LAST-MODIFIED:20260401T040617Z
UID:10012577-1942858800-2069096400@www.landonwinery.com
SUMMARY:Music Bingo Denison
DESCRIPTION:
URL:https://www.landonwinery.com/event/music-bingo-denison-2-2-2/2031-07-26/
LOCATION:Landon Winery Denison\, 318 W Main St.\, Denison\, TX\, 75020\, United States
CATEGORIES:Music Bingo,Weekly
ATTACH;FMTTYPE=image/jpeg:https://www.landonwinery.com/wp-content/uploads/2025/08/Bingo-Denison.jpg
ORGANIZER;CN="Landon Winery":MAILTO:winery@landonwinery.com
END:VEVENT
BEGIN:VEVENT
DTSTART;TZID=America/Chicago:20310802T190000
DTEND;TZID=America/Chicago:20350802T210000
DTSTAMP:20260424T091532
CREATED:20260401T040554Z
LAST-MODIFIED:20260401T040617Z
UID:10012578-1943463600-2069701200@www.landonwinery.com
SUMMARY:Music Bingo Denison
DESCRIPTION:
URL:https://www.landonwinery.com/event/music-bingo-denison-2-2-2/2031-08-02/
LOCATION:Landon Winery Denison\, 318 W Main St.\, Denison\, TX\, 75020\, United States
CATEGORIES:Music Bingo,Weekly
ATTACH;FMTTYPE=image/jpeg:https://www.landonwinery.com/wp-content/uploads/2025/08/Bingo-Denison.jpg
ORGANIZER;CN="Landon Winery":MAILTO:winery@landonwinery.com
END:VEVENT
BEGIN:VEVENT
DTSTART;TZID=America/Chicago:20310809T190000
DTEND;TZID=America/Chicago:20350809T210000
DTSTAMP:20260424T091532
CREATED:20260401T040554Z
LAST-MODIFIED:20260401T040617Z
UID:10012579-1944068400-2070306000@www.landonwinery.com
SUMMARY:Music Bingo Denison
DESCRIPTION:
URL:https://www.landonwinery.com/event/music-bingo-denison-2-2-2/2031-08-09/
LOCATION:Landon Winery Denison\, 318 W Main St.\, Denison\, TX\, 75020\, United States
CATEGORIES:Music Bingo,Weekly
ATTACH;FMTTYPE=image/jpeg:https://www.landonwinery.com/wp-content/uploads/2025/08/Bingo-Denison.jpg
ORGANIZER;CN="Landon Winery":MAILTO:winery@landonwinery.com
END:VEVENT
BEGIN:VEVENT
DTSTART;TZID=America/Chicago:20310816T190000
DTEND;TZID=America/Chicago:20350816T210000
DTSTAMP:20260424T091532
CREATED:20260401T040554Z
LAST-MODIFIED:20260401T040617Z
UID:10012580-1944673200-2070910800@www.landonwinery.com
SUMMARY:Music Bingo Denison
DESCRIPTION:
URL:https://www.landonwinery.com/event/music-bingo-denison-2-2-2/2031-08-16/
LOCATION:Landon Winery Denison\, 318 W Main St.\, Denison\, TX\, 75020\, United States
CATEGORIES:Music Bingo,Weekly
ATTACH;FMTTYPE=image/jpeg:https://www.landonwinery.com/wp-content/uploads/2025/08/Bingo-Denison.jpg
ORGANIZER;CN="Landon Winery":MAILTO:winery@landonwinery.com
END:VEVENT
BEGIN:VEVENT
DTSTART;TZID=America/Chicago:20310823T190000
DTEND;TZID=America/Chicago:20350823T210000
DTSTAMP:20260424T091532
CREATED:20260401T040554Z
LAST-MODIFIED:20260401T040617Z
UID:10012581-1945278000-2071515600@www.landonwinery.com
SUMMARY:Music Bingo Denison
DESCRIPTION:
URL:https://www.landonwinery.com/event/music-bingo-denison-2-2-2/2031-08-23/
LOCATION:Landon Winery Denison\, 318 W Main St.\, Denison\, TX\, 75020\, United States
CATEGORIES:Music Bingo,Weekly
ATTACH;FMTTYPE=image/jpeg:https://www.landonwinery.com/wp-content/uploads/2025/08/Bingo-Denison.jpg
ORGANIZER;CN="Landon Winery":MAILTO:winery@landonwinery.com
END:VEVENT
BEGIN:VEVENT
DTSTART;TZID=America/Chicago:20310830T190000
DTEND;TZID=America/Chicago:20350830T210000
DTSTAMP:20260424T091532
CREATED:20260401T040554Z
LAST-MODIFIED:20260401T040617Z
UID:10012582-1945882800-2072120400@www.landonwinery.com
SUMMARY:Music Bingo Denison
DESCRIPTION:
URL:https://www.landonwinery.com/event/music-bingo-denison-2-2-2/2031-08-30/
LOCATION:Landon Winery Denison\, 318 W Main St.\, Denison\, TX\, 75020\, United States
CATEGORIES:Music Bingo,Weekly
ATTACH;FMTTYPE=image/jpeg:https://www.landonwinery.com/wp-content/uploads/2025/08/Bingo-Denison.jpg
ORGANIZER;CN="Landon Winery":MAILTO:winery@landonwinery.com
END:VEVENT
BEGIN:VEVENT
DTSTART;TZID=America/Chicago:20310906T190000
DTEND;TZID=America/Chicago:20350906T210000
DTSTAMP:20260424T091532
CREATED:20260401T040554Z
LAST-MODIFIED:20260401T040617Z
UID:10012583-1946487600-2072725200@www.landonwinery.com
SUMMARY:Music Bingo Denison
DESCRIPTION:
URL:https://www.landonwinery.com/event/music-bingo-denison-2-2-2/2031-09-06/
LOCATION:Landon Winery Denison\, 318 W Main St.\, Denison\, TX\, 75020\, United States
CATEGORIES:Music Bingo,Weekly
ATTACH;FMTTYPE=image/jpeg:https://www.landonwinery.com/wp-content/uploads/2025/08/Bingo-Denison.jpg
ORGANIZER;CN="Landon Winery":MAILTO:winery@landonwinery.com
END:VEVENT
BEGIN:VEVENT
DTSTART;TZID=America/Chicago:20310913T190000
DTEND;TZID=America/Chicago:20350913T210000
DTSTAMP:20260424T091532
CREATED:20260401T040554Z
LAST-MODIFIED:20260401T040617Z
UID:10012584-1947092400-2073330000@www.landonwinery.com
SUMMARY:Music Bingo Denison
DESCRIPTION:
URL:https://www.landonwinery.com/event/music-bingo-denison-2-2-2/2031-09-13/
LOCATION:Landon Winery Denison\, 318 W Main St.\, Denison\, TX\, 75020\, United States
CATEGORIES:Music Bingo,Weekly
ATTACH;FMTTYPE=image/jpeg:https://www.landonwinery.com/wp-content/uploads/2025/08/Bingo-Denison.jpg
ORGANIZER;CN="Landon Winery":MAILTO:winery@landonwinery.com
END:VEVENT
BEGIN:VEVENT
DTSTART;TZID=America/Chicago:20310920T190000
DTEND;TZID=America/Chicago:20350920T210000
DTSTAMP:20260424T091532
CREATED:20260401T040554Z
LAST-MODIFIED:20260401T040617Z
UID:10012585-1947697200-2073934800@www.landonwinery.com
SUMMARY:Music Bingo Denison
DESCRIPTION:
URL:https://www.landonwinery.com/event/music-bingo-denison-2-2-2/2031-09-20/
LOCATION:Landon Winery Denison\, 318 W Main St.\, Denison\, TX\, 75020\, United States
CATEGORIES:Music Bingo,Weekly
ATTACH;FMTTYPE=image/jpeg:https://www.landonwinery.com/wp-content/uploads/2025/08/Bingo-Denison.jpg
ORGANIZER;CN="Landon Winery":MAILTO:winery@landonwinery.com
END:VEVENT
BEGIN:VEVENT
DTSTART;TZID=America/Chicago:20310927T190000
DTEND;TZID=America/Chicago:20350927T210000
DTSTAMP:20260424T091532
CREATED:20260401T040554Z
LAST-MODIFIED:20260401T040617Z
UID:10012586-1948302000-2074539600@www.landonwinery.com
SUMMARY:Music Bingo Denison
DESCRIPTION:
URL:https://www.landonwinery.com/event/music-bingo-denison-2-2-2/2031-09-27/
LOCATION:Landon Winery Denison\, 318 W Main St.\, Denison\, TX\, 75020\, United States
CATEGORIES:Music Bingo,Weekly
ATTACH;FMTTYPE=image/jpeg:https://www.landonwinery.com/wp-content/uploads/2025/08/Bingo-Denison.jpg
ORGANIZER;CN="Landon Winery":MAILTO:winery@landonwinery.com
END:VEVENT
BEGIN:VEVENT
DTSTART;TZID=America/Chicago:20311004T190000
DTEND;TZID=America/Chicago:20351004T210000
DTSTAMP:20260424T091532
CREATED:20260401T040554Z
LAST-MODIFIED:20260401T040617Z
UID:10012587-1948906800-2075144400@www.landonwinery.com
SUMMARY:Music Bingo Denison
DESCRIPTION:
URL:https://www.landonwinery.com/event/music-bingo-denison-2-2-2/2031-10-04/
LOCATION:Landon Winery Denison\, 318 W Main St.\, Denison\, TX\, 75020\, United States
CATEGORIES:Music Bingo,Weekly
ATTACH;FMTTYPE=image/jpeg:https://www.landonwinery.com/wp-content/uploads/2025/08/Bingo-Denison.jpg
ORGANIZER;CN="Landon Winery":MAILTO:winery@landonwinery.com
END:VEVENT
BEGIN:VEVENT
DTSTART;TZID=America/Chicago:20311011T190000
DTEND;TZID=America/Chicago:20351011T210000
DTSTAMP:20260424T091532
CREATED:20260401T040554Z
LAST-MODIFIED:20260401T040617Z
UID:10012588-1949511600-2075749200@www.landonwinery.com
SUMMARY:Music Bingo Denison
DESCRIPTION:
URL:https://www.landonwinery.com/event/music-bingo-denison-2-2-2/2031-10-11/
LOCATION:Landon Winery Denison\, 318 W Main St.\, Denison\, TX\, 75020\, United States
CATEGORIES:Music Bingo,Weekly
ATTACH;FMTTYPE=image/jpeg:https://www.landonwinery.com/wp-content/uploads/2025/08/Bingo-Denison.jpg
ORGANIZER;CN="Landon Winery":MAILTO:winery@landonwinery.com
END:VEVENT
BEGIN:VEVENT
DTSTART;TZID=America/Chicago:20311018T190000
DTEND;TZID=America/Chicago:20351018T210000
DTSTAMP:20260424T091532
CREATED:20260401T040554Z
LAST-MODIFIED:20260401T040617Z
UID:10012589-1950116400-2076354000@www.landonwinery.com
SUMMARY:Music Bingo Denison
DESCRIPTION:
URL:https://www.landonwinery.com/event/music-bingo-denison-2-2-2/2031-10-18/
LOCATION:Landon Winery Denison\, 318 W Main St.\, Denison\, TX\, 75020\, United States
CATEGORIES:Music Bingo,Weekly
ATTACH;FMTTYPE=image/jpeg:https://www.landonwinery.com/wp-content/uploads/2025/08/Bingo-Denison.jpg
ORGANIZER;CN="Landon Winery":MAILTO:winery@landonwinery.com
END:VEVENT
END:VCALENDAR